BEGIN:VCALENDAR
VERSION:2.0
PRODID:-//Prim&#039;Holstein France - ECPv6.15.20//NONSGML v1.0//EN
CALSCALE:GREGORIAN
METHOD:PUBLISH
X-WR-CALNAME:Prim&#039;Holstein France
X-ORIGINAL-URL:https://primholstein.com
X-WR-CALDESC:Évènements pour Prim&#039;Holstein France
REFRESH-INTERVAL;VALUE=DURATION:PT1H
X-Robots-Tag:noindex
X-PUBLISHED-TTL:PT1H
BEGIN:VTIMEZONE
TZID:Europe/Paris
BEGIN:DAYLIGHT
TZOFFSETFROM:+0100
TZOFFSETTO:+0200
TZNAME:CEST
DTSTART:20240331T010000
END:DAYLIGHT
BEGIN:STANDARD
TZOFFSETFROM:+0200
TZOFFSETTO:+0100
TZNAME:CET
DTSTART:20241027T010000
END:STANDARD
BEGIN:DAYLIGHT
TZOFFSETFROM:+0100
TZOFFSETTO:+0200
TZNAME:CEST
DTSTART:20250330T010000
END:DAYLIGHT
BEGIN:STANDARD
TZOFFSETFROM:+0200
TZOFFSETTO:+0100
TZNAME:CET
DTSTART:20251026T010000
END:STANDARD
BEGIN:DAYLIGHT
TZOFFSETFROM:+0100
TZOFFSETTO:+0200
TZNAME:CEST
DTSTART:20260329T010000
END:DAYLIGHT
BEGIN:STANDARD
TZOFFSETFROM:+0200
TZOFFSETTO:+0100
TZNAME:CET
DTSTART:20261025T010000
END:STANDARD
END:VTIMEZONE
BEGIN:VEVENT
DTSTART;VALUE=DATE:20250614
DTEND;VALUE=DATE:20250615
DTSTAMP:20260419T170418
CREATED:20250207T082811Z
LAST-MODIFIED:20250207T082811Z
UID:31767-1749859200-1749945599@primholstein.com
SUMMARY:Concours départemental du Calvados
DESCRIPTION:Le concours départemental du Calvados aura lieu à l’hippodrome de Vire.
URL:https://primholstein.com/evenement/concours-departemental-du-calvados-5/
LOCATION:Vire\, Vire\, 14500\, France
END:VEVENT
BEGIN:VEVENT
DTSTART;VALUE=DATE:20250614
DTEND;VALUE=DATE:20250615
DTSTAMP:20260419T170418
CREATED:20250228T101516Z
LAST-MODIFIED:20250228T101516Z
UID:31840-1749859200-1749945599@primholstein.com
SUMMARY:Concours départemental du Lot-et-Garonne
DESCRIPTION:Le concours Prim Holstein se déroulera lors de la journée départementale de l’élevage le 14 juin prochain au lycée agricole de Sainte-Livrade. \n 
URL:https://primholstein.com/evenement/concours-departemental-du-lot-et-garonne-3/
LOCATION:Sainte-Livrade\, Lycée agricole\, Sainte-Livrade\, 47110\, France
END:VEVENT
BEGIN:VEVENT
DTSTART;VALUE=DATE:20250614
DTEND;VALUE=DATE:20250615
DTSTAMP:20260419T170418
CREATED:20250513T095945Z
LAST-MODIFIED:20250513T095945Z
UID:32398-1749859200-1749945599@primholstein.com
SUMMARY:Concours départemental des Côtes d'Armor
DESCRIPTION:
URL:https://primholstein.com/evenement/concours-departemental-des-cotes-darmor-3/
LOCATION:Hippodrome de Loudéac\, Hippodrome de Calouet\, Route de Calouet\, Loudéac\, 22600\, France
END:VEVENT
BEGIN:VEVENT
DTSTART;VALUE=DATE:20250614
DTEND;VALUE=DATE:20250615
DTSTAMP:20260419T170418
CREATED:20250513T100106Z
LAST-MODIFIED:20250514T125153Z
UID:32399-1749859200-1749945599@primholstein.com
SUMMARY:Concours départemental d'Eure-et-Loir
DESCRIPTION:Le concours sera jugé par Jean-Bapiste Decheppe (55).
URL:https://primholstein.com/evenement/concours-departemental-deure-et-loir-3/
LOCATION:Nogent-Le-Rotrou\, Nogent-Le-Rotrou\, 28400\, France
END:VEVENT
BEGIN:VEVENT
DTSTART;VALUE=DATE:20250615
DTEND;VALUE=DATE:20250616
DTSTAMP:20260419T170418
CREATED:20250513T100258Z
LAST-MODIFIED:20250514T125909Z
UID:32401-1749945600-1750031999@primholstein.com
SUMMARY:Concours départemental de l'Eure
DESCRIPTION:Le concours sera jugé par Thomas Pelcat.
URL:https://primholstein.com/evenement/concours-departemental-de-leure/
LOCATION:Gisors\, Gisors\, 27140\, France
END:VEVENT
BEGIN:VEVENT
DTSTART;VALUE=DATE:20250618
DTEND;VALUE=DATE:20250619
DTSTAMP:20260419T170418
CREATED:20250611T093352Z
LAST-MODIFIED:20250611T093352Z
UID:32622-1750204800-1750291199@primholstein.com
SUMMARY:Assemblée Générale du Nord
DESCRIPTION:
URL:https://primholstein.com/evenement/assemblee-generale-du-nord-2/
END:VEVENT
BEGIN:VEVENT
DTSTART;VALUE=DATE:20250619
DTEND;VALUE=DATE:20250620
DTSTAMP:20260419T170418
CREATED:20250611T093318Z
LAST-MODIFIED:20250611T093318Z
UID:32621-1750291200-1750377599@primholstein.com
SUMMARY:Assemblée Générale du Loir-et-Cher
DESCRIPTION:
URL:https://primholstein.com/evenement/assemblee-generale-du-loir-et-cher-2/
END:VEVENT
END:VCALENDAR