BEGIN:VCALENDAR
VERSION:2.0
PRODID:-//Prim&#039;Holstein France - ECPv6.15.20//NONSGML v1.0//EN
CALSCALE:GREGORIAN
METHOD:PUBLISH
X-ORIGINAL-URL:https://primholstein.com
X-WR-CALDESC:Évènements pour Prim&#039;Holstein France
REFRESH-INTERVAL;VALUE=DURATION:PT1H
X-Robots-Tag:noindex
X-PUBLISHED-TTL:PT1H
BEGIN:VTIMEZONE
TZID:Europe/Paris
BEGIN:DAYLIGHT
TZOFFSETFROM:+0100
TZOFFSETTO:+0200
TZNAME:CEST
DTSTART:20220327T010000
END:DAYLIGHT
BEGIN:STANDARD
TZOFFSETFROM:+0200
TZOFFSETTO:+0100
TZNAME:CET
DTSTART:20221030T010000
END:STANDARD
BEGIN:DAYLIGHT
TZOFFSETFROM:+0100
TZOFFSETTO:+0200
TZNAME:CEST
DTSTART:20230326T010000
END:DAYLIGHT
BEGIN:STANDARD
TZOFFSETFROM:+0200
TZOFFSETTO:+0100
TZNAME:CET
DTSTART:20231029T010000
END:STANDARD
BEGIN:DAYLIGHT
TZOFFSETFROM:+0100
TZOFFSETTO:+0200
TZNAME:CEST
DTSTART:20240331T010000
END:DAYLIGHT
BEGIN:STANDARD
TZOFFSETFROM:+0200
TZOFFSETTO:+0100
TZNAME:CET
DTSTART:20241027T010000
END:STANDARD
END:VTIMEZONE
BEGIN:VEVENT
DTSTART;VALUE=DATE:20230110
DTEND;VALUE=DATE:20230111
DTSTAMP:20260422T145934
CREATED:20230104T085416Z
LAST-MODIFIED:20230104T085416Z
UID:27174-1673308800-1673395199@primholstein.com
SUMMARY:Assemblée Générale du Rhône
DESCRIPTION:Matin : assemblée statutaire en salle \nAprès-midi : visite du GAEC GIRIN à Grandris.
URL:https://primholstein.com/evenement/assemblee-generale-du-rhone-5/
LOCATION:GAEC GIRIN\, GRANDRIS\, 69870\, France
END:VEVENT
BEGIN:VEVENT
DTSTART;VALUE=DATE:20230118
DTEND;VALUE=DATE:20230119
DTSTAMP:20260422T145934
CREATED:20230111T090524Z
LAST-MODIFIED:20230116T082526Z
UID:27218-1674000000-1674086399@primholstein.com
SUMMARY:Assemblée Générale de la Haute-Savoie
DESCRIPTION:RDV à 10h15 au restaurant la Bettcha\, 1618 Route de la Gare\, 74580 Viry
URL:https://primholstein.com/evenement/assemblee-generale-de-la-haute-savoie-2/
LOCATION:Viry\, Viry\, 74580\, France
END:VEVENT
BEGIN:VEVENT
DTSTART;VALUE=DATE:20230130
DTEND;VALUE=DATE:20230131
DTSTAMP:20260422T145934
CREATED:20230118T151226Z
LAST-MODIFIED:20230118T151226Z
UID:27245-1675036800-1675123199@primholstein.com
SUMMARY:Assemblée Générale de Pyré-Gers
DESCRIPTION:
URL:https://primholstein.com/evenement/assemblee-generale-de-pyre-gers-2/
END:VEVENT
END:VCALENDAR