BEGIN:VCALENDAR
VERSION:2.0
PRODID:-//Prim&#039;Holstein France - ECPv6.15.20//NONSGML v1.0//EN
CALSCALE:GREGORIAN
METHOD:PUBLISH
X-WR-CALNAME:Prim&#039;Holstein France
X-ORIGINAL-URL:https://primholstein.com
X-WR-CALDESC:Évènements pour Prim&#039;Holstein France
REFRESH-INTERVAL;VALUE=DURATION:PT1H
X-Robots-Tag:noindex
X-PUBLISHED-TTL:PT1H
BEGIN:VTIMEZONE
TZID:Europe/Paris
BEGIN:DAYLIGHT
TZOFFSETFROM:+0100
TZOFFSETTO:+0200
TZNAME:CEST
DTSTART:20210328T010000
END:DAYLIGHT
BEGIN:STANDARD
TZOFFSETFROM:+0200
TZOFFSETTO:+0100
TZNAME:CET
DTSTART:20211031T010000
END:STANDARD
BEGIN:DAYLIGHT
TZOFFSETFROM:+0100
TZOFFSETTO:+0200
TZNAME:CEST
DTSTART:20220327T010000
END:DAYLIGHT
BEGIN:STANDARD
TZOFFSETFROM:+0200
TZOFFSETTO:+0100
TZNAME:CET
DTSTART:20221030T010000
END:STANDARD
BEGIN:DAYLIGHT
TZOFFSETFROM:+0100
TZOFFSETTO:+0200
TZNAME:CEST
DTSTART:20230326T010000
END:DAYLIGHT
BEGIN:STANDARD
TZOFFSETFROM:+0200
TZOFFSETTO:+0100
TZNAME:CET
DTSTART:20231029T010000
END:STANDARD
END:VTIMEZONE
BEGIN:VEVENT
DTSTART;VALUE=DATE:20220903
DTEND;VALUE=DATE:20220904
DTSTAMP:20260422T081228
CREATED:20220630T071039Z
LAST-MODIFIED:20220630T071039Z
UID:26352-1662163200-1662249599@primholstein.com
SUMMARY:Concours départemental de l'Aisne
DESCRIPTION:
URL:https://primholstein.com/evenement/concours-departemental-de-laisne-5/
LOCATION:La Capelle\, La Capelle\, 02260\, France
END:VEVENT
BEGIN:VEVENT
DTSTART;VALUE=DATE:20220903
DTEND;VALUE=DATE:20220904
DTSTAMP:20260422T081228
CREATED:20220902T093723Z
LAST-MODIFIED:20220902T093723Z
UID:26529-1662163200-1662249599@primholstein.com
SUMMARY:Concours départemental du Maine-et-Loire
DESCRIPTION:
URL:https://primholstein.com/evenement/concours-departemental-du-maine-et-loire-5/
LOCATION:Chemillé-en-Anjou\, Chemillé-en-Anjou\, 49120
END:VEVENT
BEGIN:VEVENT
DTSTART;VALUE=DATE:20220909
DTEND;VALUE=DATE:20220910
DTSTAMP:20260422T081228
CREATED:20220706T090345Z
LAST-MODIFIED:20220706T090345Z
UID:26393-1662681600-1662767999@primholstein.com
SUMMARY:Concours départemental de la Sarthe
DESCRIPTION:
URL:https://primholstein.com/evenement/concours-departemental-de-la-sarthe-6/
LOCATION:Centre des Expositions du Mans\, 1 Avenue du Parc des Expositions\, Le Mans\, 72000\, France
END:VEVENT
BEGIN:VEVENT
DTSTART;VALUE=DATE:20220909
DTEND;VALUE=DATE:20220910
DTSTAMP:20260422T081228
CREATED:20220816T095050Z
LAST-MODIFIED:20220816T095050Z
UID:26488-1662681600-1662767999@primholstein.com
SUMMARY:Concours départemental de la Manche
DESCRIPTION:
URL:https://primholstein.com/evenement/concours-departemental-de-la-manche-5/
LOCATION:Lessay\, Lessay\, 50430\, France
END:VEVENT
BEGIN:VEVENT
DTSTART;VALUE=DATE:20220910
DTEND;VALUE=DATE:20220912
DTSTAMP:20260422T081228
CREATED:20220816T093925Z
LAST-MODIFIED:20220816T093925Z
UID:26486-1662768000-1662940799@primholstein.com
SUMMARY:Concours départemental de Meurthe-et-Moselle
DESCRIPTION:
URL:https://primholstein.com/evenement/concours-departemental-de-meurthe-et-moselle-2/
LOCATION:Lunéville\, Lunéville\, 54300\, France
END:VEVENT
BEGIN:VEVENT
DTSTART;VALUE=DATE:20220911
DTEND;VALUE=DATE:20220912
DTSTAMP:20260422T081228
CREATED:20220816T094927Z
LAST-MODIFIED:20220816T094927Z
UID:26487-1662854400-1662940799@primholstein.com
SUMMARY:Concours Génisse de l'Oise
DESCRIPTION:
URL:https://primholstein.com/evenement/concours-genisse-de-loise/
LOCATION:Foire agricole de Songeons\, Songeons\, 60380\, France
END:VEVENT
BEGIN:VEVENT
DTSTART;VALUE=DATE:20220913
DTEND;VALUE=DATE:20220916
DTSTAMP:20260422T081228
CREATED:20220301T112446Z
LAST-MODIFIED:20220523T135745Z
UID:25602-1663027200-1663286399@primholstein.com
SUMMARY:Space
DESCRIPTION:Le juge du concours Prim’holstein sera Marc-Henri GUILLAUME (Suisse).
URL:https://primholstein.com/evenement/space-4/
LOCATION:Parc des Expositions de Rennes\, La Haie Gautrais\, Bruz\, 35170\, France
END:VEVENT
BEGIN:VEVENT
DTSTART;VALUE=DATE:20220916
DTEND;VALUE=DATE:20220919
DTSTAMP:20260422T081228
CREATED:20220629T105155Z
LAST-MODIFIED:20220629T105155Z
UID:26345-1663286400-1663545599@primholstein.com
SUMMARY:Pau Expo Elevage
DESCRIPTION:
URL:https://primholstein.com/evenement/pau-expo-elevage/
LOCATION:Parc des Expositions de Pau\, 7 Bd Champetier de Ribes\, Pau\, 64000\, France
END:VEVENT
BEGIN:VEVENT
DTSTART;VALUE=DATE:20220917
DTEND;VALUE=DATE:20220918
DTSTAMP:20260422T081228
CREATED:20220622T071012Z
LAST-MODIFIED:20220622T071230Z
UID:26264-1663372800-1663459199@primholstein.com
SUMMARY:Concours départemental du Puy-de-Dôme
DESCRIPTION:
URL:https://primholstein.com/evenement/concours-departemental-du-puy-de-dome-3/
LOCATION:Gelles\, Gelles\, 63740\, France
END:VEVENT
BEGIN:VEVENT
DTSTART;VALUE=DATE:20220917
DTEND;VALUE=DATE:20220918
DTSTAMP:20260422T081228
CREATED:20220630T070849Z
LAST-MODIFIED:20220630T070849Z
UID:26351-1663372800-1663459199@primholstein.com
SUMMARY:Concours départemental de la Meuse
DESCRIPTION:
URL:https://primholstein.com/evenement/concours-departemental-de-la-meuse-4/
LOCATION:Verdun\, Verdun\, 55000\, France
END:VEVENT
BEGIN:VEVENT
DTSTART;VALUE=DATE:20220917
DTEND;VALUE=DATE:20220918
DTSTAMP:20260422T081228
CREATED:20220902T093616Z
LAST-MODIFIED:20220902T093746Z
UID:26527-1663372800-1663459199@primholstein.com
SUMMARY:Concours départemental de Haute-Savoie
DESCRIPTION:
URL:https://primholstein.com/evenement/concours-departemental-de-haute-savoie-2/
LOCATION:Minzier\, Minzier\, 74270\, France
END:VEVENT
BEGIN:VEVENT
DTSTART;VALUE=DATE:20220917
DTEND;VALUE=DATE:20220918
DTSTAMP:20260422T081228
CREATED:20220902T093903Z
LAST-MODIFIED:20220902T093903Z
UID:26530-1663372800-1663459199@primholstein.com
SUMMARY:Concours départemental du Nord
DESCRIPTION:
URL:https://primholstein.com/evenement/concours-departemental-du-nord-3/
LOCATION:Le Quesnoy\, Le Quesnoy\, 59530\, France
END:VEVENT
BEGIN:VEVENT
DTSTART;VALUE=DATE:20220917
DTEND;VALUE=DATE:20220919
DTSTAMP:20260422T081228
CREATED:20220823T071734Z
LAST-MODIFIED:20220823T071734Z
UID:26504-1663372800-1663545599@primholstein.com
SUMMARY:Concours interdépartemental de l'Aube
DESCRIPTION:Les départements invités sont le Loiret\, la Marne\, la Haute-Marne\, la Seine-et-Marne et l’Yonne.
URL:https://primholstein.com/evenement/concours-interdepartemental-de-laube-4/
LOCATION:Brienne-le-Château\, Brienne-le-Château\, 10500\, France
END:VEVENT
BEGIN:VEVENT
DTSTART;VALUE=DATE:20220924
DTEND;VALUE=DATE:20220925
DTSTAMP:20260422T081228
CREATED:20220913T071411Z
LAST-MODIFIED:20220913T071411Z
UID:26557-1663977600-1664063999@primholstein.com
SUMMARY:Concours départemental du Tarn-et-Garonne
DESCRIPTION:
URL:https://primholstein.com/evenement/concours-departemental-du-tarn-et-garonne-4/
LOCATION:Montauban\, Montauban\, 82000\, France
END:VEVENT
END:VCALENDAR