BEGIN:VCALENDAR
VERSION:2.0
PRODID:-//Prim&#039;Holstein France - ECPv6.15.20//NONSGML v1.0//EN
CALSCALE:GREGORIAN
METHOD:PUBLISH
X-ORIGINAL-URL:https://primholstein.com
X-WR-CALDESC:Évènements pour Prim&#039;Holstein France
REFRESH-INTERVAL;VALUE=DURATION:PT1H
X-Robots-Tag:noindex
X-PUBLISHED-TTL:PT1H
BEGIN:VTIMEZONE
TZID:Europe/Paris
BEGIN:DAYLIGHT
TZOFFSETFROM:+0100
TZOFFSETTO:+0200
TZNAME:CEST
DTSTART:20210328T010000
END:DAYLIGHT
BEGIN:STANDARD
TZOFFSETFROM:+0200
TZOFFSETTO:+0100
TZNAME:CET
DTSTART:20211031T010000
END:STANDARD
BEGIN:DAYLIGHT
TZOFFSETFROM:+0100
TZOFFSETTO:+0200
TZNAME:CEST
DTSTART:20220327T010000
END:DAYLIGHT
BEGIN:STANDARD
TZOFFSETFROM:+0200
TZOFFSETTO:+0100
TZNAME:CET
DTSTART:20221030T010000
END:STANDARD
BEGIN:DAYLIGHT
TZOFFSETFROM:+0100
TZOFFSETTO:+0200
TZNAME:CEST
DTSTART:20230326T010000
END:DAYLIGHT
BEGIN:STANDARD
TZOFFSETFROM:+0200
TZOFFSETTO:+0100
TZNAME:CET
DTSTART:20231029T010000
END:STANDARD
END:VTIMEZONE
BEGIN:VEVENT
DTSTART;VALUE=DATE:20220403
DTEND;VALUE=DATE:20220404
DTSTAMP:20260421T233500
CREATED:20220301T141450Z
LAST-MODIFIED:20220301T141450Z
UID:25606-1648944000-1649030399@primholstein.com
SUMMARY:Concours régional de Franche-Comté
DESCRIPTION:
URL:https://primholstein.com/evenement/concours-regional-de-franche-comte-3/
LOCATION:Axone\, 6 Rue du Commandant Pierre Rossel\, Montbéliard\, 25200 \, France
END:VEVENT
BEGIN:VEVENT
DTSTART;VALUE=DATE:20220403
DTEND;VALUE=DATE:20220404
DTSTAMP:20260421T233500
CREATED:20220318T112239Z
LAST-MODIFIED:20220318T112239Z
UID:25678-1648944000-1649030399@primholstein.com
SUMMARY:Concours départemental du Tarn
DESCRIPTION:
URL:https://primholstein.com/evenement/concours-departemental-du-tarn-3/
LOCATION:Réalmont\, Réalmont\, 81120\, France
END:VEVENT
BEGIN:VEVENT
DTSTART;VALUE=DATE:20220409
DTEND;VALUE=DATE:20220410
DTSTAMP:20260421T233500
CREATED:20220117T102954Z
LAST-MODIFIED:20220117T103003Z
UID:25419-1649462400-1649548799@primholstein.com
SUMMARY:Miss Laitières du Cantal
DESCRIPTION:
URL:https://primholstein.com/evenement/miss-laitieres-du-cantal/
LOCATION:Chalinargues\, Chalinargues\, 15170\, France
END:VEVENT
BEGIN:VEVENT
DTSTART;VALUE=DATE:20220409
DTEND;VALUE=DATE:20220410
DTSTAMP:20260421T233500
CREATED:20220318T112333Z
LAST-MODIFIED:20220318T112333Z
UID:25679-1649462400-1649548799@primholstein.com
SUMMARY:Concours départemental de Lozère
DESCRIPTION:
URL:https://primholstein.com/evenement/concours-departemental-de-lozere/
LOCATION:Aumont-Aubrac\, Aumont-Aubrac\, 48130\, France
END:VEVENT
BEGIN:VEVENT
DTSTART;VALUE=DATE:20220418
DTEND;VALUE=DATE:20220419
DTSTAMP:20260421T233500
CREATED:20220301T110251Z
LAST-MODIFIED:20220304T111913Z
UID:25601-1650240000-1650326399@primholstein.com
SUMMARY:Concours départemental de la Saône-et-Loire
DESCRIPTION:Le concours sera jugé par Alban Varnier.
URL:https://primholstein.com/evenement/concours-departemental-de-la-saone-et-loire/
LOCATION:Louhans\, Louhans\, 71500\, France
END:VEVENT
BEGIN:VEVENT
DTSTART;VALUE=DATE:20220418
DTEND;VALUE=DATE:20220419
DTSTAMP:20260421T233500
CREATED:20220310T110216Z
LAST-MODIFIED:20220310T110315Z
UID:25657-1650240000-1650326399@primholstein.com
SUMMARY:Concours départemental de la Somme et l'Oise
DESCRIPTION:
URL:https://primholstein.com/evenement/concours-departemental-de-la-somme-et-loise/
LOCATION:Montdidier\, Montdidier\, 80500\, France
END:VEVENT
BEGIN:VEVENT
DTSTART;VALUE=DATE:20220423
DTEND;VALUE=DATE:20220424
DTSTAMP:20260421T233500
CREATED:20220331T093908Z
LAST-MODIFIED:20220331T093908Z
UID:25828-1650672000-1650758399@primholstein.com
SUMMARY:Concours départemental de Haute-Loire
DESCRIPTION:
URL:https://primholstein.com/evenement/concours-departemental-de-haute-loire/
LOCATION:Saint-Paulien\, Saint-Paulien\, 43350\, France
END:VEVENT
END:VCALENDAR