BEGIN:VCALENDAR
VERSION:2.0
PRODID:-//Prim&#039;Holstein France - ECPv6.15.20//NONSGML v1.0//EN
CALSCALE:GREGORIAN
METHOD:PUBLISH
X-WR-CALNAME:Prim&#039;Holstein France
X-ORIGINAL-URL:https://primholstein.com
X-WR-CALDESC:Évènements pour Prim&#039;Holstein France
REFRESH-INTERVAL;VALUE=DURATION:PT1H
X-Robots-Tag:noindex
X-PUBLISHED-TTL:PT1H
BEGIN:VTIMEZONE
TZID:Europe/Paris
BEGIN:DAYLIGHT
TZOFFSETFROM:+0100
TZOFFSETTO:+0200
TZNAME:CEST
DTSTART:20190331T010000
END:DAYLIGHT
BEGIN:STANDARD
TZOFFSETFROM:+0200
TZOFFSETTO:+0100
TZNAME:CET
DTSTART:20191027T010000
END:STANDARD
BEGIN:DAYLIGHT
TZOFFSETFROM:+0100
TZOFFSETTO:+0200
TZNAME:CEST
DTSTART:20200329T010000
END:DAYLIGHT
BEGIN:STANDARD
TZOFFSETFROM:+0200
TZOFFSETTO:+0100
TZNAME:CET
DTSTART:20201025T010000
END:STANDARD
BEGIN:DAYLIGHT
TZOFFSETFROM:+0100
TZOFFSETTO:+0200
TZNAME:CEST
DTSTART:20210328T010000
END:DAYLIGHT
BEGIN:STANDARD
TZOFFSETFROM:+0200
TZOFFSETTO:+0100
TZNAME:CET
DTSTART:20211031T010000
END:STANDARD
END:VTIMEZONE
BEGIN:VEVENT
DTSTART;VALUE=DATE:20201107
DTEND;VALUE=DATE:20201109
DTSTAMP:20260421T212724
CREATED:20191216T122554Z
LAST-MODIFIED:20200914T063052Z
UID:22742-1604707200-1604879999@primholstein.com
SUMMARY:Concours national à Poitiers - annulé
DESCRIPTION:
URL:https://primholstein.com/evenement/concours-national-a-poitiers/
LOCATION:Parc des Expositions de Poitiers\, 11 Rue Salvador Allende\, Poitiers\, 86000
END:VEVENT
BEGIN:VEVENT
DTSTART;VALUE=DATE:20201108
DTEND;VALUE=DATE:20201113
DTSTAMP:20260421T212724
CREATED:20191121T084322Z
LAST-MODIFIED:20200410T094934Z
UID:22639-1604793600-1605225599@primholstein.com
SUMMARY:Sima - reporté
DESCRIPTION:
URL:https://primholstein.com/evenement/sima/
LOCATION:Parc des expositions Paris Nord Villepinte ZAC Paris Nord 2 93420 Villepinte\, ZAC Paris Nord 2\, Villepinte\, 93420\, France
END:VEVENT
BEGIN:VEVENT
DTSTART;VALUE=DATE:20201114
DTEND;VALUE=DATE:20201116
DTSTAMP:20260421T212724
CREATED:20200313T084402Z
LAST-MODIFIED:20200915T062553Z
UID:23116-1605312000-1605484799@primholstein.com
SUMMARY:Ferme Expo Tours - annulé
DESCRIPTION:
URL:https://primholstein.com/evenement/ferme-expo-tours-3/
LOCATION:Parc des Expositions de Tours\, Avenue Camille Chautemps\, Tours\, 37000\, France
END:VEVENT
END:VCALENDAR