BEGIN:VCALENDAR
VERSION:2.0
PRODID:-//Prim&#039;Holstein France - ECPv6.15.20//NONSGML v1.0//EN
CALSCALE:GREGORIAN
METHOD:PUBLISH
X-ORIGINAL-URL:https://primholstein.com
X-WR-CALDESC:Évènements pour Prim&#039;Holstein France
REFRESH-INTERVAL;VALUE=DURATION:PT1H
X-Robots-Tag:noindex
X-PUBLISHED-TTL:PT1H
BEGIN:VTIMEZONE
TZID:Europe/Paris
BEGIN:DAYLIGHT
TZOFFSETFROM:+0100
TZOFFSETTO:+0200
TZNAME:CEST
DTSTART:20190331T010000
END:DAYLIGHT
BEGIN:STANDARD
TZOFFSETFROM:+0200
TZOFFSETTO:+0100
TZNAME:CET
DTSTART:20191027T010000
END:STANDARD
BEGIN:DAYLIGHT
TZOFFSETFROM:+0100
TZOFFSETTO:+0200
TZNAME:CEST
DTSTART:20200329T010000
END:DAYLIGHT
BEGIN:STANDARD
TZOFFSETFROM:+0200
TZOFFSETTO:+0100
TZNAME:CET
DTSTART:20201025T010000
END:STANDARD
BEGIN:DAYLIGHT
TZOFFSETFROM:+0100
TZOFFSETTO:+0200
TZNAME:CEST
DTSTART:20210328T010000
END:DAYLIGHT
BEGIN:STANDARD
TZOFFSETFROM:+0200
TZOFFSETTO:+0100
TZNAME:CET
DTSTART:20211031T010000
END:STANDARD
END:VTIMEZONE
BEGIN:VEVENT
DTSTART;VALUE=DATE:20200904
DTEND;VALUE=DATE:20200905
DTSTAMP:20260422T005712
CREATED:20200302T103042Z
LAST-MODIFIED:20200720T123730Z
UID:23014-1599177600-1599263999@primholstein.com
SUMMARY:Vente Elevage Gallais et partenaires (35)
DESCRIPTION:
URL:https://primholstein.com/evenement/vente-gallais-et-partenaires/
LOCATION:Gaec Gallais\, Les Halliers\, LE RHEU\, 35650\, France
END:VEVENT
BEGIN:VEVENT
DTSTART;VALUE=DATE:20200905
DTEND;VALUE=DATE:20200906
DTSTAMP:20260422T005712
CREATED:20200113T073025Z
LAST-MODIFIED:20200604T082402Z
UID:22823-1599264000-1599350399@primholstein.com
SUMMARY:Concours départemental du Maine-et-Loire - annulé
DESCRIPTION:
URL:https://primholstein.com/evenement/concours-departemental-du-maine-et-loire-4/
LOCATION:Chemillé-en-Anjou\, Chemillé-en-Anjou\, 49120
END:VEVENT
BEGIN:VEVENT
DTSTART;VALUE=DATE:20200906
DTEND;VALUE=DATE:20200907
DTSTAMP:20260422T005712
CREATED:20200624T113931Z
LAST-MODIFIED:20200807T143516Z
UID:23527-1599350400-1599436799@primholstein.com
SUMMARY:Concours départemental des Vosges - Annulé
DESCRIPTION:Evénement annulé
URL:https://primholstein.com/evenement/concours-departemental-des-vosges-2/
LOCATION:Rambervillers\, Rambervillers\, 88700\, France
END:VEVENT
BEGIN:VEVENT
DTSTART;VALUE=DATE:20200912
DTEND;VALUE=DATE:20200913
DTSTAMP:20260422T005712
CREATED:20200727T085006Z
LAST-MODIFIED:20200727T085006Z
UID:23614-1599868800-1599955199@primholstein.com
SUMMARY:Concours départemental des Landes
DESCRIPTION:
URL:https://primholstein.com/evenement/concours-departemental-des-landes-3/
LOCATION:Vieux-Boucau\, 40480\, France
END:VEVENT
BEGIN:VEVENT
DTSTART;VALUE=DATE:20200912
DTEND;VALUE=DATE:20200914
DTSTAMP:20260422T005712
CREATED:20200110T122045Z
LAST-MODIFIED:20200724T143210Z
UID:22815-1599868800-1600041599@primholstein.com
SUMMARY:Concours départemental de la Loire - annulé
DESCRIPTION:
URL:https://primholstein.com/evenement/concours-departemental-de-la-loire-2/
LOCATION:Usson-en-Forez\, 42550\, France
END:VEVENT
BEGIN:VEVENT
DTSTART;VALUE=DATE:20200915
DTEND;VALUE=DATE:20200919
DTSTAMP:20260422T005712
CREATED:20191121T083922Z
LAST-MODIFIED:20200505T083205Z
UID:22637-1600128000-1600473599@primholstein.com
SUMMARY:Space - Annulé
DESCRIPTION:« L’évolution de la situation\, toutes les incertitudes qui y sont liées et l’état d’urgence sanitaire annoncé pour une durée de plusieurs mois désormais\, ont conduits le SPACE\, à prendre cette décision plus rapidement qu’initialement envisagé. »
URL:https://primholstein.com/evenement/space-2/
LOCATION:Parc des Expositions de Rennes\, La Haie Gautrais\, Bruz\, 35170\, France
END:VEVENT
BEGIN:VEVENT
DTSTART;VALUE=DATE:20200917
DTEND;VALUE=DATE:20200918
DTSTAMP:20260422T005712
CREATED:20200807T144130Z
LAST-MODIFIED:20200911T065616Z
UID:23639-1600300800-1600387199@primholstein.com
SUMMARY:Vente volontaire - Patrice Guimbert (72)
DESCRIPTION:Vente d’un cheptel laitier (retraite) :\n35 vaches pleines ou en début de lactation\n35 génisses confirmées pleines\n11 génisses de 1 an \nTroupeau non OGM certifié\, contrôle laitier et PHF\n9430 kg de lait à 40.4 TB et 33.7 de TP\nSain en cellules (130 000 de moyenne\, 92% de vaches saines)\nIVV 397 jours \ngénétique orienté pour obtenir des animaux d’élevage faciles à vivre (Galahad\, Lechef\, Cabriol\, Interview) \nBVD et Paratuberculose négatifs (résultats Avril/mai 2020) \nPlus d’informations sur les animaux en cliquant sur le livret \nAucune restauration prévue sur place\, port du masque obligatoire.
URL:https://primholstein.com/evenement/vente-volontaire-patrice-guimbert-72/
LOCATION:Patrice Guimbert\, Le Grand Teil\, Avoise\, 72430\, France
END:VEVENT
BEGIN:VEVENT
DTSTART;VALUE=DATE:20200918
DTEND;VALUE=DATE:20200919
DTSTAMP:20260422T005712
CREATED:20200302T073552Z
LAST-MODIFIED:20200710T061655Z
UID:23011-1600387200-1600473599@primholstein.com
SUMMARY:Concours départemental de la Sarthe - annulé
DESCRIPTION:
URL:https://primholstein.com/evenement/concours-departemental-de-la-sarthe-4/
LOCATION:Centre des Expositions du Mans\, 1 Avenue du Parc des Expositions\, Le Mans\, 72000\, France
END:VEVENT
BEGIN:VEVENT
DTSTART;VALUE=DATE:20200919
DTEND;VALUE=DATE:20200921
DTSTAMP:20260422T005712
CREATED:20200313T084249Z
LAST-MODIFIED:20200818T140555Z
UID:23115-1600473600-1600646399@primholstein.com
SUMMARY:Concours interdépartemental de l’Aube - Annulé
DESCRIPTION:
URL:https://primholstein.com/evenement/concours-interdepartemental-de-laube-3/
LOCATION:Brienne-le-Château\, Brienne-le-Château\, 10500\, France
END:VEVENT
END:VCALENDAR