BEGIN:VCALENDAR
VERSION:2.0
PRODID:-//Prim&#039;Holstein France - ECPv6.15.20//NONSGML v1.0//EN
CALSCALE:GREGORIAN
METHOD:PUBLISH
X-ORIGINAL-URL:https://primholstein.com
X-WR-CALDESC:Évènements pour Prim&#039;Holstein France
REFRESH-INTERVAL;VALUE=DURATION:PT1H
X-Robots-Tag:noindex
X-PUBLISHED-TTL:PT1H
BEGIN:VTIMEZONE
TZID:Europe/Paris
BEGIN:DAYLIGHT
TZOFFSETFROM:+0100
TZOFFSETTO:+0200
TZNAME:CEST
DTSTART:20180325T010000
END:DAYLIGHT
BEGIN:STANDARD
TZOFFSETFROM:+0200
TZOFFSETTO:+0100
TZNAME:CET
DTSTART:20181028T010000
END:STANDARD
BEGIN:DAYLIGHT
TZOFFSETFROM:+0100
TZOFFSETTO:+0200
TZNAME:CEST
DTSTART:20190331T010000
END:DAYLIGHT
BEGIN:STANDARD
TZOFFSETFROM:+0200
TZOFFSETTO:+0100
TZNAME:CET
DTSTART:20191027T010000
END:STANDARD
BEGIN:DAYLIGHT
TZOFFSETFROM:+0100
TZOFFSETTO:+0200
TZNAME:CEST
DTSTART:20200329T010000
END:DAYLIGHT
BEGIN:STANDARD
TZOFFSETFROM:+0200
TZOFFSETTO:+0100
TZNAME:CET
DTSTART:20201025T010000
END:STANDARD
END:VTIMEZONE
BEGIN:VEVENT
DTSTART;VALUE=DATE:20191109
DTEND;VALUE=DATE:20191110
DTSTAMP:20260422T174628
CREATED:20190408T083448Z
LAST-MODIFIED:20190522T064712Z
UID:21209-1573257600-1573343999@primholstein.com
SUMMARY:Concours départemental de la Mayenne
DESCRIPTION:
URL:https://primholstein.com/evenement/concours-departemental-de-la-mayenne-4/
LOCATION:Mayenne\, Mayenne\, 53100
END:VEVENT
BEGIN:VEVENT
DTSTART;VALUE=DATE:20191109
DTEND;VALUE=DATE:20191110
DTSTAMP:20260422T174628
CREATED:20191022T065314Z
LAST-MODIFIED:20191022T065314Z
UID:22491-1573257600-1573343999@primholstein.com
SUMMARY:Concours départemental de la Vienne
DESCRIPTION:Concours dans le cadre du Festival « La ferme s’invite » à Poitiers. Le juge sera Wim LOHUES de la Charente.
URL:https://primholstein.com/evenement/concours-departemental-de-la-vienne/
LOCATION:Parc des Expositions de Poitiers\, 11 Rue Salvador Allende\, Poitiers\, 86000
END:VEVENT
BEGIN:VEVENT
DTSTART;VALUE=DATE:20191115
DTEND;VALUE=DATE:20191118
DTSTAMP:20260422T174628
CREATED:20190423T075334Z
LAST-MODIFIED:20190423T075409Z
UID:21294-1573776000-1574035199@primholstein.com
SUMMARY:Ferme Expo Tours
DESCRIPTION:
URL:https://primholstein.com/evenement/ferme-expo-tours-2/
LOCATION:Parc des Expositions de Tours\, Avenue Camille Chautemps\, Tours\, 37000\, France
END:VEVENT
BEGIN:VEVENT
DTSTART;VALUE=DATE:20191119
DTEND;VALUE=DATE:20191122
DTSTAMP:20260422T174628
CREATED:20190313T075445Z
LAST-MODIFIED:20190313T075445Z
UID:20955-1574121600-1574380799@primholstein.com
SUMMARY:Concours départemental de Vendée
DESCRIPTION:
URL:https://primholstein.com/evenement/concours-departemental-de-vendee/
LOCATION:Parc des Expositions Les Oudairies de La Roche-sur-Yon\, Rue Giotto\, La Roche-sur-Yon\, 85000\, France
END:VEVENT
END:VCALENDAR