BEGIN:VCALENDAR
VERSION:2.0
PRODID:-//Prim&#039;Holstein France - ECPv6.15.20//NONSGML v1.0//EN
CALSCALE:GREGORIAN
METHOD:PUBLISH
X-ORIGINAL-URL:https://primholstein.com
X-WR-CALDESC:Évènements pour Prim&#039;Holstein France
REFRESH-INTERVAL;VALUE=DURATION:PT1H
X-Robots-Tag:noindex
X-PUBLISHED-TTL:PT1H
BEGIN:VTIMEZONE
TZID:Europe/Paris
BEGIN:DAYLIGHT
TZOFFSETFROM:+0100
TZOFFSETTO:+0200
TZNAME:CEST
DTSTART:20180325T010000
END:DAYLIGHT
BEGIN:STANDARD
TZOFFSETFROM:+0200
TZOFFSETTO:+0100
TZNAME:CET
DTSTART:20181028T010000
END:STANDARD
BEGIN:DAYLIGHT
TZOFFSETFROM:+0100
TZOFFSETTO:+0200
TZNAME:CEST
DTSTART:20190331T010000
END:DAYLIGHT
BEGIN:STANDARD
TZOFFSETFROM:+0200
TZOFFSETTO:+0100
TZNAME:CET
DTSTART:20191027T010000
END:STANDARD
BEGIN:DAYLIGHT
TZOFFSETFROM:+0100
TZOFFSETTO:+0200
TZNAME:CEST
DTSTART:20200329T010000
END:DAYLIGHT
BEGIN:STANDARD
TZOFFSETFROM:+0200
TZOFFSETTO:+0100
TZNAME:CET
DTSTART:20201025T010000
END:STANDARD
END:VTIMEZONE
BEGIN:VEVENT
DTSTART;VALUE=DATE:20190830
DTEND;VALUE=DATE:20190903
DTSTAMP:20260422T205526
CREATED:20190515T113018Z
LAST-MODIFIED:20190515T113018Z
UID:21472-1567123200-1567468799@primholstein.com
SUMMARY:Concours départemental de l'Aisne
DESCRIPTION:Concours Prim’holstein dans le cadre de la 52ème Foire aux fromages qui se déroulera du 30 août au 2 septembre 2019 à La Capelle.
URL:https://primholstein.com/evenement/concours-departemental-de-laisne-3/
LOCATION:La Capelle\, La Capelle\, 02260\, France
END:VEVENT
BEGIN:VEVENT
DTSTART;VALUE=DATE:20190901
DTEND;VALUE=DATE:20190902
DTSTAMP:20260422T205526
CREATED:20190614T111548Z
LAST-MODIFIED:20190819T083649Z
UID:21740-1567296000-1567382399@primholstein.com
SUMMARY:Concours départemental de la Côte d'Or annulé
DESCRIPTION:
URL:https://primholstein.com/evenement/concours-departemental-de-la-cote-dor/
LOCATION:Poiseul-la-ville\, Hameau de Laperrière\, Poiseul-la-ville\, 21450\, France
END:VEVENT
BEGIN:VEVENT
DTSTART;VALUE=DATE:20190901
DTEND;VALUE=DATE:20190902
DTSTAMP:20260422T205526
CREATED:20190710T093615Z
LAST-MODIFIED:20190710T093615Z
UID:21910-1567296000-1567382399@primholstein.com
SUMMARY:Concours départemental génisses des Vosges
DESCRIPTION:
URL:https://primholstein.com/evenement/concours-departemental-genisses-des-vosges/
LOCATION:Rambervillers\, Rambervillers\, 88700\, France
END:VEVENT
BEGIN:VEVENT
DTSTART;VALUE=DATE:20190906
DTEND;VALUE=DATE:20190909
DTSTAMP:20260422T205526
CREATED:20190719T082043Z
LAST-MODIFIED:20190719T082148Z
UID:22048-1567728000-1567987199@primholstein.com
SUMMARY:Concours départemental de la Manche
DESCRIPTION:Concours dans le cadre de la Foire de Lessay.
URL:https://primholstein.com/evenement/concours-departemental-de-la-manche-3/
LOCATION:Foire de Lessay\, Lessay\, 50430\, France
END:VEVENT
BEGIN:VEVENT
DTSTART;VALUE=DATE:20190907
DTEND;VALUE=DATE:20190908
DTSTAMP:20260422T205526
CREATED:20190206T152139Z
LAST-MODIFIED:20190206T152139Z
UID:20716-1567814400-1567900799@primholstein.com
SUMMARY:Concours départemental du Maine-et-Loire
DESCRIPTION:
URL:https://primholstein.com/evenement/concours-departemental-du-maine-et-loire-3/
LOCATION:Chemillé-en-Anjou\, Chemillé-en-Anjou\, 49120
END:VEVENT
BEGIN:VEVENT
DTSTART;VALUE=DATE:20190908
DTEND;VALUE=DATE:20190909
DTSTAMP:20260422T205526
CREATED:20190819T084327Z
LAST-MODIFIED:20190819T084327Z
UID:22084-1567900800-1567987199@primholstein.com
SUMMARY:Concours interdépartemental de génisses de l'Oise
DESCRIPTION:Le concours se déroule dans le cadre de la Foire Agricole de Songeons. \nSont invités les génisses des départements de l’Aisne\, de la Somme ainsi que de l’Eure et la Seine-Maritime.
URL:https://primholstein.com/evenement/concours-interdepartemental-de-genisses-de-loise/
LOCATION:Foire agricole de Songeons\, Songeons\, 60380\, France
END:VEVENT
BEGIN:VEVENT
DTSTART;VALUE=DATE:20190910
DTEND;VALUE=DATE:20190914
DTSTAMP:20260422T205526
CREATED:20190116T102316Z
LAST-MODIFIED:20190710T093937Z
UID:20339-1568073600-1568419199@primholstein.com
SUMMARY:SPACE
DESCRIPTION:Concours Prim’holstein le jeudi 12 septembre.
URL:https://primholstein.com/evenement/space/
LOCATION:Parc des Expositions de Rennes\, La Haie Gautrais\, Bruz\, 35170\, France
END:VEVENT
BEGIN:VEVENT
DTSTART;VALUE=DATE:20190914
DTEND;VALUE=DATE:20190915
DTSTAMP:20260422T205526
CREATED:20190710T093715Z
LAST-MODIFIED:20190710T093715Z
UID:21912-1568419200-1568505599@primholstein.com
SUMMARY:Concours départemental de la Sarthe
DESCRIPTION:
URL:https://primholstein.com/evenement/concours-departemental-de-la-sarthe-3/
LOCATION:Centre des Expositions du Mans\, 1 Avenue du Parc des Expositions\, Le Mans\, 72000\, France
END:VEVENT
BEGIN:VEVENT
DTSTART;VALUE=DATE:20190914
DTEND;VALUE=DATE:20190915
DTSTAMP:20260422T205526
CREATED:20190812T090549Z
LAST-MODIFIED:20190819T083239Z
UID:22078-1568419200-1568505599@primholstein.com
SUMMARY:Concours départemental des Landes
DESCRIPTION:Le concours sera jugé par Franck Delagnes (12).
URL:https://primholstein.com/evenement/concours-departemental-des-landes-2/
LOCATION:Mont-de-Marsan\, Mont-de-Marsan\, 40000\, France
END:VEVENT
BEGIN:VEVENT
DTSTART;VALUE=DATE:20190914
DTEND;VALUE=DATE:20190915
DTSTAMP:20260422T205526
CREATED:20190911T121054Z
LAST-MODIFIED:20190911T121054Z
UID:22179-1568419200-1568505599@primholstein.com
SUMMARY:Concours départemental de la Meuse
DESCRIPTION:
URL:https://primholstein.com/evenement/concours-departemental-de-la-meuse-2/
LOCATION:Verdun\, Verdun\, 55000\, France
END:VEVENT
BEGIN:VEVENT
DTSTART;VALUE=DATE:20190915
DTEND;VALUE=DATE:20190916
DTSTAMP:20260422T205526
CREATED:20190313T131404Z
LAST-MODIFIED:20190313T131414Z
UID:20957-1568505600-1568591999@primholstein.com
SUMMARY:Concours interdépartemental du Nord
DESCRIPTION:Sont invités les autres départements de la région\, mais aussi les éleveurs wallons.
URL:https://primholstein.com/evenement/concours-departemental-du-nord/
LOCATION:Le Quesnoy\, Le Quesnoy\, 59530\, France
END:VEVENT
BEGIN:VEVENT
DTSTART;VALUE=DATE:20190919
DTEND;VALUE=DATE:20190923
DTSTAMP:20260422T205526
CREATED:20190515T091607Z
LAST-MODIFIED:20190717T064045Z
UID:21471-1568851200-1569196799@primholstein.com
SUMMARY:Concours régional Poitou-Charentes
DESCRIPTION:Concours dans le cadre du Festival de l’élevage à Parthenay (79)\, les Prim’Holstein seront en compétition le samedi 21 septembre.
URL:https://primholstein.com/evenement/concours-regional-poitou-charentes-2/
LOCATION:Parthenay\, Parthenay\, 79200\, France
END:VEVENT
BEGIN:VEVENT
DTSTART;VALUE=DATE:20190921
DTEND;VALUE=DATE:20190922
DTSTAMP:20260422T205526
CREATED:20190408T083325Z
LAST-MODIFIED:20190408T083325Z
UID:21208-1569024000-1569110399@primholstein.com
SUMMARY:Concours départemental de la Dordogne
DESCRIPTION:
URL:https://primholstein.com/evenement/concours-departemental-de-la-dordogne-2/
LOCATION:Périgueux\, Périgueux\, 24000\, France
END:VEVENT
BEGIN:VEVENT
DTSTART;VALUE=DATE:20190921
DTEND;VALUE=DATE:20190922
DTSTAMP:20260422T205526
CREATED:20190614T112035Z
LAST-MODIFIED:20190614T112035Z
UID:21743-1569024000-1569110399@primholstein.com
SUMMARY:Concours interdépartemental de l'Aube
DESCRIPTION:
URL:https://primholstein.com/evenement/concours-interdepartemental-de-laube-2/
LOCATION:Brienne-le-Château\, Brienne-le-Château\, 10500\, France
END:VEVENT
BEGIN:VEVENT
DTSTART;VALUE=DATE:20190921
DTEND;VALUE=DATE:20190923
DTSTAMP:20260422T205526
CREATED:20190515T124210Z
LAST-MODIFIED:20190515T124210Z
UID:21473-1569024000-1569196799@primholstein.com
SUMMARY:Concours départemental de Meurthe-et-Moselle
DESCRIPTION:
URL:https://primholstein.com/evenement/concours-departemental-de-meurthe-et-moselle/
LOCATION:Lunéville\, Lunéville\, 54300\, France
END:VEVENT
BEGIN:VEVENT
DTSTART;VALUE=DATE:20190928
DTEND;VALUE=DATE:20190929
DTSTAMP:20260422T205526
CREATED:20190819T083129Z
LAST-MODIFIED:20190819T083152Z
UID:22082-1569628800-1569715199@primholstein.com
SUMMARY:Concours départemental du Tarn-et-Garonne
DESCRIPTION:Le concours sera jugé par Yoann Agard (24).
URL:https://primholstein.com/evenement/concours-departemental-du-tarn-et-garonne-3/
LOCATION:Montbeton\, Montbeton\, 82290\, France
END:VEVENT
END:VCALENDAR