BEGIN:VCALENDAR
VERSION:2.0
PRODID:-//Prim&#039;Holstein France - ECPv6.15.20//NONSGML v1.0//EN
CALSCALE:GREGORIAN
METHOD:PUBLISH
X-ORIGINAL-URL:https://primholstein.com
X-WR-CALDESC:Évènements pour Prim&#039;Holstein France
REFRESH-INTERVAL;VALUE=DURATION:PT1H
X-Robots-Tag:noindex
X-PUBLISHED-TTL:PT1H
BEGIN:VTIMEZONE
TZID:Europe/Paris
BEGIN:DAYLIGHT
TZOFFSETFROM:+0100
TZOFFSETTO:+0200
TZNAME:CEST
DTSTART:20180325T010000
END:DAYLIGHT
BEGIN:STANDARD
TZOFFSETFROM:+0200
TZOFFSETTO:+0100
TZNAME:CET
DTSTART:20181028T010000
END:STANDARD
BEGIN:DAYLIGHT
TZOFFSETFROM:+0100
TZOFFSETTO:+0200
TZNAME:CEST
DTSTART:20190331T010000
END:DAYLIGHT
BEGIN:STANDARD
TZOFFSETFROM:+0200
TZOFFSETTO:+0100
TZNAME:CET
DTSTART:20191027T010000
END:STANDARD
BEGIN:DAYLIGHT
TZOFFSETFROM:+0100
TZOFFSETTO:+0200
TZNAME:CEST
DTSTART:20200329T010000
END:DAYLIGHT
BEGIN:STANDARD
TZOFFSETFROM:+0200
TZOFFSETTO:+0100
TZNAME:CET
DTSTART:20201025T010000
END:STANDARD
END:VTIMEZONE
BEGIN:VEVENT
DTSTART;VALUE=DATE:20190815
DTEND;VALUE=DATE:20190816
DTSTAMP:20260422T221411
CREATED:20190320T123230Z
LAST-MODIFIED:20190320T123230Z
UID:21049-1565827200-1565913599@primholstein.com
SUMMARY:Concours départemental du Cantal
DESCRIPTION:
URL:https://primholstein.com/evenement/concours-departemental-du-cantal-2/
LOCATION:Allanche\, Allanche\, 15160\, France
END:VEVENT
BEGIN:VEVENT
DTSTART;VALUE=DATE:20190824
DTEND;VALUE=DATE:20190825
DTSTAMP:20260422T221411
CREATED:20190614T111928Z
LAST-MODIFIED:20190614T111928Z
UID:21742-1566604800-1566691199@primholstein.com
SUMMARY:Concours départemental de la Corrèze
DESCRIPTION:
URL:https://primholstein.com/evenement/concours-departemental-de-la-correze-4/
LOCATION:Brive-la-gaillarde\, Brive-la-gaillarde\, 19100\, France
END:VEVENT
BEGIN:VEVENT
DTSTART;VALUE=DATE:20190824
DTEND;VALUE=DATE:20190826
DTSTAMP:20260422T221411
CREATED:20181212T155052Z
LAST-MODIFIED:20190704T133827Z
UID:20240-1566604800-1566777599@primholstein.com
SUMMARY:Concours interdépartemental de l'Isère
DESCRIPTION:Le concours se déroulera sur la commune de Saint-Chef . Les départements de l’Ardèche et de la Drôme sont invités. \nDéroulement : \n\nle samedi 24 août\, concours des vaches \nle dimanche 25 août matin\, concours des génisses\n\nJuge : Florent Chapon
URL:https://primholstein.com/evenement/concours-interdepartemental-de-lisere/
LOCATION:Saint-Chef\, Saint-Chef\, 38890\, France
END:VEVENT
BEGIN:VEVENT
DTSTART;VALUE=DATE:20190830
DTEND;VALUE=DATE:20190903
DTSTAMP:20260422T221412
CREATED:20190515T113018Z
LAST-MODIFIED:20190515T113018Z
UID:21472-1567123200-1567468799@primholstein.com
SUMMARY:Concours départemental de l'Aisne
DESCRIPTION:Concours Prim’holstein dans le cadre de la 52ème Foire aux fromages qui se déroulera du 30 août au 2 septembre 2019 à La Capelle.
URL:https://primholstein.com/evenement/concours-departemental-de-laisne-3/
LOCATION:La Capelle\, La Capelle\, 02260\, France
END:VEVENT
BEGIN:VEVENT
DTSTART;VALUE=DATE:20190831
DTEND;VALUE=DATE:20190901
DTSTAMP:20260422T221412
CREATED:20190603T080924Z
LAST-MODIFIED:20190603T081008Z
UID:21501-1567209600-1567295999@primholstein.com
SUMMARY:Concours départemental du Lot
DESCRIPTION:Le juge du concours sera Olivier Vallès de la Scea en Crozes (81).
URL:https://primholstein.com/evenement/concours-departemental-du-lot-5/
LOCATION:Cajarc\, Cajarc\, 46160\, France
END:VEVENT
END:VCALENDAR