BEGIN:VCALENDAR
VERSION:2.0
PRODID:-//Prim&#039;Holstein France - ECPv6.15.20//NONSGML v1.0//EN
CALSCALE:GREGORIAN
METHOD:PUBLISH
X-WR-CALNAME:Prim&#039;Holstein France
X-ORIGINAL-URL:https://primholstein.com
X-WR-CALDESC:Évènements pour Prim&#039;Holstein France
REFRESH-INTERVAL;VALUE=DURATION:PT1H
X-Robots-Tag:noindex
X-PUBLISHED-TTL:PT1H
BEGIN:VTIMEZONE
TZID:Europe/Paris
BEGIN:DAYLIGHT
TZOFFSETFROM:+0100
TZOFFSETTO:+0200
TZNAME:CEST
DTSTART:20180325T010000
END:DAYLIGHT
BEGIN:STANDARD
TZOFFSETFROM:+0200
TZOFFSETTO:+0100
TZNAME:CET
DTSTART:20181028T010000
END:STANDARD
BEGIN:DAYLIGHT
TZOFFSETFROM:+0100
TZOFFSETTO:+0200
TZNAME:CEST
DTSTART:20190331T010000
END:DAYLIGHT
BEGIN:STANDARD
TZOFFSETFROM:+0200
TZOFFSETTO:+0100
TZNAME:CET
DTSTART:20191027T010000
END:STANDARD
BEGIN:DAYLIGHT
TZOFFSETFROM:+0100
TZOFFSETTO:+0200
TZNAME:CEST
DTSTART:20200329T010000
END:DAYLIGHT
BEGIN:STANDARD
TZOFFSETFROM:+0200
TZOFFSETTO:+0100
TZNAME:CET
DTSTART:20201025T010000
END:STANDARD
END:VTIMEZONE
BEGIN:VEVENT
DTSTART;VALUE=DATE:20190601
DTEND;VALUE=DATE:20190604
DTSTAMP:20260423T010505
CREATED:20181212T155453Z
LAST-MODIFIED:20181212T155453Z
UID:20242-1559347200-1559606399@primholstein.com
SUMMARY:Aquitanima
DESCRIPTION:
URL:https://primholstein.com/evenement/aquitanima-3/
LOCATION:Parc des Expositions de Bordeaux\, Bordeaux\, 33000\, France
END:VEVENT
BEGIN:VEVENT
DTSTART;VALUE=DATE:20190608
DTEND;VALUE=DATE:20190609
DTSTAMP:20260423T010505
CREATED:20181128T075514Z
LAST-MODIFIED:20181128T075514Z
UID:20156-1559952000-1560038399@primholstein.com
SUMMARY:Concours départemental du Calvados
DESCRIPTION:
URL:https://primholstein.com/evenement/concours-departemental-du-calvados/
LOCATION:Vire\, Vire\, 14500\, France
END:VEVENT
BEGIN:VEVENT
DTSTART;VALUE=DATE:20190614
DTEND;VALUE=DATE:20190617
DTSTAMP:20260423T010505
CREATED:20181127T130128Z
LAST-MODIFIED:20190513T111234Z
UID:20140-1560470400-1560729599@primholstein.com
SUMMARY:Concours départemental de l'Ain\, Expo du futur
DESCRIPTION:Journée races laitières le samedi 15 juin. \nJuge : Alain Hogge (Belgique)
URL:https://primholstein.com/evenement/concours-departemental-de-lain-expo-du-futur/
LOCATION:Bourg-en-Bresse\, Bourg-en-Bresse\, 01000\, France
END:VEVENT
BEGIN:VEVENT
DTSTART;VALUE=DATE:20190618
DTEND;VALUE=DATE:20190619
DTSTAMP:20260423T010505
CREATED:20190612T072119Z
LAST-MODIFIED:20190612T072119Z
UID:21605-1560816000-1560902399@primholstein.com
SUMMARY:Assemblée générale du Loir-et-Cher
DESCRIPTION:
URL:https://primholstein.com/evenement/assemblee-generale-du-loir-et-cher/
END:VEVENT
BEGIN:VEVENT
DTSTART;VALUE=DATE:20190619
DTEND;VALUE=DATE:20190620
DTSTAMP:20260423T010505
CREATED:20190513T100211Z
LAST-MODIFIED:20190513T100211Z
UID:21428-1560902400-1560988799@primholstein.com
SUMMARY:vente totale de troupeau 100% red holstein dans le Rhône
DESCRIPTION:Dominique Poncet vend son troupeau 100% red holstein le mercredi 19 juin 2019.
URL:https://primholstein.com/evenement/vente-totale-de-troupeau-100-red-holstein-dans-le-rhone/
LOCATION:PONCET Dominique\, 990 Chemin de la Chava\, La Salardière\, AVEIZE\, 69610\, France
END:VEVENT
BEGIN:VEVENT
DTSTART;VALUE=DATE:20190622
DTEND;VALUE=DATE:20190623
DTSTAMP:20260423T010505
CREATED:20190523T081435Z
LAST-MODIFIED:20190523T081435Z
UID:21488-1561161600-1561247999@primholstein.com
SUMMARY:Concours interdépartemental Eure\, Seine-Maritime
DESCRIPTION:
URL:https://primholstein.com/evenement/concours-interdepartemental-eure-seine-maritime/
LOCATION:Bouafles\, Bouafles\, 27700\, France
END:VEVENT
BEGIN:VEVENT
DTSTART;VALUE=DATE:20190622
DTEND;VALUE=DATE:20190624
DTSTAMP:20260423T010505
CREATED:20190409T112215Z
LAST-MODIFIED:20190409T112215Z
UID:21234-1561161600-1561334399@primholstein.com
SUMMARY:Concours départemental de l'Eure-et-Loir
DESCRIPTION:
URL:https://primholstein.com/evenement/concours-departemental-de-leure-et-loir/
LOCATION:Yèvres\, Yèvres\, 28160\, France
END:VEVENT
BEGIN:VEVENT
DTSTART;VALUE=DATE:20190625
DTEND;VALUE=DATE:20190629
DTSTAMP:20260423T010505
CREATED:20190206T084552Z
LAST-MODIFIED:20190206T084839Z
UID:20715-1561420800-1561766399@primholstein.com
SUMMARY:Ecole Française des Jeunes Eleveurs
DESCRIPTION:La 13e édition de l’Ecole Française des Jeunes Eleveurs se déroulera du mardi 25 au vendredi 28 juin 2019 au Lycée Agricole « la Touche » à Ploërmel (56). \nLe concours qui clôture la formation aura lieu le vendredi 28 juin après-midi. \nInscriptions du 11 mars au 15 avril 2019.
URL:https://primholstein.com/evenement/ecole-francaise-des-jeunes-eleveurs-4/
LOCATION:Lycée Agricole « La Touche »\, La Touche\, Ploërmel\, 56800\, France
END:VEVENT
BEGIN:VEVENT
DTSTART;VALUE=DATE:20190626
DTEND;VALUE=DATE:20190627
DTSTAMP:20260423T010505
CREATED:20190409T112033Z
LAST-MODIFIED:20190614T111816Z
UID:21232-1561507200-1561593599@primholstein.com
SUMMARY:Assemblée Générale de l'Orne
DESCRIPTION:Thème abordé : « la gestion de l’herbe dans un grand troupeau ».
URL:https://primholstein.com/evenement/assemblee-generale-de-lorne-2/
LOCATION:GAEC DE LA BOUHARDIERE\, LA BOUHARDIERE\, ST MARS D'EGRENNE\, 61350\, France
END:VEVENT
BEGIN:VEVENT
DTSTART;VALUE=DATE:20190629
DTEND;VALUE=DATE:20190630
DTSTAMP:20260423T010505
CREATED:20190408T083041Z
LAST-MODIFIED:20190408T083041Z
UID:21207-1561766400-1561852799@primholstein.com
SUMMARY:Concours départemental des Pyrénées-Atlantiques
DESCRIPTION:
URL:https://primholstein.com/evenement/concours-departemental-des-pyrenees-atlantiques-4/
LOCATION:Morlaas\, Morlaas\, 64160\, France
END:VEVENT
END:VCALENDAR