BEGIN:VCALENDAR
VERSION:2.0
PRODID:-//Prim&#039;Holstein France - ECPv6.15.20//NONSGML v1.0//EN
CALSCALE:GREGORIAN
METHOD:PUBLISH
X-WR-CALNAME:Prim&#039;Holstein France
X-ORIGINAL-URL:https://primholstein.com
X-WR-CALDESC:Évènements pour Prim&#039;Holstein France
REFRESH-INTERVAL;VALUE=DURATION:PT1H
X-Robots-Tag:noindex
X-PUBLISHED-TTL:PT1H
BEGIN:VTIMEZONE
TZID:Europe/Paris
BEGIN:DAYLIGHT
TZOFFSETFROM:+0100
TZOFFSETTO:+0200
TZNAME:CEST
DTSTART:20180325T010000
END:DAYLIGHT
BEGIN:STANDARD
TZOFFSETFROM:+0200
TZOFFSETTO:+0100
TZNAME:CET
DTSTART:20181028T010000
END:STANDARD
BEGIN:DAYLIGHT
TZOFFSETFROM:+0100
TZOFFSETTO:+0200
TZNAME:CEST
DTSTART:20190331T010000
END:DAYLIGHT
BEGIN:STANDARD
TZOFFSETFROM:+0200
TZOFFSETTO:+0100
TZNAME:CET
DTSTART:20191027T010000
END:STANDARD
BEGIN:DAYLIGHT
TZOFFSETFROM:+0100
TZOFFSETTO:+0200
TZNAME:CEST
DTSTART:20200329T010000
END:DAYLIGHT
BEGIN:STANDARD
TZOFFSETFROM:+0200
TZOFFSETTO:+0100
TZNAME:CET
DTSTART:20201025T010000
END:STANDARD
END:VTIMEZONE
BEGIN:VEVENT
DTSTART;VALUE=DATE:20190504
DTEND;VALUE=DATE:20190505
DTSTAMP:20260423T024139
CREATED:20190315T082807Z
LAST-MODIFIED:20190315T082807Z
UID:20968-1556928000-1557014399@primholstein.com
SUMMARY:Concours départemental de l'Aveyron
DESCRIPTION:
URL:https://primholstein.com/evenement/concours-departemental-de-laveyron-2/
LOCATION:Baraqueville\, Baraqueville\, 12160\, France
END:VEVENT
BEGIN:VEVENT
DTSTART;VALUE=DATE:20190511
DTEND;VALUE=DATE:20190513
DTSTAMP:20260423T024139
CREATED:20190321T072419Z
LAST-MODIFIED:20190321T072419Z
UID:21051-1557532800-1557705599@primholstein.com
SUMMARY:Concours interdépartemental de génisses du Bas-Rhin
DESCRIPTION:Les départements du Haut-Rhin et la Moselle sont invités.
URL:https://primholstein.com/evenement/concours-interdepartemental-de-genisses-du-bas-rhin/
LOCATION:Brumath\, Brumath\, 67170\, France
END:VEVENT
BEGIN:VEVENT
DTSTART;VALUE=DATE:20190524
DTEND;VALUE=DATE:20190527
DTSTAMP:20260423T024139
CREATED:20190515T073220Z
LAST-MODIFIED:20190515T073355Z
UID:21469-1558656000-1558915199@primholstein.com
SUMMARY:Concours départemental Les Terralies
DESCRIPTION:Concours Prim’Holstein le samedi 25 mai à partir de 12h30 sur le ring d’honneur. \nConcours de présentation et prix spéciaux le dimanche matin.
URL:https://primholstein.com/evenement/concours-departemental-les-terralies/
LOCATION:Parc des Expositions de St-Brieuc\, St-Brieuc\, 22000\, France
END:VEVENT
BEGIN:VEVENT
DTSTART;VALUE=DATE:20190528
DTEND;VALUE=DATE:20190529
DTSTAMP:20260423T024139
CREATED:20190320T094828Z
LAST-MODIFIED:20190320T094828Z
UID:21047-1559001600-1559087999@primholstein.com
SUMMARY:Assemblée générale de la Manche
DESCRIPTION:Thème abordé : « Le pâturage dynamique ».
URL:https://primholstein.com/evenement/assemblee-generale-de-la-manche-2/
LOCATION:GAEC DU BAS DES LANDES\, 1 RUE DES CASTELETS\, URVILLE NACQUEVILLE\, 50460\, France
END:VEVENT
BEGIN:VEVENT
DTSTART;VALUE=DATE:20190529
DTEND;VALUE=DATE:20190601
DTSTAMP:20260423T024139
CREATED:20190315T083409Z
LAST-MODIFIED:20190315T083409Z
UID:20969-1559088000-1559347199@primholstein.com
SUMMARY:Vente aux enchères et Young Team Show au Gaec Auguste (28)
DESCRIPTION:
URL:https://primholstein.com/evenement/vente-aux-encheres-et-young-team-show-au-gaec-auguste-28/
LOCATION:GAEC AUGUSTE\, LA MANCHETTERIE\, DAMPIERRE SOUS BROU\, 28160\, France
END:VEVENT
END:VCALENDAR