BEGIN:VCALENDAR
VERSION:2.0
PRODID:-//Prim&#039;Holstein France - ECPv6.15.20//NONSGML v1.0//EN
CALSCALE:GREGORIAN
METHOD:PUBLISH
X-ORIGINAL-URL:https://primholstein.com
X-WR-CALDESC:Évènements pour Prim&#039;Holstein France
REFRESH-INTERVAL;VALUE=DURATION:PT1H
X-Robots-Tag:noindex
X-PUBLISHED-TTL:PT1H
BEGIN:VTIMEZONE
TZID:Europe/Paris
BEGIN:DAYLIGHT
TZOFFSETFROM:+0100
TZOFFSETTO:+0200
TZNAME:CEST
DTSTART:20180325T010000
END:DAYLIGHT
BEGIN:STANDARD
TZOFFSETFROM:+0200
TZOFFSETTO:+0100
TZNAME:CET
DTSTART:20181028T010000
END:STANDARD
BEGIN:DAYLIGHT
TZOFFSETFROM:+0100
TZOFFSETTO:+0200
TZNAME:CEST
DTSTART:20190331T010000
END:DAYLIGHT
BEGIN:STANDARD
TZOFFSETFROM:+0200
TZOFFSETTO:+0100
TZNAME:CET
DTSTART:20191027T010000
END:STANDARD
BEGIN:DAYLIGHT
TZOFFSETFROM:+0100
TZOFFSETTO:+0200
TZNAME:CEST
DTSTART:20200329T010000
END:DAYLIGHT
BEGIN:STANDARD
TZOFFSETFROM:+0200
TZOFFSETTO:+0100
TZNAME:CET
DTSTART:20201025T010000
END:STANDARD
END:VTIMEZONE
BEGIN:VEVENT
DTSTART;VALUE=DATE:20190406
DTEND;VALUE=DATE:20190408
DTSTAMP:20260423T042821
CREATED:20190326T083610Z
LAST-MODIFIED:20190326T083610Z
UID:21053-1554508800-1554681599@primholstein.com
SUMMARY:Concours interdépartemental du Tarn
DESCRIPTION:Les département suivants sont invités : Ariège\, Aveyron\, Haute-Garonne\, Tarn-et-Garonne.
URL:https://primholstein.com/evenement/concours-interdepartemental-du-tarn/
LOCATION:Réalmont\, Réalmont\, 81120\, France
END:VEVENT
BEGIN:VEVENT
DTSTART;VALUE=DATE:20190406
DTEND;VALUE=DATE:20190409
DTSTAMP:20260423T042821
CREATED:20190116T100934Z
LAST-MODIFIED:20190312T122557Z
UID:20338-1554508800-1554767999@primholstein.com
SUMMARY:Concours régional de Franche-Comté
DESCRIPTION:Juge : Thomas Saunier
URL:https://primholstein.com/evenement/concours-regional-de-franche-comte/
LOCATION:Vesoul\, Vesoul\, 70000\, France
END:VEVENT
BEGIN:VEVENT
DTSTART;VALUE=DATE:20190411
DTEND;VALUE=DATE:20190412
DTSTAMP:20260423T042821
CREATED:20190122T084036Z
LAST-MODIFIED:20190122T084300Z
UID:20584-1554940800-1555027199@primholstein.com
SUMMARY:Portes Ouvertes dans le Bas-Rhin
DESCRIPTION:Dans le cadre de la Confrontation Européenne de Libramont 2019\, l’élevage RIEDILL de la famille Wollenburger à BINDERNHEIM (67600) ouvre ses portes aux visiteurs les jeudi 11 avril et dimanche 14 avril 2019. \ncontact : \n\nMobile : +33 637348686\nFACEBOOK : Riedill Wollenburger Laurent\nEmail : bernard.wollenburger@wanadoo.fr\n\nFlyer à télécharger
URL:https://primholstein.com/evenement/portes-ouvertes-dans-le-bas-rhin/
END:VEVENT
BEGIN:VEVENT
DTSTART;VALUE=DATE:20190411
DTEND;VALUE=DATE:20190412
DTSTAMP:20260423T042821
CREATED:20190308T153730Z
LAST-MODIFIED:20190308T153730Z
UID:20889-1554940800-1555027199@primholstein.com
SUMMARY:Assemblée Générale de la Côte d'Or
DESCRIPTION:Visite du Gaec du Moulin Leu sur la commune de MONTIGNY-SUR-ARMANCON. \nThème abordé : La valorisation de l’herbe ». \n 
URL:https://primholstein.com/evenement/assemblee-generale-de-la-cote-dor/
LOCATION:GAEC DU MOULIN LEU\, ROUTE DE BRIANNY\, MONTIGNY SUR ARMANCON\, 21140\, France
END:VEVENT
BEGIN:VEVENT
DTSTART;VALUE=DATE:20190412
DTEND;VALUE=DATE:20190414
DTSTAMP:20260423T042821
CREATED:20181122T083030Z
LAST-MODIFIED:20181122T084207Z
UID:20125-1555027200-1555199999@primholstein.com
SUMMARY:Confrontation Européenne Libramont 2019
DESCRIPTION:PROGRAMME : \nVendredi 12 avril 2019\n10:00 – 13:00 épreuve de clippage du Showmanship\n14:00 – 15:00 cérémonie d’ouverture\n15:00 – 18:00 concours Red Holstein en individuel et par pays\nà partir de 20:00 Vente aux enchères \nSamedi 13 avril 2019\n10:00 – 12:00 concours du meilleur présentateur du Showmanship\n14:00 – 18:00 concours Holstein en individuel et par pays\nà partir de 20:00 soirée des éleveurs \n \nlieu : Libramont Exhibition and Congress\, \nRue des Aubépines 50\, 6800 Libramont-Chevigny\, \nBelgique
URL:https://primholstein.com/evenement/confrontation-europeenne-libramont-2019/
LOCATION:Parc des Expositions de LIbramont\, Rue des Aubépines\, 50\, LIBRAMONT\, 6800\, Belgium
END:VEVENT
BEGIN:VEVENT
DTSTART;VALUE=DATE:20190414
DTEND;VALUE=DATE:20190415
DTSTAMP:20260423T042821
CREATED:20190312T080828Z
LAST-MODIFIED:20190320T095758Z
UID:20901-1555200000-1555286399@primholstein.com
SUMMARY:Concours interdépartemental de l'Ardèche
DESCRIPTION:Concours interdépartemental Ardèche-Drôme. \nLe juge sera Jean-Pierre Guénot de l’Ain.
URL:https://primholstein.com/evenement/concours-interdepartemental-de-lardeche/
LOCATION:Gilhoc-sur-Ormèze\, Gilhoc-sur-Ormèze\, 07270\, France
END:VEVENT
BEGIN:VEVENT
DTSTART;VALUE=DATE:20190419
DTEND;VALUE=DATE:20190421
DTSTAMP:20260423T042821
CREATED:20190114T080655Z
LAST-MODIFIED:20190114T080705Z
UID:20325-1555632000-1555804799@primholstein.com
SUMMARY:Concours interdépartemental de la Charente
DESCRIPTION:Concours interdépartemental de la Charente avec la Haute-Vienne dans le cadre du festival laitier à Chabanais
URL:https://primholstein.com/evenement/concours-interdepartemental-de-la-charente/
LOCATION:Chabanais\, Chabanais\, 16150\, France
END:VEVENT
BEGIN:VEVENT
DTSTART;VALUE=DATE:20190422
DTEND;VALUE=DATE:20190423
DTSTAMP:20260423T042821
CREATED:20190305T081610Z
LAST-MODIFIED:20190305T081610Z
UID:20846-1555891200-1555977599@primholstein.com
SUMMARY:Concours interdépartemental de la Somme
DESCRIPTION:
URL:https://primholstein.com/evenement/concours-interdepartemental-de-la-somme/
LOCATION:Montdidier\, Montdidier\, 80500\, France
END:VEVENT
BEGIN:VEVENT
DTSTART;VALUE=DATE:20190426
DTEND;VALUE=DATE:20190427
DTSTAMP:20260423T042821
CREATED:20190124T081923Z
LAST-MODIFIED:20190124T081923Z
UID:20667-1556236800-1556323199@primholstein.com
SUMMARY:Concours départemental de la Charente-Maritime
DESCRIPTION:
URL:https://primholstein.com/evenement/concours-departemental-de-la-charente-maritime/
LOCATION:La Rochelle\, LA ROCHELLE\, 17000\, France
END:VEVENT
BEGIN:VEVENT
DTSTART;VALUE=DATE:20190427
DTEND;VALUE=DATE:20190428
DTSTAMP:20260423T042821
CREATED:20190403T094639Z
LAST-MODIFIED:20190403T094639Z
UID:21141-1556323200-1556409599@primholstein.com
SUMMARY:concours bi-départemental Lozère-Cantal
DESCRIPTION:
URL:https://primholstein.com/evenement/concours-bi-departemental-lozere-cantal/
LOCATION:Aumont-Aubrac\, Aumont-Aubrac\, 48130\, France
END:VEVENT
BEGIN:VEVENT
DTSTART;VALUE=DATE:20190427
DTEND;VALUE=DATE:20190428
DTSTAMP:20260423T042821
CREATED:20190409T080905Z
LAST-MODIFIED:20190409T080905Z
UID:21230-1556323200-1556409599@primholstein.com
SUMMARY:Assemblée Générale de Passion Elevage 28
DESCRIPTION:Rendez-vous à 19h00 Salle des fêtes de Champrond-en-Gâtine (28240). \nA la fin de l’Assemblée\, un buffet froid sera organisé.
URL:https://primholstein.com/evenement/assemblee-generale-de-passion-elevage-28/
LOCATION:Salle des Fêtes de Champrond-en-Gâtine\, Champrond-en-Gâtine\, 28240\, France
END:VEVENT
BEGIN:VEVENT
DTSTART;VALUE=DATE:20190427
DTEND;VALUE=DATE:20190429
DTSTAMP:20260423T042821
CREATED:20190423T071107Z
LAST-MODIFIED:20190423T071108Z
UID:21288-1556323200-1556495999@primholstein.com
SUMMARY:Concours holstein haut-alpin
DESCRIPTION:Dans le cadre du Salon de l’élevage Haut-Alpin les 27 et 28 avril\, un concours holstein est organisé. 5 éleveurs y participent\, le GAEC la Ferme du Ga\, le GAEC du Verger\, le GAEC la Ferme d’Auguste\, Alexandre EYRAUD et le GAEC les Hautes Prim’Holstein. \nLe juge du concours sera François Philip de Guillestre (05).
URL:https://primholstein.com/evenement/concours-holstein-haut-alpin/
LOCATION:Embrun\, Embrun\, 05200\, France
END:VEVENT
BEGIN:VEVENT
DTSTART;VALUE=DATE:20190428
DTEND;VALUE=DATE:20190429
DTSTAMP:20260423T042821
CREATED:20190110T075356Z
LAST-MODIFIED:20190110T075356Z
UID:20298-1556409600-1556495999@primholstein.com
SUMMARY:Concours départemental du Pas-de-Calais
DESCRIPTION:
URL:https://primholstein.com/evenement/concours-departemental-du-pas-de-calais-3/
LOCATION:Lycée Agricole de Radinghem\, Radinghem\, 62310\, France
END:VEVENT
BEGIN:VEVENT
DTSTART;VALUE=DATE:20190428
DTEND;VALUE=DATE:20190429
DTSTAMP:20260423T042821
CREATED:20190312T081108Z
LAST-MODIFIED:20190415T192910Z
UID:20903-1556409600-1556495999@primholstein.com
SUMMARY:Concours départemental de la Haute-Loire
DESCRIPTION:120 animaux attendus dont 50 Prim’Holstein.
URL:https://primholstein.com/evenement/concours-departemental-de-la-haute-loire/
LOCATION:Saint-Paulien\, Saint-Paulien\, 43350\, France
END:VEVENT
BEGIN:VEVENT
DTSTART;VALUE=DATE:20190428
DTEND;VALUE=DATE:20190429
DTSTAMP:20260423T042821
CREATED:20190312T082045Z
LAST-MODIFIED:20190312T082045Z
UID:20905-1556409600-1556495999@primholstein.com
SUMMARY:Concours départemental du Pas-de-Calais
DESCRIPTION:
URL:https://primholstein.com/evenement/concours-departemental-du-pas-de-calais-4/
LOCATION:Radinghem\, Radinghem\, 62310\, France
END:VEVENT
END:VCALENDAR