BEGIN:VCALENDAR
VERSION:2.0
PRODID:-//Prim&#039;Holstein France - ECPv6.15.20//NONSGML v1.0//EN
CALSCALE:GREGORIAN
METHOD:PUBLISH
X-ORIGINAL-URL:https://primholstein.com
X-WR-CALDESC:Évènements pour Prim&#039;Holstein France
REFRESH-INTERVAL;VALUE=DURATION:PT1H
X-Robots-Tag:noindex
X-PUBLISHED-TTL:PT1H
BEGIN:VTIMEZONE
TZID:Europe/Paris
BEGIN:DAYLIGHT
TZOFFSETFROM:+0100
TZOFFSETTO:+0200
TZNAME:CEST
DTSTART:20180325T010000
END:DAYLIGHT
BEGIN:STANDARD
TZOFFSETFROM:+0200
TZOFFSETTO:+0100
TZNAME:CET
DTSTART:20181028T010000
END:STANDARD
BEGIN:DAYLIGHT
TZOFFSETFROM:+0100
TZOFFSETTO:+0200
TZNAME:CEST
DTSTART:20190331T010000
END:DAYLIGHT
BEGIN:STANDARD
TZOFFSETFROM:+0200
TZOFFSETTO:+0100
TZNAME:CET
DTSTART:20191027T010000
END:STANDARD
BEGIN:DAYLIGHT
TZOFFSETFROM:+0100
TZOFFSETTO:+0200
TZNAME:CEST
DTSTART:20200329T010000
END:DAYLIGHT
BEGIN:STANDARD
TZOFFSETFROM:+0200
TZOFFSETTO:+0100
TZNAME:CET
DTSTART:20201025T010000
END:STANDARD
END:VTIMEZONE
BEGIN:VEVENT
DTSTART;VALUE=DATE:20190223
DTEND;VALUE=DATE:20190304
DTSTAMP:20260423T060556
CREATED:20181122T082109Z
LAST-MODIFIED:20181122T082109Z
UID:20122-1550880000-1551657599@primholstein.com
SUMMARY:Salon de l'Agriculture
DESCRIPTION:
URL:https://primholstein.com/evenement/salon-de-lagriculture/
LOCATION:Parc des Expositions de Paris Porte de Versailles\, 1\, place de la Porte de Versailles\, Paris\, 75015\, France
END:VEVENT
BEGIN:VEVENT
DTSTART;VALUE=DATE:20190302
DTEND;VALUE=DATE:20190303
DTSTAMP:20260423T060556
CREATED:20181127T130757Z
LAST-MODIFIED:20181127T130757Z
UID:20143-1551484800-1551571199@primholstein.com
SUMMARY:Expo Bulle
DESCRIPTION:
URL:https://primholstein.com/evenement/expo-bulle-3/
LOCATION:Parc des Expositions de Bulle « Espace gruyère »\, RUE DE VEVEY 136-144 CASE POSTALE 460\, Bulle\, 1630\, Switzerland
END:VEVENT
BEGIN:VEVENT
DTSTART;VALUE=DATE:20190305
DTEND;VALUE=DATE:20190306
DTSTAMP:20260423T060556
CREATED:20190122T080932Z
LAST-MODIFIED:20190122T080932Z
UID:20581-1551744000-1551830399@primholstein.com
SUMMARY:Assemblée Générale de l'Ain
DESCRIPTION:Matin : réunion statutaire à la Salle des Fêtes de ILLIAT (01140) \nAprès-midi : visite du Gaec de Moleson\, Route d’Illiat\, 01400 L’Abergement Clémenciat (01400)
URL:https://primholstein.com/evenement/assemblee-generale-de-lain/
LOCATION:Salle des Fêtes d’Illiat\, D66A\, ILLIAT\, 01140\, France
END:VEVENT
BEGIN:VEVENT
DTSTART;VALUE=DATE:20190305
DTEND;VALUE=DATE:20190306
DTSTAMP:20260423T060556
CREATED:20190128T110854Z
LAST-MODIFIED:20190215T151626Z
UID:20691-1551744000-1551830399@primholstein.com
SUMMARY:Assemblée Générale de la Haute-Loire
DESCRIPTION:Matin : Mairie de Paulhaguet \nAprès-midi : visite au Gaec du Monteil à Mazeyrat d’Allier.
URL:https://primholstein.com/evenement/assemblee-generale-de-la-haute-loire/
LOCATION:Paulhaguet\, Paulhaguet\, 43230\, France
END:VEVENT
BEGIN:VEVENT
DTSTART;VALUE=DATE:20190306
DTEND;VALUE=DATE:20190307
DTSTAMP:20260423T060556
CREATED:20190221T085308Z
LAST-MODIFIED:20190221T085308Z
UID:20799-1551830400-1551916799@primholstein.com
SUMMARY:Assemblée Générale du Pas-de-Calais
DESCRIPTION:
URL:https://primholstein.com/evenement/assemblee-generale-du-pas-de-calais/
END:VEVENT
BEGIN:VEVENT
DTSTART;VALUE=DATE:20190306
DTEND;VALUE=DATE:20190307
DTSTAMP:20260423T060556
CREATED:20190228T105145Z
LAST-MODIFIED:20190228T105145Z
UID:20841-1551830400-1551916799@primholstein.com
SUMMARY:Assemblée Générale des Pyrénées-Atlantiques
DESCRIPTION:Le matin à 10h : GAEC ELISSTECHIA – Maison Elisstechia – 64220 UHART CIZE \nAprès-midi à 14h30 : GAEC LAIT 2 MAKEAR – Castenaua – 64240 MACAYE \nEntre les deux visites\, un repas sera pris en commun. \nMerci de vous inscrire auprès de :\n– Olivier BONJEAN 06 45 87 74 59\n– Jérémy BAZAILLAC 06 16 71 03 73\n– Camille ARIBIT 06 88 21 14 03
URL:https://primholstein.com/evenement/assemblee-generale-des-pyrenees-atlantiques/
LOCATION:GAEC ELISSTECHIA\, maison ELISSTECHIA\, UHART CIZE\, 64220\, France
END:VEVENT
BEGIN:VEVENT
DTSTART;VALUE=DATE:20190307
DTEND;VALUE=DATE:20190308
DTSTAMP:20260423T060556
CREATED:20190128T110716Z
LAST-MODIFIED:20190128T110716Z
UID:20690-1551916800-1552003199@primholstein.com
SUMMARY:Assemblée Générale de l'Eure
DESCRIPTION:
URL:https://primholstein.com/evenement/assemblee-generale-de-leure/
END:VEVENT
BEGIN:VEVENT
DTSTART;VALUE=DATE:20190308
DTEND;VALUE=DATE:20190309
DTSTAMP:20260423T060556
CREATED:20190221T085507Z
LAST-MODIFIED:20190221T085507Z
UID:20801-1552003200-1552089599@primholstein.com
SUMMARY:Assemblée Générale de la Corrèze
DESCRIPTION:
URL:https://primholstein.com/evenement/assemblee-generale-de-la-correze/
END:VEVENT
BEGIN:VEVENT
DTSTART;VALUE=DATE:20190312
DTEND;VALUE=DATE:20190313
DTSTAMP:20260423T060556
CREATED:20190205T144846Z
LAST-MODIFIED:20190205T144846Z
UID:20713-1552348800-1552435199@primholstein.com
SUMMARY:Assemblée Générale de la Vendée
DESCRIPTION:
URL:https://primholstein.com/evenement/assemblee-generale-de-la-vendee/
END:VEVENT
BEGIN:VEVENT
DTSTART;VALUE=DATE:20190313
DTEND;VALUE=DATE:20190314
DTSTAMP:20260423T060556
CREATED:20190114T080507Z
LAST-MODIFIED:20190114T080507Z
UID:20324-1552435200-1552521599@primholstein.com
SUMMARY:Assemblée Générale du Cantal
DESCRIPTION:
URL:https://primholstein.com/evenement/assemblee-generale-du-cantal/
END:VEVENT
BEGIN:VEVENT
DTSTART;VALUE=DATE:20190313
DTEND;VALUE=DATE:20190314
DTSTAMP:20260423T060556
CREATED:20190221T085659Z
LAST-MODIFIED:20190221T085659Z
UID:20802-1552435200-1552521599@primholstein.com
SUMMARY:Assemblée Générale de l'Ariège et la Haute-Garonne
DESCRIPTION:
URL:https://primholstein.com/evenement/assemblee-generale-de-lariege-et-la-haute-garonne/
LOCATION:SCL DE LABADE\, LABADE\, SAVERDUN\, 09700\, France
END:VEVENT
BEGIN:VEVENT
DTSTART;VALUE=DATE:20190314
DTEND;VALUE=DATE:20190315
DTSTAMP:20260423T060556
CREATED:20181119T073621Z
LAST-MODIFIED:20181119T073621Z
UID:20084-1552521600-1552607999@primholstein.com
SUMMARY:AG du syndicat de Saône-et-Loire
DESCRIPTION:
URL:https://primholstein.com/evenement/ag-du-syndicat-de-saone-et-loire/
END:VEVENT
BEGIN:VEVENT
DTSTART;VALUE=DATE:20190314
DTEND;VALUE=DATE:20190315
DTSTAMP:20260423T060556
CREATED:20190218T131630Z
LAST-MODIFIED:20190218T131630Z
UID:20790-1552521600-1552607999@primholstein.com
SUMMARY:Assemblée Générale du Calvados
DESCRIPTION:Matin : réunion statutaire \nAprès-midi : visite du Gaec de la Loge à St Paul de Vernay
URL:https://primholstein.com/evenement/assemblee-generale-du-calvados-2/
LOCATION:St-Paul-de-Vernay\, St-Paul-de-Vernay\, 14490\, France
END:VEVENT
BEGIN:VEVENT
DTSTART;VALUE=DATE:20190314
DTEND;VALUE=DATE:20190315
DTSTAMP:20260423T060556
CREATED:20190306T143520Z
LAST-MODIFIED:20190306T143520Z
UID:20849-1552521600-1552607999@primholstein.com
SUMMARY:Assemblée Générale du syndicat 80
DESCRIPTION:Le Jeudi 14 Mars 2019 à partir de 10 heures 30\nSalle Picardie – Immeuble de la Chambre d’Agriculture à Amiens \nInscription avant le 11 mars auprès de l’Association : \nAssociation des éleveurs “ Prim’Holstein 80 ”\nCS 50341 – 59400 CAMBRAI\nTél. : 03.27.72.66.66 – Fax : 03.27.72.87.87\nE.mail : contact@a-cel.fr
URL:https://primholstein.com/evenement/assemblee-generale-du-syndicat-80/
LOCATION:Chambre d’Agriculture d’Amiens\, 19 Bis Rue Alexandre Dumas\, Amiens\, 80000\, France
END:VEVENT
BEGIN:VEVENT
DTSTART;VALUE=DATE:20190314
DTEND;VALUE=DATE:20190315
DTSTAMP:20260423T060556
CREATED:20190306T151253Z
LAST-MODIFIED:20190306T151253Z
UID:20850-1552521600-1552607999@primholstein.com
SUMMARY:Assemblée Générale du Maine-et-Loire
DESCRIPTION:JEUDI 14 MARS 2019\n10h : accueil à la Salle du Tertre (Face au château) 49320 BRISSAC Loire Aubance \nThème abordé : «EPIGENETIQUE» : Quand l’environnement impacte les gènes.\nIntervenante : Marie HEGER Responsable Recherche et Développement à Prim’Holstein France \nAprès-midi : Visite de l’élevage GAEC de la Gaignardière\n10 Rue la Gaignardière\nST SARTURNIN sur LOIRE\n49320 BRISSAC Loire AUBANCE \nInscription avant le 8 mars avec bulletin réponse sur l’invitation.
URL:https://primholstein.com/evenement/assemblee-generale-du-maine-et-loire/
LOCATION:Salle du Tertre (face au château) 49320\, BRISSAC Loire Aubance\, 49320\, France
END:VEVENT
BEGIN:VEVENT
DTSTART;VALUE=DATE:20190314
DTEND;VALUE=DATE:20190315
DTSTAMP:20260423T060556
CREATED:20190312T125155Z
LAST-MODIFIED:20190312T125155Z
UID:20941-1552521600-1552607999@primholstein.com
SUMMARY:Assemblée générale du Finistère
DESCRIPTION:
URL:https://primholstein.com/evenement/assemblee-generale-du-finistere/
END:VEVENT
BEGIN:VEVENT
DTSTART;VALUE=DATE:20190316
DTEND;VALUE=DATE:20190317
DTSTAMP:20260423T060556
CREATED:20190308T153530Z
LAST-MODIFIED:20190308T153530Z
UID:20888-1552694400-1552780799@primholstein.com
SUMMARY:Assemblée Générale des Landes
DESCRIPTION:
URL:https://primholstein.com/evenement/assemblee-generale-des-landes/
END:VEVENT
BEGIN:VEVENT
DTSTART;VALUE=DATE:20190319
DTEND;VALUE=DATE:20190320
DTSTAMP:20260423T060556
CREATED:20190221T085725Z
LAST-MODIFIED:20190221T085725Z
UID:20804-1552953600-1553039999@primholstein.com
SUMMARY:Assemblée Générale de la Sarthe
DESCRIPTION:
URL:https://primholstein.com/evenement/assemblee-generale-de-la-sarthe/
END:VEVENT
BEGIN:VEVENT
DTSTART;VALUE=DATE:20190320
DTEND;VALUE=DATE:20190321
DTSTAMP:20260423T060556
CREATED:20190221T085752Z
LAST-MODIFIED:20190307T074228Z
UID:20805-1553040000-1553126399@primholstein.com
SUMMARY:Assemblée Générale du Morbihan
DESCRIPTION:Journée sur le thème : « A l’écoute de nos vaches »\nHalbe ROSEMA présente sa méthode « SIGNES de VACHES ». \nEn matinée :\n-Rapport d’activités par Jean-Pierre Le DOUARIN\n-Rapport financier par René ou Jean-Louis Le FUR\n-Rapport d’Orientation par Jean-François GUILLAUME \nElection tiers sortant \n– Prim Holstein France interviendra sur le niveau génétique de l’élevage morbihannais. (20 minutes). \n– Une heure sera réservée à Halbe ROSEMA\, qui interviendra sur le thème : « Signes de vaches »\nComprendre le langage corporel de la vache et du troupeau\, juger et améliorer sa capacité à reconnaître les maladies et l’inconfort des vaches à un stade précoce. \n 
URL:https://primholstein.com/evenement/assemblee-generale-du-morbihan/
END:VEVENT
BEGIN:VEVENT
DTSTART;VALUE=DATE:20190321
DTEND;VALUE=DATE:20190322
DTSTAMP:20260423T060556
CREATED:20190114T080441Z
LAST-MODIFIED:20190114T080441Z
UID:20323-1553126400-1553212799@primholstein.com
SUMMARY:Assemblée Générale de la Charente
DESCRIPTION:
URL:https://primholstein.com/evenement/assemblee-generale-de-la-charente/
END:VEVENT
BEGIN:VEVENT
DTSTART;VALUE=DATE:20190323
DTEND;VALUE=DATE:20190325
DTSTAMP:20260423T060556
CREATED:20181128T075659Z
LAST-MODIFIED:20181128T075659Z
UID:20157-1553299200-1553471999@primholstein.com
SUMMARY:Concours départemental du Finistère
DESCRIPTION:
URL:https://primholstein.com/evenement/concours-departemental-du-finistere/
LOCATION:Parc des Expositions de Quimper\, Quimper\, 29000\, France
END:VEVENT
BEGIN:VEVENT
DTSTART;VALUE=DATE:20190324
DTEND;VALUE=DATE:20190325
DTSTAMP:20260423T060556
CREATED:20190305T082044Z
LAST-MODIFIED:20190305T082130Z
UID:20847-1553385600-1553471999@primholstein.com
SUMMARY:Festival de la Terre et de l'Elevage
DESCRIPTION:Le 24 Mars 2019 à UniLasalle\, Campus de Beauvais. \nPlus d’informations sur la page facebook dédiée à cet événement : festival de la terre et de l’élevage – 24 mars 2019
URL:https://primholstein.com/evenement/festival-de-la-terre-et-de-lelevage/
LOCATION:UniLaSalle\, Rue Pierre WAGUET\, Beauvais\, 60026\, France
END:VEVENT
BEGIN:VEVENT
DTSTART;VALUE=DATE:20190326
DTEND;VALUE=DATE:20190327
DTSTAMP:20260423T060556
CREATED:20181119T073827Z
LAST-MODIFIED:20181119T073827Z
UID:20085-1553558400-1553644799@primholstein.com
SUMMARY:AG de la Fédération Rhône-Alpes
DESCRIPTION:L’Assemblée Générale se déroulera le mardi 26 mars 2019 sur la commune de Simandre dans le département de la Saône-et-Loire.
URL:https://primholstein.com/evenement/ag-de-la-federation-rhone-alpes/
LOCATION:Simandre\, Simandre\, 71290\, France
END:VEVENT
BEGIN:VEVENT
DTSTART;VALUE=DATE:20190327
DTEND;VALUE=DATE:20190328
DTSTAMP:20260423T060556
CREATED:20190124T075754Z
LAST-MODIFIED:20190124T075952Z
UID:20658-1553644800-1553731199@primholstein.com
SUMMARY:concours inter-lycées de meneurs et clippeurs dans la Loire
DESCRIPTION:Le 1er janvier 2019\, le lycée agricole de Précieux est devenu Campus Agronova. \nLa classe de 1ère BAC PRO Conduite et Gestion des Entreprises Agricoles (CGEA) organise un concours inter-lycée de meneur-clippeur le 27 mars 2019. \nPlus d’informations sur le courrier d’informations. \nFormules partenaires ici \nContact : Mickaël CHAZELLE\, mickael.chazelle@educagri.fr \n 
URL:https://primholstein.com/evenement/concours-inter-lycees-de-meneurs-et-clippeurs/
LOCATION:Campus Agronova\, Site de Montbrison-Précieux\, BP 204\, MONTBRISON CEDEX\, 42605\, France
END:VEVENT
BEGIN:VEVENT
DTSTART;VALUE=DATE:20190328
DTEND;VALUE=DATE:20190329
DTSTAMP:20260423T060556
CREATED:20190221T085823Z
LAST-MODIFIED:20190307T093450Z
UID:20806-1553731200-1553817599@primholstein.com
SUMMARY:Assemblée Générale de la Loire-Atlantique
DESCRIPTION:Assemblée statutaire le matin à la Mairie de GENESTON\, accueil à 09h45.  \nAprès-midi\, visite du Gaec de la Douve à St-Colomban. \nInscription au plus tard le 23 mars en remplissant le coupon-réponse sur l’invitation à télécharger
URL:https://primholstein.com/evenement/assemblee-generale-de-la-loire-atlantique-2/
END:VEVENT
BEGIN:VEVENT
DTSTART;VALUE=DATE:20190330
DTEND;VALUE=DATE:20190331
DTSTAMP:20260423T060556
CREATED:20190206T084332Z
LAST-MODIFIED:20190206T084332Z
UID:20714-1553904000-1553990399@primholstein.com
SUMMARY:Concours régional Bretagne
DESCRIPTION:Le concours sera jugé par Laurent Dupuy (15).
URL:https://primholstein.com/evenement/concours-regional-bretagne/
LOCATION:Parc des Expositions de Rennes\, La Haie Gautrais\, Bruz\, 35170\, France
END:VEVENT
BEGIN:VEVENT
DTSTART;VALUE=DATE:20190330
DTEND;VALUE=DATE:20190401
DTSTAMP:20260423T060556
CREATED:20190116T100608Z
LAST-MODIFIED:20190205T124612Z
UID:20336-1553904000-1554076799@primholstein.com
SUMMARY:Show Open Pisani (52)
DESCRIPTION:Un concours de génisses laitières et limousines est organisé au Lycée Edgard Pisani sur la commune de Chamarandes-Choignes. Sont invités les départements limitrophes. \nConcours de présentation le samedi à partir de 16 heures. \nConcours Holstein en alternance avec les autres races le dimanche durant la journée.
URL:https://primholstein.com/evenement/concours-regional-genisses-52/
LOCATION:Lycée Agricole de Chaumont\, Pôle d’enseignement Edgard Pisani\, rue du Lycée\, Chamarandes-Choignes\, 52000\, France
END:VEVENT
BEGIN:VEVENT
DTSTART;VALUE=DATE:20190331
DTEND;VALUE=DATE:20190401
DTSTAMP:20260423T060556
CREATED:20190116T100822Z
LAST-MODIFIED:20190116T100822Z
UID:20337-1553990400-1554076799@primholstein.com
SUMMARY:Foire de l’Axone
DESCRIPTION:Le concours départemental du Doubs et du territoire de Belfort est organisé au Parc des Expositions de l’Axone sur la commune de Montbéliard.
URL:https://primholstein.com/evenement/foire-de-laxone-2/
LOCATION:Axone\, 6 Rue du Commandant Pierre Rossel\, Montbéliard\, 25200 \, France
END:VEVENT
END:VCALENDAR