BEGIN:VCALENDAR
VERSION:2.0
PRODID:-//Prim&#039;Holstein France - ECPv6.15.20//NONSGML v1.0//EN
CALSCALE:GREGORIAN
METHOD:PUBLISH
X-WR-CALNAME:Prim&#039;Holstein France
X-ORIGINAL-URL:https://primholstein.com
X-WR-CALDESC:Évènements pour Prim&#039;Holstein France
REFRESH-INTERVAL;VALUE=DURATION:PT1H
X-Robots-Tag:noindex
X-PUBLISHED-TTL:PT1H
BEGIN:VTIMEZONE
TZID:Europe/Paris
BEGIN:DAYLIGHT
TZOFFSETFROM:+0100
TZOFFSETTO:+0200
TZNAME:CEST
DTSTART:20180325T010000
END:DAYLIGHT
BEGIN:STANDARD
TZOFFSETFROM:+0200
TZOFFSETTO:+0100
TZNAME:CET
DTSTART:20181028T010000
END:STANDARD
BEGIN:DAYLIGHT
TZOFFSETFROM:+0100
TZOFFSETTO:+0200
TZNAME:CEST
DTSTART:20190331T010000
END:DAYLIGHT
BEGIN:STANDARD
TZOFFSETFROM:+0200
TZOFFSETTO:+0100
TZNAME:CET
DTSTART:20191027T010000
END:STANDARD
BEGIN:DAYLIGHT
TZOFFSETFROM:+0100
TZOFFSETTO:+0200
TZNAME:CEST
DTSTART:20200329T010000
END:DAYLIGHT
BEGIN:STANDARD
TZOFFSETFROM:+0200
TZOFFSETTO:+0100
TZNAME:CET
DTSTART:20201025T010000
END:STANDARD
END:VTIMEZONE
BEGIN:VEVENT
DTSTART;VALUE=DATE:20190109
DTEND;VALUE=DATE:20190113
DTSTAMP:20260423T090219
CREATED:20181127T130424Z
LAST-MODIFIED:20181127T130424Z
UID:20141-1546992000-1547337599@primholstein.com
SUMMARY:Swiss Expo Lausanne
DESCRIPTION:
URL:https://primholstein.com/evenement/swiss-expo-lausanne-2/
LOCATION:Expo Beaulieu Lausanne\, Avenue Bergières 10\, Lausanne\, 1004\, Switzerland
END:VEVENT
BEGIN:VEVENT
DTSTART;VALUE=DATE:20190122
DTEND;VALUE=DATE:20190123
DTSTAMP:20260423T090219
CREATED:20181122T081418Z
LAST-MODIFIED:20181122T081418Z
UID:20117-1548115200-1548201599@primholstein.com
SUMMARY:Assemblée de secteur PHF en Rhône-Alpes
DESCRIPTION:L’Assemblée de secteur de PHF se déroulera dans la région du Rhône-Alpes le mardi 22 janvier 2019 à l’Earl Ferme de Verdel sur la commune de St-Didier-de-la-Tour dans l’Isère
URL:https://primholstein.com/evenement/assemblee-de-secteur-phf-en-rhone-alpes/
LOCATION:Earl Ferme de Verdel\, St-Didier-de-la-Tour\, 38110\, France
END:VEVENT
BEGIN:VEVENT
DTSTART;VALUE=DATE:20190123
DTEND;VALUE=DATE:20190124
DTSTAMP:20260423T090219
CREATED:20181122T081803Z
LAST-MODIFIED:20181122T081803Z
UID:20119-1548201600-1548287999@primholstein.com
SUMMARY:Assemblée de secteur PHF dans le Grand Est
DESCRIPTION:L’Assemblée de secteur de PHF se déroulera dans la région du Grand Est le mercredi 23 janvier 2019 au Gaec de la Guinguette sur la commune de Grandchamp dans les Ardennes.
URL:https://primholstein.com/evenement/assemblee-de-secteur-phf-dans-le-grand-est/
LOCATION:Gaec de la Guinguette\, Grandchamp\, 08270\, France
END:VEVENT
END:VCALENDAR