BEGIN:VCALENDAR
VERSION:2.0
PRODID:-//Prim&#039;Holstein France - ECPv6.15.20//NONSGML v1.0//EN
CALSCALE:GREGORIAN
METHOD:PUBLISH
X-WR-CALNAME:Prim&#039;Holstein France
X-ORIGINAL-URL:https://primholstein.com
X-WR-CALDESC:Évènements pour Prim&#039;Holstein France
REFRESH-INTERVAL;VALUE=DURATION:PT1H
X-Robots-Tag:noindex
X-PUBLISHED-TTL:PT1H
BEGIN:VTIMEZONE
TZID:Europe/Paris
BEGIN:DAYLIGHT
TZOFFSETFROM:+0100
TZOFFSETTO:+0200
TZNAME:CEST
DTSTART:20170326T010000
END:DAYLIGHT
BEGIN:STANDARD
TZOFFSETFROM:+0200
TZOFFSETTO:+0100
TZNAME:CET
DTSTART:20171029T010000
END:STANDARD
BEGIN:DAYLIGHT
TZOFFSETFROM:+0100
TZOFFSETTO:+0200
TZNAME:CEST
DTSTART:20180325T010000
END:DAYLIGHT
BEGIN:STANDARD
TZOFFSETFROM:+0200
TZOFFSETTO:+0100
TZNAME:CET
DTSTART:20181028T010000
END:STANDARD
BEGIN:DAYLIGHT
TZOFFSETFROM:+0100
TZOFFSETTO:+0200
TZNAME:CEST
DTSTART:20190331T010000
END:DAYLIGHT
BEGIN:STANDARD
TZOFFSETFROM:+0200
TZOFFSETTO:+0100
TZNAME:CET
DTSTART:20191027T010000
END:STANDARD
END:VTIMEZONE
BEGIN:VEVENT
DTSTART;VALUE=DATE:20181205
DTEND;VALUE=DATE:20181206
DTSTAMP:20260423T102953
CREATED:20180323T144835Z
LAST-MODIFIED:20180323T145054Z
UID:18812-1543968000-1544054399@primholstein.com
SUMMARY:Publications des index mâles et femelles génotypées
DESCRIPTION:
URL:https://primholstein.com/evenement/publications-des-index-males-et-femelles-genotypees-2/
END:VEVENT
BEGIN:VEVENT
DTSTART;VALUE=DATE:20181206
DTEND;VALUE=DATE:20181207
DTSTAMP:20260423T102953
CREATED:20181109T074803Z
LAST-MODIFIED:20181109T074835Z
UID:20038-1544054400-1544140799@primholstein.com
SUMMARY:Agrément Juge
DESCRIPTION:PHF organise un agrément juge le jeudi 6 décembre 2018 en Normandie. \nInscription auprès de Carmen Roncier : 02 41 37 66 60 – carmen.roncier@primholstein.com
URL:https://primholstein.com/evenement/agrement-juge/
END:VEVENT
BEGIN:VEVENT
DTSTART;VALUE=DATE:20181207
DTEND;VALUE=DATE:20181208
DTSTAMP:20260423T102953
CREATED:20180906T092239Z
LAST-MODIFIED:20180906T092239Z
UID:19675-1544140800-1544227199@primholstein.com
SUMMARY:Concours départemental de la Loire-Atlantique
DESCRIPTION:
URL:https://primholstein.com/evenement/concours-departemental-de-la-loire-atlantique-3/
LOCATION:Lycée Agricole Saint Clair Blain Derval\, 29 Rue de Rennes\, Derval\, 44590\, France
END:VEVENT
BEGIN:VEVENT
DTSTART;VALUE=DATE:20181212
DTEND;VALUE=DATE:20181213
DTSTAMP:20260423T102953
CREATED:20181126T074651Z
LAST-MODIFIED:20181126T074713Z
UID:20132-1544572800-1544659199@primholstein.com
SUMMARY:Assemblée Générale du syndicat de la Loire
DESCRIPTION:Le matin : \n\nRéunion en salle avec l’intervention de M. Jean Rambaud\, ancien vacher à la ferme de Boulieu quand les premières Holstein sont arrivées en France.\n\nL’après midi : \n\nVisite de l’exploitation de Christian Laleuf à Cordelle
URL:https://primholstein.com/evenement/assemblee-generale-du-syndicat-de-la-loire/
LOCATION:EARL LALEUF\, LE BESSY\, CORDELLE\, 42123\, France
END:VEVENT
END:VCALENDAR