BEGIN:VCALENDAR
VERSION:2.0
PRODID:-//Prim&#039;Holstein France - ECPv6.15.20//NONSGML v1.0//EN
CALSCALE:GREGORIAN
METHOD:PUBLISH
X-WR-CALNAME:Prim&#039;Holstein France
X-ORIGINAL-URL:https://primholstein.com
X-WR-CALDESC:Évènements pour Prim&#039;Holstein France
REFRESH-INTERVAL;VALUE=DURATION:PT1H
X-Robots-Tag:noindex
X-PUBLISHED-TTL:PT1H
BEGIN:VTIMEZONE
TZID:Europe/Paris
BEGIN:DAYLIGHT
TZOFFSETFROM:+0100
TZOFFSETTO:+0200
TZNAME:CEST
DTSTART:20170326T010000
END:DAYLIGHT
BEGIN:STANDARD
TZOFFSETFROM:+0200
TZOFFSETTO:+0100
TZNAME:CET
DTSTART:20171029T010000
END:STANDARD
BEGIN:DAYLIGHT
TZOFFSETFROM:+0100
TZOFFSETTO:+0200
TZNAME:CEST
DTSTART:20180325T010000
END:DAYLIGHT
BEGIN:STANDARD
TZOFFSETFROM:+0200
TZOFFSETTO:+0100
TZNAME:CET
DTSTART:20181028T010000
END:STANDARD
BEGIN:DAYLIGHT
TZOFFSETFROM:+0100
TZOFFSETTO:+0200
TZNAME:CEST
DTSTART:20190331T010000
END:DAYLIGHT
BEGIN:STANDARD
TZOFFSETFROM:+0200
TZOFFSETTO:+0100
TZNAME:CET
DTSTART:20191027T010000
END:STANDARD
END:VTIMEZONE
BEGIN:VEVENT
DTSTART;VALUE=DATE:20181105
DTEND;VALUE=DATE:20181106
DTSTAMP:20260423T114751
CREATED:20180920T062937Z
LAST-MODIFIED:20180920T062937Z
UID:19794-1541376000-1541462399@primholstein.com
SUMMARY:début concours La Vache de l'Année
DESCRIPTION:
URL:https://primholstein.com/evenement/debut-concours-la-vache-de-lannee/
END:VEVENT
BEGIN:VEVENT
DTSTART;VALUE=DATE:20181106
DTEND;VALUE=DATE:20181107
DTSTAMP:20260423T114751
CREATED:20180323T144903Z
LAST-MODIFIED:20180323T144927Z
UID:18813-1541462400-1541548799@primholstein.com
SUMMARY:Publications des index femelles
DESCRIPTION:
URL:https://primholstein.com/evenement/publications-des-index-femelles-2/
END:VEVENT
BEGIN:VEVENT
DTSTART;VALUE=DATE:20181110
DTEND;VALUE=DATE:20181111
DTSTAMP:20260423T114751
CREATED:20180919T070723Z
LAST-MODIFIED:20181105T081232Z
UID:19789-1541808000-1541894399@primholstein.com
SUMMARY:Concours départemental de la Mayenne
DESCRIPTION:Quelques informations sur le concours en cliquant sur l’image de la présentation en PDF (fichier à télécharger\, 777 ko)
URL:https://primholstein.com/evenement/concours-departemental-de-la-mayenne-3/
LOCATION:Parc des Expositions de Château-Gontier\, Château-Gontier\, 53200\, France
END:VEVENT
BEGIN:VEVENT
DTSTART;VALUE=DATE:20181116
DTEND;VALUE=DATE:20181119
DTSTAMP:20260423T114751
CREATED:20180912T073937Z
LAST-MODIFIED:20180920T132831Z
UID:19703-1542326400-1542585599@primholstein.com
SUMMARY:Ferme Expo Tours
DESCRIPTION:Le concours PH sera jugé par Laurent Dupuy\, éleveur du Cantal.
URL:https://primholstein.com/evenement/ferme-expo-tours/
LOCATION:Parc des Expositions de Tours\, Avenue Camille Chautemps\, Tours\, 37000\, France
END:VEVENT
BEGIN:VEVENT
DTSTART;VALUE=DATE:20181119
DTEND;VALUE=DATE:20181120
DTSTAMP:20260423T114751
CREATED:20180920T062958Z
LAST-MODIFIED:20180920T062958Z
UID:19795-1542585600-1542671999@primholstein.com
SUMMARY:fin concours La Vache de l'Année
DESCRIPTION:
URL:https://primholstein.com/evenement/fin-concours-la-vache-de-lannee/
END:VEVENT
BEGIN:VEVENT
DTSTART;VALUE=DATE:20181120
DTEND;VALUE=DATE:20181123
DTSTAMP:20260423T114751
CREATED:20180425T143922Z
LAST-MODIFIED:20180425T143933Z
UID:19097-1542672000-1542931199@primholstein.com
SUMMARY:Concours départemental de la Vendée
DESCRIPTION:Le concours aura lieu dans le cadre de la manifestation TechElevage
URL:https://primholstein.com/evenement/concours-departemental-de-la-vendee-2/
LOCATION:Parc des Expositions Les Oudairies de La Roche-sur-Yon\, Rue Giotto\, La Roche-sur-Yon\, 85000\, France
END:VEVENT
BEGIN:VEVENT
DTSTART;VALUE=DATE:20181122
DTEND;VALUE=DATE:20181123
DTSTAMP:20260423T114751
CREATED:20181106T105505Z
LAST-MODIFIED:20181106T105505Z
UID:20030-1542844800-1542931199@primholstein.com
SUMMARY:Journée à thème du syndicat aveyronnais
DESCRIPTION:Une journée à thème est organisée le 22 novembre sur l’utilisation des robot de traite. \nInscription auprès de Sandrine VIGUIE  (06 68 75 94 20) avant le 16 novembre 2018. \nPlus d’informations en cliquant sur l’image (fichier PDF à télécharger\, 1289 ko)
URL:https://primholstein.com/evenement/journee-a-theme-du-syndicat-aveyronnais/
LOCATION:Salle des Fêtes de Saint-Felix-d’Anglars\, Saint-Felix-d'Anglars\, 12390\, France
END:VEVENT
END:VCALENDAR