BEGIN:VCALENDAR
VERSION:2.0
PRODID:-//Prim&#039;Holstein France - ECPv6.15.20//NONSGML v1.0//EN
CALSCALE:GREGORIAN
METHOD:PUBLISH
X-WR-CALNAME:Prim&#039;Holstein France
X-ORIGINAL-URL:https://primholstein.com
X-WR-CALDESC:Évènements pour Prim&#039;Holstein France
REFRESH-INTERVAL;VALUE=DURATION:PT1H
X-Robots-Tag:noindex
X-PUBLISHED-TTL:PT1H
BEGIN:VTIMEZONE
TZID:Europe/Paris
BEGIN:DAYLIGHT
TZOFFSETFROM:+0100
TZOFFSETTO:+0200
TZNAME:CEST
DTSTART:20170326T010000
END:DAYLIGHT
BEGIN:STANDARD
TZOFFSETFROM:+0200
TZOFFSETTO:+0100
TZNAME:CET
DTSTART:20171029T010000
END:STANDARD
BEGIN:DAYLIGHT
TZOFFSETFROM:+0100
TZOFFSETTO:+0200
TZNAME:CEST
DTSTART:20180325T010000
END:DAYLIGHT
BEGIN:STANDARD
TZOFFSETFROM:+0200
TZOFFSETTO:+0100
TZNAME:CET
DTSTART:20181028T010000
END:STANDARD
BEGIN:DAYLIGHT
TZOFFSETFROM:+0100
TZOFFSETTO:+0200
TZNAME:CEST
DTSTART:20190331T010000
END:DAYLIGHT
BEGIN:STANDARD
TZOFFSETFROM:+0200
TZOFFSETTO:+0100
TZNAME:CET
DTSTART:20191027T010000
END:STANDARD
END:VTIMEZONE
BEGIN:VEVENT
DTSTART;VALUE=DATE:20180808
DTEND;VALUE=DATE:20180809
DTSTAMP:20260425T132015
CREATED:20180323T144801Z
LAST-MODIFIED:20180410T093502Z
UID:18811-1533686400-1533772799@primholstein.com
SUMMARY:Publications des index mâles et femelles génotypées
DESCRIPTION:
URL:https://primholstein.com/evenement/publications-des-index-males-et-femelles-genotypees/
END:VEVENT
BEGIN:VEVENT
DTSTART;VALUE=DATE:20180817
DTEND;VALUE=DATE:20180818
DTSTAMP:20260425T132015
CREATED:20180416T120538Z
LAST-MODIFIED:20180712T060501Z
UID:18994-1534464000-1534550399@primholstein.com
SUMMARY:Vente la Brasserie Holstein et Partenaires
DESCRIPTION:Communiqué des organisateurs : \nChers éleveurs\, \nNous avons le plaisir de vous présenter le catalogue de la vente de La Brasserie Holstein\, qui aura lieu le Vendredi 17 Août 2018 sur l’exploitation du GAEC Toullec à Plomelin. \nNous sommes fiers de vous proposer ce catalogue qui présente une offre très complète. Cette vente offre vraiment quelque chose pour tout le monde et cela dans toute la gamme des prix. \nNous croyons que chacun de ces lots peut être un ajout d’importance à votre programme de sélection et peut devenir un investissement qui va impacter votre troupeau dans les prochaines années. \nNous voulons remercier les éleveurs consignataires\, les bénévoles et les sponsors de cette vente\, qui ont permis de rendre cet évènement possible. \nNOUS ESPÉRONS VOUS VOIR LE 17 AOÛT DURANT LA VENTE DE LA BRASSERIE HOLSTEIN ! \nIl est possible de demander un catalogue\, en contactant un des organisateurs ou en nous envoyant un email à labrasserieholstein@gmx.fr \n\nLien vers le catalogue : https://issuu.com/labrasserieholstein/docs/catalogue-lb-201810-uff81\nLien vers le site web: https://labrasserieholstein.wixsite.com/labrasserieholstein\nLien vers Facebook: https://www.facebook.com/La-Brasserie-Holstein-1818046315180549/
URL:https://primholstein.com/evenement/vente-la-brasserie-holstein-et-partenaires/
LOCATION:la Brasserie Holstein et Partenaires\, Plomelin\, 29700\, France
END:VEVENT
BEGIN:VEVENT
DTSTART;VALUE=DATE:20180825
DTEND;VALUE=DATE:20180827
DTSTAMP:20260425T132015
CREATED:20180323T073441Z
LAST-MODIFIED:20180709T121408Z
UID:18794-1535155200-1535327999@primholstein.com
SUMMARY:Concours départemental de la Corrèze
DESCRIPTION:Concours\, dans le cadre du Festival de l’élevage\, jugé par Laurent Dupuy (15).
URL:https://primholstein.com/evenement/concours-departemental-de-la-correze-3/
LOCATION:Brive-la-gaillarde\, Brive-la-gaillarde\, 19100\, France
END:VEVENT
BEGIN:VEVENT
DTSTART;VALUE=DATE:20180825
DTEND;VALUE=DATE:20180827
DTSTAMP:20260425T132015
CREATED:20180627T140039Z
LAST-MODIFIED:20180803T140739Z
UID:19493-1535155200-1535327999@primholstein.com
SUMMARY:Terre Attitude 2018 - Concours National Génisses
DESCRIPTION:Le Concours National Génisses se tiendra dans le cadre de l’événement Terre Attitude organisé par les Jeunes Agriculteurs du 22. \nPour inscrire vos génisses au concours à partir du 28 juin c’est par ici\, (sélectionnez le nom du concours) : Les inscriptions sont terminées ! \nEnsuite\, vous devez impérativement saisir votre n° de cheptel et le numéro complet de votre génisse pour que l’inscription de chaque animal soit prise en compte (exemple : 66000000;FR6600000000). \nReglement-Terre-Attitude-2018 \nSur le plan d’admission : \n\nAnimaux âgés de 7 à 24 mois\nChaque éleveur ne pourra engager plus de 8 animaux par élevage\nLes inscriptions se font en ligne avant le 1er aout. Elles débuteront  le 28 juin\nLes animaux seront admis soit le samedi 25 de 7h30 à 10h00 ou le Dimanche 26 de 7H30 à 9h30\n\nSur le plan sanitaire : \n\nChaque éleveur devra envoyer le certificat sanitaire à son GDS de son département. Certificat à télécharger en cliquant ici\n\nSections : \n\nles sections seront faites selon l’âge des animaux est un nombre de 10 maximun par section\nPour terminer par les prix de championnat (junior\, intermédiaire\, senior\, championne suprême)\n\nAssurance : \n\nchaque éleveur sera responsable de ses animaux\n\nProgramme : \nSamedi 10h-19h (gratuit) : comice agricole\, Tracto Force\, Course de Tacteurs tondeuses cross\, Show Moiss Batt Cross. En soirée repas moules frites et Agri’Night \nDimanche 10h30 à 14h (entrée 2€) : Messe des laboureurs\, Concours National Génisses\, Concours Départemental de Labour\, Course Moiss Batt Cross\, Tracteurs Tondeuses cross\, challenge racto Force\, Baptême d’hélicoptère \n  \n  \n 
URL:https://primholstein.com/evenement/terre-attitude-2018-concours-national-genisses/
LOCATION:La Chèze\, La Chèze\, Plumaudan\, 22350\, France
ORGANIZER;CN="Gaec Costard":MAILTO:gaec.costard@orange.fr
END:VEVENT
BEGIN:VEVENT
DTSTART;VALUE=DATE:20180830
DTEND;VALUE=DATE:20180831
DTSTAMP:20260425T132015
CREATED:20180807T132649Z
LAST-MODIFIED:20180807T132649Z
UID:19592-1535587200-1535673599@primholstein.com
SUMMARY:Portes ouvertes PH 53
DESCRIPTION:La porte ouverte se tiendra au GAEC GARDANES sur la commune de Astille (53). \nPlus d’infos : http://www.web-agri.fr/conduite-elevage/genetique-race/article/reportage-au-gaec-gardanes-nouvelles-technologies-1175-138861.html \n 
URL:https://primholstein.com/evenement/portes-ouvertes-ph-53/
LOCATION:Gaec Gardanes\, La Brehiniere\, Astille\, 53230\, France
END:VEVENT
END:VCALENDAR