BEGIN:VCALENDAR
VERSION:2.0
PRODID:-//Prim&#039;Holstein France - ECPv6.15.20//NONSGML v1.0//EN
CALSCALE:GREGORIAN
METHOD:PUBLISH
X-WR-CALNAME:Prim&#039;Holstein France
X-ORIGINAL-URL:https://primholstein.com
X-WR-CALDESC:Évènements pour Prim&#039;Holstein France
REFRESH-INTERVAL;VALUE=DURATION:PT1H
X-Robots-Tag:noindex
X-PUBLISHED-TTL:PT1H
BEGIN:VTIMEZONE
TZID:Europe/Paris
BEGIN:DAYLIGHT
TZOFFSETFROM:+0100
TZOFFSETTO:+0200
TZNAME:CEST
DTSTART:20170326T010000
END:DAYLIGHT
BEGIN:STANDARD
TZOFFSETFROM:+0200
TZOFFSETTO:+0100
TZNAME:CET
DTSTART:20171029T010000
END:STANDARD
BEGIN:DAYLIGHT
TZOFFSETFROM:+0100
TZOFFSETTO:+0200
TZNAME:CEST
DTSTART:20180325T010000
END:DAYLIGHT
BEGIN:STANDARD
TZOFFSETFROM:+0200
TZOFFSETTO:+0100
TZNAME:CET
DTSTART:20181028T010000
END:STANDARD
BEGIN:DAYLIGHT
TZOFFSETFROM:+0100
TZOFFSETTO:+0200
TZNAME:CEST
DTSTART:20190331T010000
END:DAYLIGHT
BEGIN:STANDARD
TZOFFSETFROM:+0200
TZOFFSETTO:+0100
TZNAME:CET
DTSTART:20191027T010000
END:STANDARD
END:VTIMEZONE
BEGIN:VEVENT
DTSTART;VALUE=DATE:20180712
DTEND;VALUE=DATE:20180713
DTSTAMP:20260425T144748
CREATED:20180702T083501Z
LAST-MODIFIED:20180702T083501Z
UID:19517-1531353600-1531439999@primholstein.com
SUMMARY:Formation juge organisée par Holstiva
DESCRIPTION:La formation organisée par Holstiva se déroulera au Gaec Ruante Holstein sur la commune de Cardroc. \nRéservation auprès de Holstiva au 02 23 48 26 83 (prévoir le paiement du repas).
URL:https://primholstein.com/evenement/formation-juge-organisee-par-holstiva/
LOCATION:GAEC RUANTE HOLSTEIN\, RUANTE\, CARDROC\, 35190\, France
END:VEVENT
BEGIN:VEVENT
DTSTART;VALUE=DATE:20180729
DTEND;VALUE=DATE:20180730
DTSTAMP:20260425T144748
CREATED:20180607T074426Z
LAST-MODIFIED:20180716T092334Z
UID:19281-1532822400-1532908799@primholstein.com
SUMMARY:Concours départemental de Dordogne
DESCRIPTION:
URL:https://primholstein.com/evenement/concours-departemental-de-dordogne-3/
LOCATION:Beaumont-du-Périgord\, Beaumont-du-Périgord\, 24440\, France
END:VEVENT
END:VCALENDAR