BEGIN:VCALENDAR
VERSION:2.0
PRODID:-//Prim&#039;Holstein France - ECPv6.15.20//NONSGML v1.0//EN
CALSCALE:GREGORIAN
METHOD:PUBLISH
X-WR-CALNAME:Prim&#039;Holstein France
X-ORIGINAL-URL:https://primholstein.com
X-WR-CALDESC:Évènements pour Prim&#039;Holstein France
REFRESH-INTERVAL;VALUE=DURATION:PT1H
X-Robots-Tag:noindex
X-PUBLISHED-TTL:PT1H
BEGIN:VTIMEZONE
TZID:Europe/Paris
BEGIN:DAYLIGHT
TZOFFSETFROM:+0100
TZOFFSETTO:+0200
TZNAME:CEST
DTSTART:20170326T010000
END:DAYLIGHT
BEGIN:STANDARD
TZOFFSETFROM:+0200
TZOFFSETTO:+0100
TZNAME:CET
DTSTART:20171029T010000
END:STANDARD
BEGIN:DAYLIGHT
TZOFFSETFROM:+0100
TZOFFSETTO:+0200
TZNAME:CEST
DTSTART:20180325T010000
END:DAYLIGHT
BEGIN:STANDARD
TZOFFSETFROM:+0200
TZOFFSETTO:+0100
TZNAME:CET
DTSTART:20181028T010000
END:STANDARD
BEGIN:DAYLIGHT
TZOFFSETFROM:+0100
TZOFFSETTO:+0200
TZNAME:CEST
DTSTART:20190331T010000
END:DAYLIGHT
BEGIN:STANDARD
TZOFFSETFROM:+0200
TZOFFSETTO:+0100
TZNAME:CET
DTSTART:20191027T010000
END:STANDARD
END:VTIMEZONE
BEGIN:VEVENT
DTSTART;VALUE=DATE:20180402
DTEND;VALUE=DATE:20180403
DTSTAMP:20260425T185025
CREATED:20171208T122335Z
LAST-MODIFIED:20180301T092645Z
UID:18191-1522627200-1522713599@primholstein.com
SUMMARY:Concours départemental 71
DESCRIPTION:Le juge du concours sera Etienne Adam (70). \nLien facebook du concours : https://www.facebook.com/fetedulaitenbresse/ \nPlus d’informations sur le fichier à télécharger en cliquant sur l’image (env 1700ko) :
URL:https://primholstein.com/evenement/concours-departemental-71/
END:VEVENT
BEGIN:VEVENT
DTSTART;VALUE=DATE:20180402
DTEND;VALUE=DATE:20180403
DTSTAMP:20260425T185025
CREATED:20180103T143734Z
LAST-MODIFIED:20180306T180144Z
UID:18276-1522627200-1522713599@primholstein.com
SUMMARY:Concours interdépartemental 26-07-38
DESCRIPTION:6ème édition du Concours Interdépartemental d’Hauterives Drôme Ardèche Isère qui se déroulera le 2 Avril 2018. \nConcours jugé par Franck Delagnes (12) \nSeront présents plus de quarante éleveurs exposants et 80 animaux de race Prim Holstein et Montbéliarde.
URL:https://primholstein.com/evenement/concours-interdepartemental-26-07-38/
LOCATION:Hauterives\, Hauterives\, 26390\, France
END:VEVENT
BEGIN:VEVENT
DTSTART;VALUE=DATE:20180402
DTEND;VALUE=DATE:20180403
DTSTAMP:20260425T185025
CREATED:20180314T140538Z
LAST-MODIFIED:20180330T065836Z
UID:18601-1522627200-1522713599@primholstein.com
SUMMARY:Concours interdépartemental 60-80
DESCRIPTION:Concours jugé par Florent Chapon.
URL:https://primholstein.com/evenement/concours-interdepartemental-60-80/
LOCATION:Montdidier\, Montdidier\, 80500\, France
END:VEVENT
BEGIN:VEVENT
DTSTART;VALUE=DATE:20180405
DTEND;VALUE=DATE:20180406
DTSTAMP:20260425T185025
CREATED:20180104T130734Z
LAST-MODIFIED:20180104T130734Z
UID:18295-1522886400-1522972799@primholstein.com
SUMMARY:Assemblée Générale du syndicat 44
DESCRIPTION:
URL:https://primholstein.com/evenement/assemblee-generale-du-syndicat-44/
END:VEVENT
BEGIN:VEVENT
DTSTART;VALUE=DATE:20180407
DTEND;VALUE=DATE:20180408
DTSTAMP:20260425T185025
CREATED:20180228T130426Z
LAST-MODIFIED:20180302T082300Z
UID:18553-1523059200-1523145599@primholstein.com
SUMMARY:Concours Miss Cantal
DESCRIPTION:
URL:https://primholstein.com/evenement/concours-miss-cantal/
LOCATION:Valuéjols\, Valuéjols\, 15300
END:VEVENT
BEGIN:VEVENT
DTSTART;VALUE=DATE:20180407
DTEND;VALUE=DATE:20180408
DTSTAMP:20260425T185025
CREATED:20180326T073037Z
LAST-MODIFIED:20180326T073037Z
UID:18825-1523059200-1523145599@primholstein.com
SUMMARY:Concours départemental du Tarn
DESCRIPTION:
URL:https://primholstein.com/evenement/concours-departemental-du-tarn/
LOCATION:Réalmont\, Réalmont\, 81120\, France
END:VEVENT
BEGIN:VEVENT
DTSTART;VALUE=DATE:20180408
DTEND;VALUE=DATE:20180409
DTSTAMP:20260425T185025
CREATED:20180108T101413Z
LAST-MODIFIED:20180330T065752Z
UID:18321-1523145600-1523231999@primholstein.com
SUMMARY:Concours départemental du Pas-de-Calais
DESCRIPTION:Concours jugé par Guillaume Crepet.
URL:https://primholstein.com/evenement/concours-departemental-du-pas-de-calais-2/
LOCATION:Radinghem\, Radinghem\, 62310\, France
END:VEVENT
BEGIN:VEVENT
DTSTART;VALUE=DATE:20180410
DTEND;VALUE=DATE:20180411
DTSTAMP:20260425T185025
CREATED:20180301T104241Z
LAST-MODIFIED:20180302T072510Z
UID:18562-1523318400-1523404799@primholstein.com
SUMMARY:Assemblée Générale du syndicat 21
DESCRIPTION:Intervenant : \n\nLoïc Doudeau\, technicien PHF\, sur le service éCow et l’application des boiteries
URL:https://primholstein.com/evenement/assemblee-generale-du-syndicat-21-2/
LOCATION:EARL DU CHANOY\, RUE HAUTE DU CHANOY\, SAINT SEINE SUR VINGEANNE\, 21610\, France
END:VEVENT
BEGIN:VEVENT
DTSTART;VALUE=DATE:20180411
DTEND;VALUE=DATE:20180412
DTSTAMP:20260425T185025
CREATED:20180226T105710Z
LAST-MODIFIED:20180226T105918Z
UID:18548-1523404800-1523491199@primholstein.com
SUMMARY:Vente totale de troupeau dans la Loire
DESCRIPTION:Vente totale de troupeau : \n\n50 vaches\n50 génisses tous âges\n\nVente à partir de 13h30\, animaux visibles à partir de 11h30. \nPlus d’information sur le fichier à télécharger (700 ko) : Vente totale de troupeau Gaec de la Sagne
URL:https://primholstein.com/evenement/vente-totale-de-troupeau-dans-la-loire-2/
LOCATION:GAEC DE LA SAGNE\, 136 Chemin de la Sagne\, Champdieu\, 42600\, France
END:VEVENT
BEGIN:VEVENT
DTSTART;VALUE=DATE:20180414
DTEND;VALUE=DATE:20180415
DTSTAMP:20260425T185025
CREATED:20180326T072941Z
LAST-MODIFIED:20180326T072941Z
UID:18823-1523664000-1523750399@primholstein.com
SUMMARY:Concours départemental de la Lozère
DESCRIPTION:
URL:https://primholstein.com/evenement/concours-departemental-de-la-lozere/
LOCATION:Aumont-Aubrac\, Aumont-Aubrac\, 48130\, France
END:VEVENT
BEGIN:VEVENT
DTSTART;VALUE=DATE:20180421
DTEND;VALUE=DATE:20180422
DTSTAMP:20260425T185025
CREATED:20180124T074008Z
LAST-MODIFIED:20180124T074008Z
UID:18386-1524268800-1524355199@primholstein.com
SUMMARY:Concours interdépartemental 16-87
DESCRIPTION:
URL:https://primholstein.com/evenement/concours-interdepartemental-16-87-2/
LOCATION:Chabanais\, Chabanais\, 16150\, France
END:VEVENT
BEGIN:VEVENT
DTSTART;VALUE=DATE:20180421
DTEND;VALUE=DATE:20180422
DTSTAMP:20260425T185025
CREATED:20180316T150753Z
LAST-MODIFIED:20180316T150846Z
UID:18700-1524268800-1524355199@primholstein.com
SUMMARY:concours départemental Haute-Marne
DESCRIPTION:Concours de 10h00 à 16h30 dans le cadre du Festival du lait.
URL:https://primholstein.com/evenement/concours-departemental-haute-marne/
LOCATION:Lycée Agricole de Chaumont\, Pôle d’enseignement Edgard Pisani\, rue du Lycée\, Chamarandes-Choignes\, 52000\, France
END:VEVENT
BEGIN:VEVENT
DTSTART;VALUE=DATE:20180427
DTEND;VALUE=DATE:20180429
DTSTAMP:20260425T185025
CREATED:20171220T080903Z
LAST-MODIFIED:20171221T123638Z
UID:18211-1524787200-1524959999@primholstein.com
SUMMARY:concours départemental du syndicat 88
DESCRIPTION:Le juge du concours sera Jean-Baptiste Decheppe (55).
URL:https://primholstein.com/evenement/concours-departemental-des-vosges/
LOCATION:Neufchâteau\, Neufchâteau\, 88300\, France
END:VEVENT
END:VCALENDAR