BEGIN:VCALENDAR
VERSION:2.0
PRODID:-//Prim&#039;Holstein France - ECPv6.15.20//NONSGML v1.0//EN
CALSCALE:GREGORIAN
METHOD:PUBLISH
X-ORIGINAL-URL:https://primholstein.com
X-WR-CALDESC:Évènements pour Prim&#039;Holstein France
REFRESH-INTERVAL;VALUE=DURATION:PT1H
X-Robots-Tag:noindex
X-PUBLISHED-TTL:PT1H
BEGIN:VTIMEZONE
TZID:Europe/Paris
BEGIN:DAYLIGHT
TZOFFSETFROM:+0100
TZOFFSETTO:+0200
TZNAME:CEST
DTSTART:20170326T010000
END:DAYLIGHT
BEGIN:STANDARD
TZOFFSETFROM:+0200
TZOFFSETTO:+0100
TZNAME:CET
DTSTART:20171029T010000
END:STANDARD
BEGIN:DAYLIGHT
TZOFFSETFROM:+0100
TZOFFSETTO:+0200
TZNAME:CEST
DTSTART:20180325T010000
END:DAYLIGHT
BEGIN:STANDARD
TZOFFSETFROM:+0200
TZOFFSETTO:+0100
TZNAME:CET
DTSTART:20181028T010000
END:STANDARD
BEGIN:DAYLIGHT
TZOFFSETFROM:+0100
TZOFFSETTO:+0200
TZNAME:CEST
DTSTART:20190331T010000
END:DAYLIGHT
BEGIN:STANDARD
TZOFFSETFROM:+0200
TZOFFSETTO:+0100
TZNAME:CET
DTSTART:20191027T010000
END:STANDARD
END:VTIMEZONE
BEGIN:VEVENT
DTSTART;VALUE=DATE:20180201
DTEND;VALUE=DATE:20180202
DTSTAMP:20260425T214510
CREATED:20180108T121515Z
LAST-MODIFIED:20180119T132823Z
UID:18324-1517443200-1517529599@primholstein.com
SUMMARY:Assemblée Générale du syndicat 24
DESCRIPTION:
URL:https://primholstein.com/evenement/assemblee-generale-du-syndicat-24-2/
LOCATION:Gaec du Grand Mayne\, Le Grand Mayne\, Beaumont-du-Périgord\, 24440\, France
END:VEVENT
BEGIN:VEVENT
DTSTART;VALUE=DATE:20180207
DTEND;VALUE=DATE:20180208
DTSTAMP:20260425T214510
CREATED:20180129T110839Z
LAST-MODIFIED:20180129T110839Z
UID:18398-1517961600-1518047999@primholstein.com
SUMMARY:Assemblée Générale du syndicat 64
DESCRIPTION:
URL:https://primholstein.com/evenement/assemblee-generale-du-syndicat-64/
END:VEVENT
BEGIN:VEVENT
DTSTART;VALUE=DATE:20180208
DTEND;VALUE=DATE:20180209
DTSTAMP:20260425T214510
CREATED:20180122T074242Z
LAST-MODIFIED:20180122T074242Z
UID:18367-1518048000-1518134399@primholstein.com
SUMMARY:Assemblée Générale du syndicat 81
DESCRIPTION:
URL:https://primholstein.com/evenement/assemblee-generale-du-syndicat-81-2/
END:VEVENT
BEGIN:VEVENT
DTSTART;VALUE=DATE:20180213
DTEND;VALUE=DATE:20180214
DTSTAMP:20260425T214510
CREATED:20180109T121434Z
LAST-MODIFIED:20180109T121434Z
UID:18330-1518480000-1518566399@primholstein.com
SUMMARY:Assemblée Générale du syndicat 69
DESCRIPTION:matin à partir de 10 heures : réunion statutaire à la MFR de Saint-Laurent-de-Chamousset. \naprès-midi : Visite du GAEC GRANJARD EMMANUELLE ET OLIVIER sur la commune de Villecheneve.
URL:https://primholstein.com/evenement/assemblee-generale-du-syndicat-69/
LOCATION:GAEC GRANJARD EMMANUELLE ET OLIVIER\, LE ZALERY HAUT\, VILLECHENEVE\, 69770\, France
END:VEVENT
BEGIN:VEVENT
DTSTART;VALUE=DATE:20180214
DTEND;VALUE=DATE:20180215
DTSTAMP:20260425T214510
CREATED:20180122T074131Z
LAST-MODIFIED:20180123T072541Z
UID:18365-1518566400-1518652799@primholstein.com
SUMMARY:Assemblée Générale du syndicat 38
DESCRIPTION:Réunion statutaire le mercredi 14 février à 10 heures à la salle de réunion au-dessus de la Mairie de ST-DIDIER-DE-LA-TOUR. \nOrdre du jour : \n– Tour d’horizon de l’année écoulée\n– Présentation des comptes\, renouvellement des administrateurs\n– Présentation des résultats du Contrôle Laitier\, Prim Holstein France\n– Dates à retenir pour 2018\n– En introduction de la visite de l’après-midi nous aurons une intervention de Laurent LACHAT du GAEC de la Combe dans la Loire\, éleveur bio depuis 2001.\n– Questions diverses\n– Remise de diplômes pour les meilleures laitières (vaches à plus de 80 000 kg de lait)\n– tirage au sort d’une tombola gratuite à l’issue de la réunion \nUn repas sera pris en commun à l’issue de la réunion aux terrasses du lac à St Didier de la Tour. (À la charge de chaque participant) \nL’après-midi\, visite de l’élevage de la Cassole chez Frédéric Jacquet.
URL:https://primholstein.com/evenement/assemblee-generale-du-syndicat-38-2/
LOCATION:Jaquet Frédéric\, 30 Chemin de la Cassole\, Saint-Didier-de-la-Tour\, 38110\, France
END:VEVENT
BEGIN:VEVENT
DTSTART;VALUE=DATE:20180214
DTEND;VALUE=DATE:20180215
DTSTAMP:20260425T214510
CREATED:20180123T102952Z
LAST-MODIFIED:20180123T102952Z
UID:18378-1518566400-1518652799@primholstein.com
SUMMARY:Assemblée Générale du syndicat 63
DESCRIPTION:
URL:https://primholstein.com/evenement/assemblee-generale-du-syndicat-63-2/
LOCATION:Gaec Boyer\, Plantades\, Avèze\, 63690\, France
END:VEVENT
BEGIN:VEVENT
DTSTART;VALUE=DATE:20180214
DTEND;VALUE=DATE:20180216
DTSTAMP:20260425T214510
CREATED:20180124T073736Z
LAST-MODIFIED:20180201T073840Z
UID:18384-1518566400-1518739199@primholstein.com
SUMMARY:Assemblée Générale du syndicat 27
DESCRIPTION:Réunion à 10h30 au Restaurant de la Poste\, 12 rue de Verdun à Damville. \nProgramme : \n\nAssemblée générale statutaire\nPrésentation des évolutions passées et à venir de la Prim’Holstein par Jean Paul METTE\, technicien Prim’Holstein France\n13 h 00 : Déjeuner au Restaurant de la Poste\n14 h 30 : Visite de la SCEA de la Voie Lactée à Corneuil\, 2 rue Jean Moulin
URL:https://primholstein.com/evenement/assemblee-generale-du-syndicat-27-2/
LOCATION:SCEA de la Voie Lactée\, 2 rue Jean Moulin\, Corneuil\, 27240\, France
END:VEVENT
BEGIN:VEVENT
DTSTART;VALUE=DATE:20180215
DTEND;VALUE=DATE:20180216
DTSTAMP:20260425T214510
CREATED:20171215T152622Z
LAST-MODIFIED:20171215T153053Z
UID:18193-1518652800-1518739199@primholstein.com
SUMMARY:Assemblée Générale du syndicat 43
DESCRIPTION:2 visites d’élevage sont organisées dans le Rhône : \n\nle matin : Gaec de la Villonnière sur la commune de Sainte-Catherine (69440)\nl’après-midi : Gaec du Marjon sur la commune de Soucieu-en-Jarrest.
URL:https://primholstein.com/evenement/assemblee-generale-du-syndicat-43/
END:VEVENT
BEGIN:VEVENT
DTSTART;VALUE=DATE:20180215
DTEND;VALUE=DATE:20180216
DTSTAMP:20260425T214510
CREATED:20180124T073608Z
LAST-MODIFIED:20180201T072354Z
UID:18382-1518652800-1518739199@primholstein.com
SUMMARY:Assemblée Générale du syndicat 22
DESCRIPTION:Réunion à 10h30 à la salle des fêtes de GLOMEL \nAprès-midi  : visite de l’élevage GAEC DE KERBLOUZE sur la même commune.
URL:https://primholstein.com/evenement/assemblee-generale-du-syndicat-22/
LOCATION:Glomel\, Glomel\, 22110\, France
END:VEVENT
BEGIN:VEVENT
DTSTART;VALUE=DATE:20180215
DTEND;VALUE=DATE:20180216
DTSTAMP:20260425T214510
CREATED:20180131T080525Z
LAST-MODIFIED:20180131T080525Z
UID:18402-1518652800-1518739199@primholstein.com
SUMMARY:Assemblée Générale du syndicat 53
DESCRIPTION:Réunion à partir de 10 heures à la salle communale d’Origné.
URL:https://primholstein.com/evenement/assemblee-generale-du-syndicat-53/
LOCATION:Origné\, Origné\, 53360\, France
END:VEVENT
BEGIN:VEVENT
DTSTART;VALUE=DATE:20180221
DTEND;VALUE=DATE:20180222
DTSTAMP:20260425T214510
CREATED:20180124T073802Z
LAST-MODIFIED:20180205T094623Z
UID:18385-1519171200-1519257599@primholstein.com
SUMMARY:Assemblée Générale du syndicat 76
DESCRIPTION:10h : assemblée statutaire à la Salle des fêtes de Bosc-Bordel \nAprès-midi : visite de l’Earl du Bosc \ninscription avant le 16 février 2018 : détails et coupon-réponse à remplir ici \n 
URL:https://primholstein.com/evenement/assemblee-generale-du-syndicat-76/
LOCATION:EARL DU BOSC\, 11 RUE DE L'EGLISE\, Bosc-Roger-sur-Buchy\, 76750\, France
END:VEVENT
BEGIN:VEVENT
DTSTART;VALUE=DATE:20180221
DTEND;VALUE=DATE:20180222
DTSTAMP:20260425T214510
CREATED:20180125T074614Z
LAST-MODIFIED:20180125T074614Z
UID:18388-1519171200-1519257599@primholstein.com
SUMMARY:Assemblée Générale du syndicat 74
DESCRIPTION:La réunion statutaire se déroulera le matin à Desingy. \nL’après-midi permettra la visite de l’élevage de Guillaume Gandelin\, le Gaec de Clennaz\, sur la même commune.
URL:https://primholstein.com/evenement/assemblee-generale-du-syndicat-74-2/
LOCATION:GAEC DE CLENNAZ\, 92 CHEMIN DE MARTELAN\, DESINGY\, 74270\, France
END:VEVENT
BEGIN:VEVENT
DTSTART;VALUE=DATE:20180222
DTEND;VALUE=DATE:20180223
DTSTAMP:20260425T214510
CREATED:20180122T074308Z
LAST-MODIFIED:20180122T074308Z
UID:18368-1519257600-1519343999@primholstein.com
SUMMARY:Assemblée Générale du syndicat 12
DESCRIPTION:
URL:https://primholstein.com/evenement/assemblee-generale-du-syndicat-12-2/
END:VEVENT
BEGIN:VEVENT
DTSTART;VALUE=DATE:20180224
DTEND;VALUE=DATE:20180305
DTSTAMP:20260425T214510
CREATED:20170710T144408Z
LAST-MODIFIED:20170710T144408Z
UID:17336-1519430400-1520207999@primholstein.com
SUMMARY:Salon de l'Agriculture 2018
DESCRIPTION:
URL:https://primholstein.com/evenement/salon-de-lagriculture-2018/
LOCATION:Parc des Expositions de Paris Porte de Versailles\, 1\, place de la Porte de Versailles\, Paris\, 75015\, France
END:VEVENT
BEGIN:VEVENT
DTSTART;VALUE=DATE:20180226
DTEND;VALUE=DATE:20180227
DTSTAMP:20260425T214510
CREATED:20170710T144531Z
LAST-MODIFIED:20170710T144531Z
UID:17337-1519603200-1519689599@primholstein.com
SUMMARY:CGA 2018 Paris
DESCRIPTION:Dans le cadre du Salon de l’Agriculture\, 115 prim’holstein en compétition Porte de Versailles à Paris.
URL:https://primholstein.com/evenement/cga-2018-paris/
LOCATION:Parc des Expositions de Paris Porte de Versailles\, 1\, place de la Porte de Versailles\, Paris\, 75015\, France
END:VEVENT
END:VCALENDAR