BEGIN:VCALENDAR
VERSION:2.0
PRODID:-//Prim&#039;Holstein France - ECPv6.15.20//NONSGML v1.0//EN
CALSCALE:GREGORIAN
METHOD:PUBLISH
X-ORIGINAL-URL:https://primholstein.com
X-WR-CALDESC:Évènements pour Prim&#039;Holstein France
REFRESH-INTERVAL;VALUE=DURATION:PT1H
X-Robots-Tag:noindex
X-PUBLISHED-TTL:PT1H
BEGIN:VTIMEZONE
TZID:Europe/Paris
BEGIN:DAYLIGHT
TZOFFSETFROM:+0100
TZOFFSETTO:+0200
TZNAME:CEST
DTSTART:20170326T010000
END:DAYLIGHT
BEGIN:STANDARD
TZOFFSETFROM:+0200
TZOFFSETTO:+0100
TZNAME:CET
DTSTART:20171029T010000
END:STANDARD
BEGIN:DAYLIGHT
TZOFFSETFROM:+0100
TZOFFSETTO:+0200
TZNAME:CEST
DTSTART:20180325T010000
END:DAYLIGHT
BEGIN:STANDARD
TZOFFSETFROM:+0200
TZOFFSETTO:+0100
TZNAME:CET
DTSTART:20181028T010000
END:STANDARD
BEGIN:DAYLIGHT
TZOFFSETFROM:+0100
TZOFFSETTO:+0200
TZNAME:CEST
DTSTART:20190331T010000
END:DAYLIGHT
BEGIN:STANDARD
TZOFFSETFROM:+0200
TZOFFSETTO:+0100
TZNAME:CET
DTSTART:20191027T010000
END:STANDARD
END:VTIMEZONE
BEGIN:VEVENT
DTSTART;VALUE=DATE:20180110
DTEND;VALUE=DATE:20180114
DTSTAMP:20260425T231734
CREATED:20171221T122407Z
LAST-MODIFIED:20171221T122644Z
UID:18216-1515542400-1515887999@primholstein.com
SUMMARY:Swiss Expo Lausanne
DESCRIPTION:Concours Red Holstein et Holstein les vendredi 12 et samedi 13 janvier 2018.
URL:https://primholstein.com/evenement/swiss-expo-lausanne/
END:VEVENT
BEGIN:VEVENT
DTSTART;VALUE=DATE:20180116
DTEND;VALUE=DATE:20180117
DTSTAMP:20260425T231734
CREATED:20180103T142647Z
LAST-MODIFIED:20180103T142647Z
UID:18272-1516060800-1516147199@primholstein.com
SUMMARY:Assemblée de secteur en région Sud-Ouest
DESCRIPTION:L’Assemblée du secteur de la région Sud-Ouest se déroulera au Gaec de l’Aulouze à Denguin (64230). L’exploitation compte 154 animaux. \nThème abordé : Les principes fondamentaux pour tendre vers une très bonne productivité laitière. \nDéroulement de la journée : \n\nA partir de 10h15 : visite du GAEC DE L’AULOUZE\, 56 route du Hameau à 64230 DENGUIN\ndéjeuner en commun au restaurant «Au Sergent»\, 6 route de Bayonne à Denguin SUR RESERVATION\nA partir de 14h00 : réunion dans les locaux de la SCA SORELIS\, Domaine Sensacq – 64230 DENGUIN\n\nContact / Réservation : \nContactez rapidement Pascale au 02 41 37 66 66 ou par mail à info@primholstein.com \nUne participation de 12€/pers vous sera demandée pour déjeuner le midi avec l’ensemble des participants.
URL:https://primholstein.com/evenement/assemblee-de-secteur-en-region-sud-ouest/
LOCATION:Gaec de l’Aulouze\, 56 Route du Hameau\, Denguin\, 64230\, France
END:VEVENT
BEGIN:VEVENT
DTSTART;VALUE=DATE:20180117
DTEND;VALUE=DATE:20180118
DTSTAMP:20260425T231734
CREATED:20180103T143156Z
LAST-MODIFIED:20180103T143156Z
UID:18274-1516147200-1516233599@primholstein.com
SUMMARY:Assemblée de secteur du Massif Central
DESCRIPTION:L’Assemblée du secteur de la région Massif Central se déroulera au Gaec de la Poujade à Rignac (12390). L’exploitation compte 55 animaux. \nThème abordé : la PRIM’HOLSTEIN\, un animal adapté à la production BIO. \nDéroulement de la journée : \n\nA partir de 10h15 : visite du GAEC DE LA POUJADE\, La Poujade\, 12390 RIGNAC ;\nDéjeuner en commun à la salle communale de St Félix\, à Anglars-St-Félix SUR RESERVATION ;\nA partir de 14h00 : réunion à la salle communale de St Félix\, à Anglars-St-Félix.\n\nContact / Réservation : \nContactez rapidement Pascale au 02 41 37 66 66 ou par mail à info@primholstein.com \nUne participation de 12€/pers vous sera demandée pour déjeuner le midi avec l’ensemble des participants.
URL:https://primholstein.com/evenement/assemblee-de-secteur-du-massif-central/
LOCATION:Gaec de la Poujade\, La Poujade\, RIGNAC\, 12390\, France
END:VEVENT
BEGIN:VEVENT
DTSTART;VALUE=DATE:20180131
DTEND;VALUE=DATE:20180201
DTSTAMP:20260425T231734
CREATED:20180129T110523Z
LAST-MODIFIED:20180129T110523Z
UID:18396-1517356800-1517443199@primholstein.com
SUMMARY:Assemblée Générale du syndicat Pyrégers 32-65
DESCRIPTION:Visite de l’Earl de Banos dans les Landes.
URL:https://primholstein.com/evenement/assemblee-generale-du-syndicat-pyregers-32-65/
LOCATION:EARL DE BANOS\, 645 CHEMIN DE BANOS\, BEGAAR\, 40400\, France
END:VEVENT
END:VCALENDAR