BEGIN:VCALENDAR
VERSION:2.0
PRODID:-//Prim&#039;Holstein France - ECPv6.15.20//NONSGML v1.0//EN
CALSCALE:GREGORIAN
METHOD:PUBLISH
X-WR-CALNAME:Prim&#039;Holstein France
X-ORIGINAL-URL:https://primholstein.com
X-WR-CALDESC:Évènements pour Prim&#039;Holstein France
REFRESH-INTERVAL;VALUE=DURATION:PT1H
X-Robots-Tag:noindex
X-PUBLISHED-TTL:PT1H
BEGIN:VTIMEZONE
TZID:Europe/Paris
BEGIN:DAYLIGHT
TZOFFSETFROM:+0100
TZOFFSETTO:+0200
TZNAME:CEST
DTSTART:20160327T010000
END:DAYLIGHT
BEGIN:STANDARD
TZOFFSETFROM:+0200
TZOFFSETTO:+0100
TZNAME:CET
DTSTART:20161030T010000
END:STANDARD
BEGIN:DAYLIGHT
TZOFFSETFROM:+0100
TZOFFSETTO:+0200
TZNAME:CEST
DTSTART:20170326T010000
END:DAYLIGHT
BEGIN:STANDARD
TZOFFSETFROM:+0200
TZOFFSETTO:+0100
TZNAME:CET
DTSTART:20171029T010000
END:STANDARD
BEGIN:DAYLIGHT
TZOFFSETFROM:+0100
TZOFFSETTO:+0200
TZNAME:CEST
DTSTART:20180325T010000
END:DAYLIGHT
BEGIN:STANDARD
TZOFFSETFROM:+0200
TZOFFSETTO:+0100
TZNAME:CET
DTSTART:20181028T010000
END:STANDARD
END:VTIMEZONE
BEGIN:VEVENT
DTSTART;VALUE=DATE:20171111
DTEND;VALUE=DATE:20171112
DTSTAMP:20260426T015903
CREATED:20170330T080437Z
LAST-MODIFIED:20171020T134949Z
UID:16745-1510358400-1510444799@primholstein.com
SUMMARY:Concours départemental de la Mayenne
DESCRIPTION:Plus d’informations sur la plaquette à télécharger (486 ko)
URL:https://primholstein.com/evenement/concours-departemental-de-la-mayenne-2/
LOCATION:Mayenne\, Mayenne\, 53100
END:VEVENT
BEGIN:VEVENT
DTSTART;VALUE=DATE:20171111
DTEND;VALUE=DATE:20171112
DTSTAMP:20260426T015903
CREATED:20170628T074823Z
LAST-MODIFIED:20171026T063950Z
UID:17263-1510358400-1510444799@primholstein.com
SUMMARY:Concours interrégional Poitou-Charentes
DESCRIPTION:Le département de la Haute-Vienne est invité.
URL:https://primholstein.com/evenement/concours-regional-poitou-charentes/
LOCATION:Parc des Expositions de Poitiers\, 11 Rue Salvador Allende\, Poitiers\, 86000
END:VEVENT
BEGIN:VEVENT
DTSTART;VALUE=DATE:20171117
DTEND;VALUE=DATE:20171120
DTSTAMP:20260426T015903
CREATED:20170727T093255Z
LAST-MODIFIED:20170727T093255Z
UID:17372-1510876800-1511135999@primholstein.com
SUMMARY:Ferme Expo Tours 2017
DESCRIPTION:
URL:https://primholstein.com/evenement/ferme-expo-tours-2017/
LOCATION:Parc des Expositions de Tours\, Avenue Camille Chautemps\, Tours\, 37000\, France
END:VEVENT
BEGIN:VEVENT
DTSTART;VALUE=DATE:20171117
DTEND;VALUE=DATE:20171120
DTSTAMP:20260426T015903
CREATED:20170831T132338Z
LAST-MODIFIED:20170925T093934Z
UID:17469-1510876800-1511135999@primholstein.com
SUMMARY:Concours régional du Centre
DESCRIPTION:Le juge du concours sera Jean-Philippe Duchange (61).
URL:https://primholstein.com/evenement/concours-regional-du-centre-2/
LOCATION:Tours\, Tours\, 37000\, France
END:VEVENT
BEGIN:VEVENT
DTSTART;VALUE=DATE:20171121
DTEND;VALUE=DATE:20171123
DTSTAMP:20260426T015903
CREATED:20170320T131437Z
LAST-MODIFIED:20171108T124830Z
UID:16625-1511222400-1511395199@primholstein.com
SUMMARY:concours régional des Pays-de-la-Loire
DESCRIPTION:Le juge du concours sera Pierre Creppe (Belgique).
URL:https://primholstein.com/evenement/concours-regional-des-pays-de-la-loire/
LOCATION:La-Roche-sur-Yon\, La-Roche-sur-Yon\, 85000\, France
END:VEVENT
END:VCALENDAR