BEGIN:VCALENDAR
VERSION:2.0
PRODID:-//Prim&#039;Holstein France - ECPv6.15.20//NONSGML v1.0//EN
CALSCALE:GREGORIAN
METHOD:PUBLISH
X-WR-CALNAME:Prim&#039;Holstein France
X-ORIGINAL-URL:https://primholstein.com
X-WR-CALDESC:Évènements pour Prim&#039;Holstein France
REFRESH-INTERVAL;VALUE=DURATION:PT1H
X-Robots-Tag:noindex
X-PUBLISHED-TTL:PT1H
BEGIN:VTIMEZONE
TZID:Europe/Paris
BEGIN:DAYLIGHT
TZOFFSETFROM:+0100
TZOFFSETTO:+0200
TZNAME:CEST
DTSTART:20160327T010000
END:DAYLIGHT
BEGIN:STANDARD
TZOFFSETFROM:+0200
TZOFFSETTO:+0100
TZNAME:CET
DTSTART:20161030T010000
END:STANDARD
BEGIN:DAYLIGHT
TZOFFSETFROM:+0100
TZOFFSETTO:+0200
TZNAME:CEST
DTSTART:20170326T010000
END:DAYLIGHT
BEGIN:STANDARD
TZOFFSETFROM:+0200
TZOFFSETTO:+0100
TZNAME:CET
DTSTART:20171029T010000
END:STANDARD
BEGIN:DAYLIGHT
TZOFFSETFROM:+0100
TZOFFSETTO:+0200
TZNAME:CEST
DTSTART:20180325T010000
END:DAYLIGHT
BEGIN:STANDARD
TZOFFSETFROM:+0200
TZOFFSETTO:+0100
TZNAME:CET
DTSTART:20181028T010000
END:STANDARD
END:VTIMEZONE
BEGIN:VEVENT
DTSTART;VALUE=DATE:20170819
DTEND;VALUE=DATE:20170821
DTSTAMP:20260426T060553
CREATED:20170327T081606Z
LAST-MODIFIED:20170327T081642Z
UID:16675-1503100800-1503273599@primholstein.com
SUMMARY:Concours départemental du Cantal
DESCRIPTION:Le concours sera jugé par Joël Vignes des Hautes-Pyrénées.
URL:https://primholstein.com/evenement/concours-departemental-du-cantal/
LOCATION:Riom-ès-Montagne\, Riom-ès-Montagne\, 15400\, France
END:VEVENT
BEGIN:VEVENT
DTSTART;VALUE=DATE:20170819
DTEND;VALUE=DATE:20170821
DTSTAMP:20260426T060553
CREATED:20170330T080322Z
LAST-MODIFIED:20170613T063546Z
UID:16744-1503100800-1503273599@primholstein.com
SUMMARY:Concours départemental du Rhône
DESCRIPTION:Le juge du concours sera Ludovic Morel (42).
URL:https://primholstein.com/evenement/concours-departemental-du-rhone/
LOCATION:Cublize\, Cublize\, 69550\, France
END:VEVENT
BEGIN:VEVENT
DTSTART;VALUE=DATE:20170819
DTEND;VALUE=DATE:20170821
DTSTAMP:20260426T060553
CREATED:20170517T135638Z
LAST-MODIFIED:20170725T065047Z
UID:17063-1503100800-1503273599@primholstein.com
SUMMARY:Concours départemental de la Corrèze
DESCRIPTION:Le juge du concours sera Cédric Castanet.
URL:https://primholstein.com/evenement/concours-departemental-de-la-correze-2/
END:VEVENT
END:VCALENDAR