BEGIN:VCALENDAR
VERSION:2.0
PRODID:-//Prim&#039;Holstein France - ECPv6.15.20//NONSGML v1.0//EN
CALSCALE:GREGORIAN
METHOD:PUBLISH
X-WR-CALNAME:Prim&#039;Holstein France
X-ORIGINAL-URL:https://primholstein.com
X-WR-CALDESC:Évènements pour Prim&#039;Holstein France
REFRESH-INTERVAL;VALUE=DURATION:PT1H
X-Robots-Tag:noindex
X-PUBLISHED-TTL:PT1H
BEGIN:VTIMEZONE
TZID:Europe/Paris
BEGIN:DAYLIGHT
TZOFFSETFROM:+0100
TZOFFSETTO:+0200
TZNAME:CEST
DTSTART:20240331T010000
END:DAYLIGHT
BEGIN:STANDARD
TZOFFSETFROM:+0200
TZOFFSETTO:+0100
TZNAME:CET
DTSTART:20241027T010000
END:STANDARD
BEGIN:DAYLIGHT
TZOFFSETFROM:+0100
TZOFFSETTO:+0200
TZNAME:CEST
DTSTART:20250330T010000
END:DAYLIGHT
BEGIN:STANDARD
TZOFFSETFROM:+0200
TZOFFSETTO:+0100
TZNAME:CET
DTSTART:20251026T010000
END:STANDARD
BEGIN:DAYLIGHT
TZOFFSETFROM:+0100
TZOFFSETTO:+0200
TZNAME:CEST
DTSTART:20260329T010000
END:DAYLIGHT
BEGIN:STANDARD
TZOFFSETFROM:+0200
TZOFFSETTO:+0100
TZNAME:CET
DTSTART:20261025T010000
END:STANDARD
END:VTIMEZONE
BEGIN:VEVENT
DTSTART;VALUE=DATE:20250421
DTEND;VALUE=DATE:20250422
DTSTAMP:20260419T214712
CREATED:20250109T083652Z
LAST-MODIFIED:20250407T094145Z
UID:31624-1745193600-1745279999@primholstein.com
SUMMARY:Concours départemental de la Saône-et-Loire
DESCRIPTION:Le concours sera jugé par Thomas Saunier (54).
URL:https://primholstein.com/evenement/concours-departemental-de-la-saone-et-loire-3/
LOCATION:Louhans\, Louhans\, 71500\, France
END:VEVENT
BEGIN:VEVENT
DTSTART;VALUE=DATE:20250421
DTEND;VALUE=DATE:20250422
DTSTAMP:20260419T214712
CREATED:20250205T081635Z
LAST-MODIFIED:20250408T084236Z
UID:31761-1745193600-1745279999@primholstein.com
SUMMARY:Concours interdépartemental Drôme Ardèche Isère
DESCRIPTION:8e édition du Concours Inter Départemental d’Hauterives Drôme Ardèche Isère qui sera jugé par Marc Humbert (70)\, juge agréé PHF.
URL:https://primholstein.com/evenement/concours-interdepartemental-drome-ardeche-isere/
LOCATION:Hauterives\, Hauterives\, 26390\, France
END:VEVENT
BEGIN:VEVENT
DTSTART;VALUE=DATE:20250421
DTEND;VALUE=DATE:20250422
DTSTAMP:20260419T214712
CREATED:20250228T103320Z
LAST-MODIFIED:20250228T103320Z
UID:31845-1745193600-1745279999@primholstein.com
SUMMARY:Concours interdépartemental de l'Oise et la Somme
DESCRIPTION:
URL:https://primholstein.com/evenement/concours-interdepartemental-de-loise-et-la-somme-2/
LOCATION:Montdidier\, Montdidier\, 80500\, France
END:VEVENT
END:VCALENDAR