BEGIN:VCALENDAR
VERSION:2.0
PRODID:-//Prim&#039;Holstein France - ECPv6.15.20//NONSGML v1.0//EN
CALSCALE:GREGORIAN
METHOD:PUBLISH
X-WR-CALNAME:Prim&#039;Holstein France
X-ORIGINAL-URL:https://primholstein.com
X-WR-CALDESC:Évènements pour Prim&#039;Holstein France
REFRESH-INTERVAL;VALUE=DURATION:PT1H
X-Robots-Tag:noindex
X-PUBLISHED-TTL:PT1H
BEGIN:VTIMEZONE
TZID:Europe/Paris
BEGIN:DAYLIGHT
TZOFFSETFROM:+0100
TZOFFSETTO:+0200
TZNAME:CEST
DTSTART:20210328T010000
END:DAYLIGHT
BEGIN:STANDARD
TZOFFSETFROM:+0200
TZOFFSETTO:+0100
TZNAME:CET
DTSTART:20211031T010000
END:STANDARD
BEGIN:DAYLIGHT
TZOFFSETFROM:+0100
TZOFFSETTO:+0200
TZNAME:CEST
DTSTART:20220327T010000
END:DAYLIGHT
BEGIN:STANDARD
TZOFFSETFROM:+0200
TZOFFSETTO:+0100
TZNAME:CET
DTSTART:20221030T010000
END:STANDARD
BEGIN:DAYLIGHT
TZOFFSETFROM:+0100
TZOFFSETTO:+0200
TZNAME:CEST
DTSTART:20230326T010000
END:DAYLIGHT
BEGIN:STANDARD
TZOFFSETFROM:+0200
TZOFFSETTO:+0100
TZNAME:CET
DTSTART:20231029T010000
END:STANDARD
END:VTIMEZONE
BEGIN:VEVENT
DTSTART;VALUE=DATE:20220820
DTEND;VALUE=DATE:20220821
DTSTAMP:20260422T081903
CREATED:20220630T070248Z
LAST-MODIFIED:20220712T085319Z
UID:26349-1660953600-1661039999@primholstein.com
SUMMARY:Concours de génisses Passion Elevage 28
DESCRIPTION:Concours Génisses : \nHolstein/Normande/Jersiaise de 10 à 12 H et de 14 à 17 H\,\nsuivi du Concours Présentateurs pour finir la journée. \n 
URL:https://primholstein.com/evenement/concours-de-genisses-passion-elevage-28/
LOCATION:Miermaigne\, Miermaigne\, 28480\, France
END:VEVENT
BEGIN:VEVENT
DTSTART;VALUE=DATE:20220820
DTEND;VALUE=DATE:20220821
DTSTAMP:20260422T081903
CREATED:20220707T062713Z
LAST-MODIFIED:20220707T062713Z
UID:26395-1660953600-1661039999@primholstein.com
SUMMARY:Concours départemental du Rhône
DESCRIPTION:
URL:https://primholstein.com/evenement/concours-departemental-du-rhone-4/
LOCATION:Cublize\, Cublize\, 69550\, France
END:VEVENT
END:VCALENDAR