BEGIN:VCALENDAR
VERSION:2.0
PRODID:-//Prim&#039;Holstein France - ECPv6.15.20//NONSGML v1.0//EN
CALSCALE:GREGORIAN
METHOD:PUBLISH
X-WR-CALNAME:Prim&#039;Holstein France
X-ORIGINAL-URL:https://primholstein.com
X-WR-CALDESC:Évènements pour Prim&#039;Holstein France
REFRESH-INTERVAL;VALUE=DURATION:PT1H
X-Robots-Tag:noindex
X-PUBLISHED-TTL:PT1H
BEGIN:VTIMEZONE
TZID:Europe/Paris
BEGIN:DAYLIGHT
TZOFFSETFROM:+0100
TZOFFSETTO:+0200
TZNAME:CEST
DTSTART:20200329T010000
END:DAYLIGHT
BEGIN:STANDARD
TZOFFSETFROM:+0200
TZOFFSETTO:+0100
TZNAME:CET
DTSTART:20201025T010000
END:STANDARD
BEGIN:DAYLIGHT
TZOFFSETFROM:+0100
TZOFFSETTO:+0200
TZNAME:CEST
DTSTART:20210328T010000
END:DAYLIGHT
BEGIN:STANDARD
TZOFFSETFROM:+0200
TZOFFSETTO:+0100
TZNAME:CET
DTSTART:20211031T010000
END:STANDARD
BEGIN:DAYLIGHT
TZOFFSETFROM:+0100
TZOFFSETTO:+0200
TZNAME:CEST
DTSTART:20220327T010000
END:DAYLIGHT
BEGIN:STANDARD
TZOFFSETFROM:+0200
TZOFFSETTO:+0100
TZNAME:CET
DTSTART:20221030T010000
END:STANDARD
END:VTIMEZONE
BEGIN:VEVENT
DTSTART;VALUE=DATE:20210914
DTEND;VALUE=DATE:20210918
DTSTAMP:20260421T133657
CREATED:20210121T104408Z
LAST-MODIFIED:20210817T151218Z
UID:24143-1631577600-1631923199@primholstein.com
SUMMARY:Space (présentiel et digital)
DESCRIPTION:Manifestation en présentiel du mardi 14 au jeudi 16 septembre. \nLe jeudi 16 septembre : concours Prim’holstein jugé par Pierre Creppe (Belgique). \nJournée du vendredi 17 septembre exclusivement sous forme digitale.
URL:https://primholstein.com/evenement/space-3/
LOCATION:Parc des Expositions de Rennes\, La Haie Gautrais\, Bruz\, 35170\, France
END:VEVENT
BEGIN:VEVENT
DTSTART;VALUE=DATE:20210916
DTEND;VALUE=DATE:20210920
DTSTAMP:20260421T133657
CREATED:20210817T064219Z
LAST-MODIFIED:20210817T064219Z
UID:24670-1631750400-1632095999@primholstein.com
SUMMARY:Concours régional Les Pyrénéennes
DESCRIPTION:
URL:https://primholstein.com/evenement/concours-regional-les-pyreneennes/
LOCATION:Parc des expositions du Comminges de St-Gaudens\, Route de la croix de\, Cassagne\, Villeneuve-de-Rivière\, 31800
END:VEVENT
END:VCALENDAR