BEGIN:VCALENDAR
VERSION:2.0
PRODID:-//Prim&#039;Holstein France - ECPv6.15.20//NONSGML v1.0//EN
CALSCALE:GREGORIAN
METHOD:PUBLISH
X-WR-CALNAME:Prim&#039;Holstein France
X-ORIGINAL-URL:https://primholstein.com
X-WR-CALDESC:Évènements pour Prim&#039;Holstein France
REFRESH-INTERVAL;VALUE=DURATION:PT1H
X-Robots-Tag:noindex
X-PUBLISHED-TTL:PT1H
BEGIN:VTIMEZONE
TZID:Europe/Paris
BEGIN:DAYLIGHT
TZOFFSETFROM:+0100
TZOFFSETTO:+0200
TZNAME:CEST
DTSTART:20200329T010000
END:DAYLIGHT
BEGIN:STANDARD
TZOFFSETFROM:+0200
TZOFFSETTO:+0100
TZNAME:CET
DTSTART:20201025T010000
END:STANDARD
BEGIN:DAYLIGHT
TZOFFSETFROM:+0100
TZOFFSETTO:+0200
TZNAME:CEST
DTSTART:20210328T010000
END:DAYLIGHT
BEGIN:STANDARD
TZOFFSETFROM:+0200
TZOFFSETTO:+0100
TZNAME:CET
DTSTART:20211031T010000
END:STANDARD
BEGIN:DAYLIGHT
TZOFFSETFROM:+0100
TZOFFSETTO:+0200
TZNAME:CEST
DTSTART:20220327T010000
END:DAYLIGHT
BEGIN:STANDARD
TZOFFSETFROM:+0200
TZOFFSETTO:+0100
TZNAME:CET
DTSTART:20221030T010000
END:STANDARD
END:VTIMEZONE
BEGIN:VEVENT
DTSTART;VALUE=DATE:20210728
DTEND;VALUE=DATE:20210729
DTSTAMP:20260421T102642
CREATED:20210625T072211Z
LAST-MODIFIED:20210625T074845Z
UID:24518-1627430400-1627516799@primholstein.com
SUMMARY:Concours départemental de l'Ain
DESCRIPTION:Le concours départemental de l’Ain se déroulera le mercredi 28 juillet 2021 sur le site d’Ain Génétique Service à Confrançon\, Ferme de la Forêt. \nDébut du concours vers 10 heures. \nLes animaux seront jugés par Bruno Lambert (70)
URL:https://primholstein.com/evenement/concours-departemental-de-lain/
LOCATION:AIN GENETIQUE SERVICE\, Chemin de la Forêt\, Confrançon\, 01310\, France
END:VEVENT
END:VCALENDAR