BEGIN:VCALENDAR
VERSION:2.0
PRODID:-//Prim&#039;Holstein France - ECPv6.15.20//NONSGML v1.0//EN
CALSCALE:GREGORIAN
METHOD:PUBLISH
X-ORIGINAL-URL:https://primholstein.com
X-WR-CALDESC:Évènements pour Prim&#039;Holstein France
REFRESH-INTERVAL;VALUE=DURATION:PT1H
X-Robots-Tag:noindex
X-PUBLISHED-TTL:PT1H
BEGIN:VTIMEZONE
TZID:Europe/Paris
BEGIN:DAYLIGHT
TZOFFSETFROM:+0100
TZOFFSETTO:+0200
TZNAME:CEST
DTSTART:20200329T010000
END:DAYLIGHT
BEGIN:STANDARD
TZOFFSETFROM:+0200
TZOFFSETTO:+0100
TZNAME:CET
DTSTART:20201025T010000
END:STANDARD
BEGIN:DAYLIGHT
TZOFFSETFROM:+0100
TZOFFSETTO:+0200
TZNAME:CEST
DTSTART:20210328T010000
END:DAYLIGHT
BEGIN:STANDARD
TZOFFSETFROM:+0200
TZOFFSETTO:+0100
TZNAME:CET
DTSTART:20211031T010000
END:STANDARD
BEGIN:DAYLIGHT
TZOFFSETFROM:+0100
TZOFFSETTO:+0200
TZNAME:CEST
DTSTART:20220327T010000
END:DAYLIGHT
BEGIN:STANDARD
TZOFFSETFROM:+0200
TZOFFSETTO:+0100
TZNAME:CET
DTSTART:20221030T010000
END:STANDARD
END:VTIMEZONE
BEGIN:VEVENT
DTSTART;VALUE=DATE:20210706
DTEND;VALUE=DATE:20210708
DTSTAMP:20260421T100757
CREATED:20210607T065003Z
LAST-MODIFIED:20210607T080100Z
UID:24438-1625529600-1625702399@primholstein.com
SUMMARY:Concours départemental de la Loire
DESCRIPTION:La Loire organise un départemental les 6 et 7 juillet 2021 à la Coopel sur le site de Montrond-les-Bains. \nLe concours aura lieu le mercredi 7 juillet et sera jugé par Patrice Lamy (35) \n270 animaux sont attendus : Prim’holstein \, Monbéliarde et Simmental ;\n57 élevages Prim’holstein sont engagés avec 150 VL dont 17 Red  en concours Red. \n 
URL:https://primholstein.com/evenement/concours-departemental-de-la-loire-3/
LOCATION:COOPEL\, 163 Les Chambons\, Chalain-le-Comtal\, 42600\, France
END:VEVENT
END:VCALENDAR