BEGIN:VCALENDAR
VERSION:2.0
PRODID:-//Prim&#039;Holstein France - ECPv6.15.20//NONSGML v1.0//EN
CALSCALE:GREGORIAN
METHOD:PUBLISH
X-ORIGINAL-URL:https://primholstein.com
X-WR-CALDESC:Évènements pour Prim&#039;Holstein France
REFRESH-INTERVAL;VALUE=DURATION:PT1H
X-Robots-Tag:noindex
X-PUBLISHED-TTL:PT1H
BEGIN:VTIMEZONE
TZID:Europe/Paris
BEGIN:DAYLIGHT
TZOFFSETFROM:+0100
TZOFFSETTO:+0200
TZNAME:CEST
DTSTART:20200329T010000
END:DAYLIGHT
BEGIN:STANDARD
TZOFFSETFROM:+0200
TZOFFSETTO:+0100
TZNAME:CET
DTSTART:20201025T010000
END:STANDARD
BEGIN:DAYLIGHT
TZOFFSETFROM:+0100
TZOFFSETTO:+0200
TZNAME:CEST
DTSTART:20210328T010000
END:DAYLIGHT
BEGIN:STANDARD
TZOFFSETFROM:+0200
TZOFFSETTO:+0100
TZNAME:CET
DTSTART:20211031T010000
END:STANDARD
BEGIN:DAYLIGHT
TZOFFSETFROM:+0100
TZOFFSETTO:+0200
TZNAME:CEST
DTSTART:20220327T010000
END:DAYLIGHT
BEGIN:STANDARD
TZOFFSETFROM:+0200
TZOFFSETTO:+0100
TZNAME:CET
DTSTART:20221030T010000
END:STANDARD
END:VTIMEZONE
BEGIN:VEVENT
DTSTART;VALUE=DATE:20210625
DTEND;VALUE=DATE:20210626
DTSTAMP:20260421T120048
CREATED:20210507T080701Z
LAST-MODIFIED:20210610T061923Z
UID:24393-1624579200-1624665599@primholstein.com
SUMMARY:Assemblée générale et Vente de l'Orne
DESCRIPTION:Matin : Assemblée Générale de PH 61 \nAprès-midi : Vente de l’Orne\, au GAEC des Grilles (61)\, à Mahéru. \nLa Vente de l’Orne 2021 proposera des animaux d’élite Prim Holstein sur les segments Index et Shows\, mais aussi des embryons. Quelques surprises sont également prévues au catalogue de cette édition. \nEn parallèle\, une porte ouverte de l’élevage sera organisée\, avec la mise en place de 2 robots de traite\, en service depuis 18 mois. \nPlus d’infos\, sur la page Facebook de la vente : https://www.facebook.com/VenteOrne \n  \nIl est également consultable en ligne via ce lien : https://issuu.com/origenplus/docs/vente-orne-2021 \nou téléchargeable en version pdf : https://www.origenplus.com/wp-content/uploads/2021/06/Vente-Orne-2021.pdf
URL:https://primholstein.com/evenement/vente-de-lorne/
LOCATION:Gaec des Grilles\, Les Grilles\, Mahéru\, 61380\, France
END:VEVENT
BEGIN:VEVENT
DTSTART;VALUE=DATE:20210625
DTEND;VALUE=DATE:20210626
DTSTAMP:20260421T120048
CREATED:20210607T084813Z
LAST-MODIFIED:20210607T084813Z
UID:24442-1624579200-1624665599@primholstein.com
SUMMARY:Assemblée Générale de Gen'Alliance
DESCRIPTION:L’Assemblée Générale de Gen’Alliance se déroulera le vendredi 25 juin à Migennes dans les locaux d’Alyse.
URL:https://primholstein.com/evenement/assemblee-generale-de-genalliance-2/
LOCATION:ALYSE\, 3 Rue Jules Rimet\, Migennes\, 89400\, France
END:VEVENT
END:VCALENDAR