BEGIN:VCALENDAR
VERSION:2.0
PRODID:-//Prim&#039;Holstein France - ECPv6.15.20//NONSGML v1.0//EN
CALSCALE:GREGORIAN
METHOD:PUBLISH
X-ORIGINAL-URL:https://primholstein.com
X-WR-CALDESC:Évènements pour Prim&#039;Holstein France
REFRESH-INTERVAL;VALUE=DURATION:PT1H
X-Robots-Tag:noindex
X-PUBLISHED-TTL:PT1H
BEGIN:VTIMEZONE
TZID:Europe/Paris
BEGIN:DAYLIGHT
TZOFFSETFROM:+0100
TZOFFSETTO:+0200
TZNAME:CEST
DTSTART:20200329T010000
END:DAYLIGHT
BEGIN:STANDARD
TZOFFSETFROM:+0200
TZOFFSETTO:+0100
TZNAME:CET
DTSTART:20201025T010000
END:STANDARD
BEGIN:DAYLIGHT
TZOFFSETFROM:+0100
TZOFFSETTO:+0200
TZNAME:CEST
DTSTART:20210328T010000
END:DAYLIGHT
BEGIN:STANDARD
TZOFFSETFROM:+0200
TZOFFSETTO:+0100
TZNAME:CET
DTSTART:20211031T010000
END:STANDARD
BEGIN:DAYLIGHT
TZOFFSETFROM:+0100
TZOFFSETTO:+0200
TZNAME:CEST
DTSTART:20220327T010000
END:DAYLIGHT
BEGIN:STANDARD
TZOFFSETFROM:+0200
TZOFFSETTO:+0100
TZNAME:CET
DTSTART:20221030T010000
END:STANDARD
END:VTIMEZONE
BEGIN:VEVENT
DTSTART;VALUE=DATE:20210526
DTEND;VALUE=DATE:20210527
DTSTAMP:20260421T133951
CREATED:20210510T144102Z
LAST-MODIFIED:20210510T144234Z
UID:24398-1621987200-1622073599@primholstein.com
SUMMARY:Assemblée Générale de la Seine-Maritime
DESCRIPTION:Programme : \n9 h 45 Café\n10 h 00 Assemblée Générale statutaire \n• Bilan activités 2020 et compte rendu financier\n• Rapport moral et d’orientation\n• Présentation des activités 2021\n• Renouvellement du tiers sortant\n• Questions diverses \nInterventions de : \n\nJulien OUVRY\, technicien Littoral Normand « L’élevage des génisses »\nEt restitution de l’enquête de Nina Andres sur l’âge au 1er vêlage.\n\nRemise des Trophées « Venise » par Littoral Normand\n13 h 00 Déjeuner offert (sandwich\, dessert\, boisson pour cause de distanciation physique)\n13 h 30 Visite de l’élevage de Panneville chez Clémence Avenel à Mesnil-Panneville (des surbottes seront fournies pour la visite). \n  \nInscriptions avant le 21 mai : \n\nau 02 35 59 44 81 (Béatrice BIZET)\nou 06 07 14 35 37 (Carole SIMON)\nou par mail : carole.simon@normandie.chambagri.fr
URL:https://primholstein.com/evenement/assemblee-generale-de-la-seine-maritime-3/
LOCATION:AVENEL Clémence\, Ferme de Panneville - 290 route de Panneville\, hameau St Antoine\, Mesnil-Panneville\, 76190\, France
END:VEVENT
END:VCALENDAR