BEGIN:VCALENDAR
VERSION:2.0
PRODID:-//Prim&#039;Holstein France - ECPv6.15.20//NONSGML v1.0//EN
CALSCALE:GREGORIAN
METHOD:PUBLISH
X-WR-CALNAME:Prim&#039;Holstein France
X-ORIGINAL-URL:https://primholstein.com
X-WR-CALDESC:Évènements pour Prim&#039;Holstein France
REFRESH-INTERVAL;VALUE=DURATION:PT1H
X-Robots-Tag:noindex
X-PUBLISHED-TTL:PT1H
BEGIN:VTIMEZONE
TZID:Europe/Paris
BEGIN:DAYLIGHT
TZOFFSETFROM:+0100
TZOFFSETTO:+0200
TZNAME:CEST
DTSTART:20200329T010000
END:DAYLIGHT
BEGIN:STANDARD
TZOFFSETFROM:+0200
TZOFFSETTO:+0100
TZNAME:CET
DTSTART:20201025T010000
END:STANDARD
BEGIN:DAYLIGHT
TZOFFSETFROM:+0100
TZOFFSETTO:+0200
TZNAME:CEST
DTSTART:20210328T010000
END:DAYLIGHT
BEGIN:STANDARD
TZOFFSETFROM:+0200
TZOFFSETTO:+0100
TZNAME:CET
DTSTART:20211031T010000
END:STANDARD
BEGIN:DAYLIGHT
TZOFFSETFROM:+0100
TZOFFSETTO:+0200
TZNAME:CEST
DTSTART:20220327T010000
END:DAYLIGHT
BEGIN:STANDARD
TZOFFSETFROM:+0200
TZOFFSETTO:+0100
TZNAME:CET
DTSTART:20221030T010000
END:STANDARD
END:VTIMEZONE
BEGIN:VEVENT
DTSTART;VALUE=DATE:20210409
DTEND;VALUE=DATE:20210410
DTSTAMP:20260421T151308
CREATED:20210114T084241Z
LAST-MODIFIED:20210114T084402Z
UID:24136-1617926400-1618012799@primholstein.com
SUMMARY:fin du concours de dessins de la Sarthe
DESCRIPTION:Prim’Holstein 72 organise du 11 janvier au 9 avril 2021 un concours de dessins ouvert à tous. \nRemise des lots le samedi 29 mai 2021 à l’occasion du 10ème anniversaire du Concours National Prim’Holstein du Mans. \nElection par un jury avec 4 catégories : \n\n3-6 ans ;\n6-10 ans ;\n11-15 ans ;\nplus de 15 ans.\n\nComment participer? \nPar courrier à l’adresse suivante : \nPH 72\n126 RUE DE BEAUGE\n72000 LE MANS CEDEX 9 \n 
URL:https://primholstein.com/evenement/fin-du-concours-de-dessins-de-la-sarthe/
END:VEVENT
END:VCALENDAR