BEGIN:VCALENDAR
VERSION:2.0
PRODID:-//Prim&#039;Holstein France - ECPv6.15.20//NONSGML v1.0//EN
CALSCALE:GREGORIAN
METHOD:PUBLISH
X-WR-CALNAME:Prim&#039;Holstein France
X-ORIGINAL-URL:https://primholstein.com
X-WR-CALDESC:Évènements pour Prim&#039;Holstein France
REFRESH-INTERVAL;VALUE=DURATION:PT1H
X-Robots-Tag:noindex
X-PUBLISHED-TTL:PT1H
BEGIN:VTIMEZONE
TZID:Europe/Paris
BEGIN:DAYLIGHT
TZOFFSETFROM:+0100
TZOFFSETTO:+0200
TZNAME:CEST
DTSTART:20190331T010000
END:DAYLIGHT
BEGIN:STANDARD
TZOFFSETFROM:+0200
TZOFFSETTO:+0100
TZNAME:CET
DTSTART:20191027T010000
END:STANDARD
BEGIN:DAYLIGHT
TZOFFSETFROM:+0100
TZOFFSETTO:+0200
TZNAME:CEST
DTSTART:20200329T010000
END:DAYLIGHT
BEGIN:STANDARD
TZOFFSETFROM:+0200
TZOFFSETTO:+0100
TZNAME:CET
DTSTART:20201025T010000
END:STANDARD
BEGIN:DAYLIGHT
TZOFFSETFROM:+0100
TZOFFSETTO:+0200
TZNAME:CEST
DTSTART:20210328T010000
END:DAYLIGHT
BEGIN:STANDARD
TZOFFSETFROM:+0200
TZOFFSETTO:+0100
TZNAME:CET
DTSTART:20211031T010000
END:STANDARD
END:VTIMEZONE
BEGIN:VEVENT
DTSTART;VALUE=DATE:20200327
DTEND;VALUE=DATE:20200329
DTSTAMP:20260422T130620
CREATED:20191121T081349Z
LAST-MODIFIED:20200316T085929Z
UID:22636-1585267200-1585439999@primholstein.com
SUMMARY:Expo Bulle (Suisse) - annulé
DESCRIPTION:
URL:https://primholstein.com/evenement/expo-bulle-4/
LOCATION:Parc des Expositions de Bulle « Espace gruyère »\, RUE DE VEVEY 136-144 CASE POSTALE 460\, Bulle\, 1630\, Switzerland
END:VEVENT
BEGIN:VEVENT
DTSTART;VALUE=DATE:20200328
DTEND;VALUE=DATE:20200329
DTSTAMP:20260422T130620
CREATED:20200203T084822Z
LAST-MODIFIED:20200303T155354Z
UID:22891-1585353600-1585439999@primholstein.com
SUMMARY:Concours départemental de l'Ille-et-Vilaine - annulé
DESCRIPTION:Concours dans le cadre de la Foire de Rennes.
URL:https://primholstein.com/evenement/concours-departemental-de-lille-et-vilaine/
LOCATION:Parc des Expositions de Rennes\, La Haie Gautrais\, Bruz\, 35170\, France
END:VEVENT
END:VCALENDAR