BEGIN:VCALENDAR
VERSION:2.0
PRODID:-//Prim&#039;Holstein France - ECPv6.15.20//NONSGML v1.0//EN
CALSCALE:GREGORIAN
METHOD:PUBLISH
X-ORIGINAL-URL:https://primholstein.com
X-WR-CALDESC:Évènements pour Prim&#039;Holstein France
REFRESH-INTERVAL;VALUE=DURATION:PT1H
X-Robots-Tag:noindex
X-PUBLISHED-TTL:PT1H
BEGIN:VTIMEZONE
TZID:Europe/Paris
BEGIN:DAYLIGHT
TZOFFSETFROM:+0100
TZOFFSETTO:+0200
TZNAME:CEST
DTSTART:20190331T010000
END:DAYLIGHT
BEGIN:STANDARD
TZOFFSETFROM:+0200
TZOFFSETTO:+0100
TZNAME:CET
DTSTART:20191027T010000
END:STANDARD
BEGIN:DAYLIGHT
TZOFFSETFROM:+0100
TZOFFSETTO:+0200
TZNAME:CEST
DTSTART:20200329T010000
END:DAYLIGHT
BEGIN:STANDARD
TZOFFSETFROM:+0200
TZOFFSETTO:+0100
TZNAME:CET
DTSTART:20201025T010000
END:STANDARD
BEGIN:DAYLIGHT
TZOFFSETFROM:+0100
TZOFFSETTO:+0200
TZNAME:CEST
DTSTART:20210328T010000
END:DAYLIGHT
BEGIN:STANDARD
TZOFFSETFROM:+0200
TZOFFSETTO:+0100
TZNAME:CET
DTSTART:20211031T010000
END:STANDARD
END:VTIMEZONE
BEGIN:VEVENT
DTSTART;VALUE=DATE:20200321
DTEND;VALUE=DATE:20200322
DTSTAMP:20260422T131207
CREATED:20191121T081223Z
LAST-MODIFIED:20200316T085825Z
UID:22635-1584748800-1584835199@primholstein.com
SUMMARY:Nuit de la Holstein (Belgique) - annulé
DESCRIPTION:
URL:https://primholstein.com/evenement/nuit-de-la-holstein-3/
LOCATION:Parc des Expositions de Libramont\, Rue des Aubépines\, 50\, Libramont\, 6800\, Belgium
END:VEVENT
BEGIN:VEVENT
DTSTART;VALUE=DATE:20200321
DTEND;VALUE=DATE:20200323
DTSTAMP:20260422T131207
CREATED:20191129T073504Z
LAST-MODIFIED:20200309T143816Z
UID:22684-1584748800-1584921599@primholstein.com
SUMMARY:Concours régional de Bretagne - annulé
DESCRIPTION:
URL:https://primholstein.com/evenement/concours-regional-de-bretagne-2/
LOCATION:Morlaix\, Morlaix\, 29600\, France
END:VEVENT
END:VCALENDAR