BEGIN:VCALENDAR
VERSION:2.0
PRODID:-//Prim&#039;Holstein France - ECPv6.15.20//NONSGML v1.0//EN
CALSCALE:GREGORIAN
METHOD:PUBLISH
X-WR-CALNAME:Prim&#039;Holstein France
X-ORIGINAL-URL:https://primholstein.com
X-WR-CALDESC:Évènements pour Prim&#039;Holstein France
REFRESH-INTERVAL;VALUE=DURATION:PT1H
X-Robots-Tag:noindex
X-PUBLISHED-TTL:PT1H
BEGIN:VTIMEZONE
TZID:Europe/Paris
BEGIN:DAYLIGHT
TZOFFSETFROM:+0100
TZOFFSETTO:+0200
TZNAME:CEST
DTSTART:20190331T010000
END:DAYLIGHT
BEGIN:STANDARD
TZOFFSETFROM:+0200
TZOFFSETTO:+0100
TZNAME:CET
DTSTART:20191027T010000
END:STANDARD
BEGIN:DAYLIGHT
TZOFFSETFROM:+0100
TZOFFSETTO:+0200
TZNAME:CEST
DTSTART:20200329T010000
END:DAYLIGHT
BEGIN:STANDARD
TZOFFSETFROM:+0200
TZOFFSETTO:+0100
TZNAME:CET
DTSTART:20201025T010000
END:STANDARD
BEGIN:DAYLIGHT
TZOFFSETFROM:+0100
TZOFFSETTO:+0200
TZNAME:CEST
DTSTART:20210328T010000
END:DAYLIGHT
BEGIN:STANDARD
TZOFFSETFROM:+0200
TZOFFSETTO:+0100
TZNAME:CET
DTSTART:20211031T010000
END:STANDARD
END:VTIMEZONE
BEGIN:VEVENT
DTSTART;VALUE=DATE:20200310
DTEND;VALUE=DATE:20200311
DTSTAMP:20260422T130743
CREATED:20191218T073437Z
LAST-MODIFIED:20200226T140432Z
UID:22746-1583798400-1583884799@primholstein.com
SUMMARY:Assemblée générale de la Saône-et-Loire
DESCRIPTION:Toutes les informations en cliquant sur l’image à droite
URL:https://primholstein.com/evenement/assemblee-generale-de-la-saone-et-loire/
END:VEVENT
BEGIN:VEVENT
DTSTART;VALUE=DATE:20200310
DTEND;VALUE=DATE:20200311
DTSTAMP:20260422T130743
CREATED:20200210T121101Z
LAST-MODIFIED:20200218T072637Z
UID:22917-1583798400-1583884799@primholstein.com
SUMMARY:Assemblée Générale du Rhône
DESCRIPTION:Matin : Réunion à la Maison familiale de St Laurent de Chamousset (69930) avec l’intervention de Jean Rambaud sur la Holstein. \nAprès-midi : visite du GAEC de Grand Val à St Julien sur Bibost.
URL:https://primholstein.com/evenement/assemblee-generale-du-rhone-2/
END:VEVENT
END:VCALENDAR