BEGIN:VCALENDAR
VERSION:2.0
PRODID:-//Prim&#039;Holstein France - ECPv6.15.20//NONSGML v1.0//EN
CALSCALE:GREGORIAN
METHOD:PUBLISH
X-ORIGINAL-URL:https://primholstein.com
X-WR-CALDESC:Évènements pour Prim&#039;Holstein France
REFRESH-INTERVAL;VALUE=DURATION:PT1H
X-Robots-Tag:noindex
X-PUBLISHED-TTL:PT1H
BEGIN:VTIMEZONE
TZID:Europe/Paris
BEGIN:DAYLIGHT
TZOFFSETFROM:+0100
TZOFFSETTO:+0200
TZNAME:CEST
DTSTART:20190331T010000
END:DAYLIGHT
BEGIN:STANDARD
TZOFFSETFROM:+0200
TZOFFSETTO:+0100
TZNAME:CET
DTSTART:20191027T010000
END:STANDARD
BEGIN:DAYLIGHT
TZOFFSETFROM:+0100
TZOFFSETTO:+0200
TZNAME:CEST
DTSTART:20200329T010000
END:DAYLIGHT
BEGIN:STANDARD
TZOFFSETFROM:+0200
TZOFFSETTO:+0100
TZNAME:CET
DTSTART:20201025T010000
END:STANDARD
BEGIN:DAYLIGHT
TZOFFSETFROM:+0100
TZOFFSETTO:+0200
TZNAME:CEST
DTSTART:20210328T010000
END:DAYLIGHT
BEGIN:STANDARD
TZOFFSETFROM:+0200
TZOFFSETTO:+0100
TZNAME:CET
DTSTART:20211031T010000
END:STANDARD
END:VTIMEZONE
BEGIN:VEVENT
DTSTART;VALUE=DATE:20200305
DTEND;VALUE=DATE:20200306
DTSTAMP:20260422T131041
CREATED:20200106T094513Z
LAST-MODIFIED:20200106T094513Z
UID:22773-1583366400-1583452799@primholstein.com
SUMMARY:Assemblée Générale de l'Aveyron
DESCRIPTION:
URL:https://primholstein.com/evenement/assemblee-generale-de-laveyron-2/
END:VEVENT
BEGIN:VEVENT
DTSTART;VALUE=DATE:20200305
DTEND;VALUE=DATE:20200306
DTSTAMP:20260422T131041
CREATED:20200116T074146Z
LAST-MODIFIED:20200116T074146Z
UID:22831-1583366400-1583452799@primholstein.com
SUMMARY:Assemblée Générale du Puy-De-Dôme
DESCRIPTION:
URL:https://primholstein.com/evenement/assemblee-generale-du-puy-de-dome-2/
END:VEVENT
BEGIN:VEVENT
DTSTART;VALUE=DATE:20200305
DTEND;VALUE=DATE:20200306
DTSTAMP:20260422T131041
CREATED:20200203T081138Z
LAST-MODIFIED:20200203T081138Z
UID:22890-1583366400-1583452799@primholstein.com
SUMMARY:Assemblée Générale de la Charente
DESCRIPTION:10 h : Assemblée statutaire Salle des fêtes de Saint-Quentin-sur-Charente (16150) \nAprès-midi : visite du Gaec de la Rivière.
URL:https://primholstein.com/evenement/assemblee-generale-de-la-charente-2/
END:VEVENT
END:VCALENDAR