BEGIN:VCALENDAR
VERSION:2.0
PRODID:-//Prim&#039;Holstein France - ECPv6.15.20//NONSGML v1.0//EN
CALSCALE:GREGORIAN
METHOD:PUBLISH
X-WR-CALNAME:Prim&#039;Holstein France
X-ORIGINAL-URL:https://primholstein.com
X-WR-CALDESC:Évènements pour Prim&#039;Holstein France
REFRESH-INTERVAL;VALUE=DURATION:PT1H
X-Robots-Tag:noindex
X-PUBLISHED-TTL:PT1H
BEGIN:VTIMEZONE
TZID:Europe/Paris
BEGIN:DAYLIGHT
TZOFFSETFROM:+0100
TZOFFSETTO:+0200
TZNAME:CEST
DTSTART:20190331T010000
END:DAYLIGHT
BEGIN:STANDARD
TZOFFSETFROM:+0200
TZOFFSETTO:+0100
TZNAME:CET
DTSTART:20191027T010000
END:STANDARD
BEGIN:DAYLIGHT
TZOFFSETFROM:+0100
TZOFFSETTO:+0200
TZNAME:CEST
DTSTART:20200329T010000
END:DAYLIGHT
BEGIN:STANDARD
TZOFFSETFROM:+0200
TZOFFSETTO:+0100
TZNAME:CET
DTSTART:20201025T010000
END:STANDARD
BEGIN:DAYLIGHT
TZOFFSETFROM:+0100
TZOFFSETTO:+0200
TZNAME:CEST
DTSTART:20210328T010000
END:DAYLIGHT
BEGIN:STANDARD
TZOFFSETFROM:+0200
TZOFFSETTO:+0100
TZNAME:CET
DTSTART:20211031T010000
END:STANDARD
END:VTIMEZONE
BEGIN:VEVENT
DTSTART;VALUE=DATE:20200303
DTEND;VALUE=DATE:20200304
DTSTAMP:20260424T115331
CREATED:20200211T152710Z
LAST-MODIFIED:20200211T152710Z
UID:22938-1583193600-1583279999@primholstein.com
SUMMARY:Assemblée de secteur PHF en Pays-de-la-Loire\, Poitou-Charentes
DESCRIPTION:L’Assemblée de secteur de PHF se déroulera dans la région du Poitou-Charentes le mardi 03 mars 2020 au Gaec du Lac Sarget sur la commune de Chapelle-Montreuil dans la Vienne.
URL:https://primholstein.com/evenement/assemblee-de-secteur-phf-en-pays-de-la-loire-poitou-charentes/
LOCATION:Gaec du lac Sarget\, Le lac Sarget\, Chapelle-Montreuil\, 86470\, France
END:VEVENT
END:VCALENDAR