BEGIN:VCALENDAR
VERSION:2.0
PRODID:-//Prim&#039;Holstein France - ECPv6.15.20//NONSGML v1.0//EN
CALSCALE:GREGORIAN
METHOD:PUBLISH
X-ORIGINAL-URL:https://primholstein.com
X-WR-CALDESC:Évènements pour Prim&#039;Holstein France
REFRESH-INTERVAL;VALUE=DURATION:PT1H
X-Robots-Tag:noindex
X-PUBLISHED-TTL:PT1H
BEGIN:VTIMEZONE
TZID:Europe/Paris
BEGIN:DAYLIGHT
TZOFFSETFROM:+0100
TZOFFSETTO:+0200
TZNAME:CEST
DTSTART:20190331T010000
END:DAYLIGHT
BEGIN:STANDARD
TZOFFSETFROM:+0200
TZOFFSETTO:+0100
TZNAME:CET
DTSTART:20191027T010000
END:STANDARD
BEGIN:DAYLIGHT
TZOFFSETFROM:+0100
TZOFFSETTO:+0200
TZNAME:CEST
DTSTART:20200329T010000
END:DAYLIGHT
BEGIN:STANDARD
TZOFFSETFROM:+0200
TZOFFSETTO:+0100
TZNAME:CET
DTSTART:20201025T010000
END:STANDARD
BEGIN:DAYLIGHT
TZOFFSETFROM:+0100
TZOFFSETTO:+0200
TZNAME:CEST
DTSTART:20210328T010000
END:DAYLIGHT
BEGIN:STANDARD
TZOFFSETFROM:+0200
TZOFFSETTO:+0100
TZNAME:CET
DTSTART:20211031T010000
END:STANDARD
END:VTIMEZONE
BEGIN:VEVENT
DTSTART;VALUE=DATE:20200213
DTEND;VALUE=DATE:20200214
DTSTAMP:20260422T144730
CREATED:20200109T155825Z
LAST-MODIFIED:20200110T074351Z
UID:22798-1581552000-1581638399@primholstein.com
SUMMARY:Assemblée Générale des Côtes d'Armor
DESCRIPTION:Matin : assemblée statutaire à Rouillac. \nAprès-midi : visite du GAEC PEVAR DENS à Sévignac.
URL:https://primholstein.com/evenement/assemblee-generale-des-cotes-darmor-2/
LOCATION:GAEC PEVAR DENS\, LA COUR\, SEVIGNAC\, 22250\, France
END:VEVENT
BEGIN:VEVENT
DTSTART;VALUE=DATE:20200213
DTEND;VALUE=DATE:20200214
DTSTAMP:20260422T144730
CREATED:20200114T161540Z
LAST-MODIFIED:20200114T161540Z
UID:22830-1581552000-1581638399@primholstein.com
SUMMARY:Assemblée Générale de la Mayenne
DESCRIPTION:
URL:https://primholstein.com/evenement/assemblee-generale-de-la-mayenne-2/
END:VEVENT
END:VCALENDAR