BEGIN:VCALENDAR
VERSION:2.0
PRODID:-//Prim&#039;Holstein France - ECPv6.15.20//NONSGML v1.0//EN
CALSCALE:GREGORIAN
METHOD:PUBLISH
X-ORIGINAL-URL:https://primholstein.com
X-WR-CALDESC:Évènements pour Prim&#039;Holstein France
REFRESH-INTERVAL;VALUE=DURATION:PT1H
X-Robots-Tag:noindex
X-PUBLISHED-TTL:PT1H
BEGIN:VTIMEZONE
TZID:Europe/Paris
BEGIN:DAYLIGHT
TZOFFSETFROM:+0100
TZOFFSETTO:+0200
TZNAME:CEST
DTSTART:20180325T010000
END:DAYLIGHT
BEGIN:STANDARD
TZOFFSETFROM:+0200
TZOFFSETTO:+0100
TZNAME:CET
DTSTART:20181028T010000
END:STANDARD
BEGIN:DAYLIGHT
TZOFFSETFROM:+0100
TZOFFSETTO:+0200
TZNAME:CEST
DTSTART:20190331T010000
END:DAYLIGHT
BEGIN:STANDARD
TZOFFSETFROM:+0200
TZOFFSETTO:+0100
TZNAME:CET
DTSTART:20191027T010000
END:STANDARD
BEGIN:DAYLIGHT
TZOFFSETFROM:+0100
TZOFFSETTO:+0200
TZNAME:CEST
DTSTART:20200329T010000
END:DAYLIGHT
BEGIN:STANDARD
TZOFFSETFROM:+0200
TZOFFSETTO:+0100
TZNAME:CET
DTSTART:20201025T010000
END:STANDARD
END:VTIMEZONE
BEGIN:VEVENT
DTSTART;VALUE=DATE:20191023
DTEND;VALUE=DATE:20191026
DTSTAMP:20260422T204307
CREATED:20190307T100601Z
LAST-MODIFIED:20191018T064110Z
UID:20854-1571788800-1572047999@primholstein.com
SUMMARY:Show Open Génisses et concours régional du Grand Est
DESCRIPTION:Le salon Agrimax accueillera le Show Open Génisses en 2019 ainsi que le concours régional du Grand Est. \nProgramme : \n\nmercredi 23 octobre : Concours morphologique du Show Open Génisses\, Top vente précieuse et soirée des éleveurs ;\njeudi 24 octobre : Showmanship\, concours par équipe\, concours de pointage JA ;\nvendredi 25 octobre : Concours régional vaches Holstein\n\nConsultez le catalogue de la Vente précieuse en cliquant sur l’image ci-dessous :
URL:https://primholstein.com/evenement/show-open-genisses-et-concours-regional-du-grand-est/
LOCATION:Parc des Expositions de Metz\, Rue de la Grange aux Bois\, Metz\, 57070\, France
END:VEVENT
END:VCALENDAR