BEGIN:VCALENDAR
VERSION:2.0
PRODID:-//Prim&#039;Holstein France - ECPv6.15.20//NONSGML v1.0//EN
CALSCALE:GREGORIAN
METHOD:PUBLISH
X-WR-CALNAME:Prim&#039;Holstein France
X-ORIGINAL-URL:https://primholstein.com
X-WR-CALDESC:Évènements pour Prim&#039;Holstein France
REFRESH-INTERVAL;VALUE=DURATION:PT1H
X-Robots-Tag:noindex
X-PUBLISHED-TTL:PT1H
BEGIN:VTIMEZONE
TZID:Europe/Paris
BEGIN:DAYLIGHT
TZOFFSETFROM:+0100
TZOFFSETTO:+0200
TZNAME:CEST
DTSTART:20180325T010000
END:DAYLIGHT
BEGIN:STANDARD
TZOFFSETFROM:+0200
TZOFFSETTO:+0100
TZNAME:CET
DTSTART:20181028T010000
END:STANDARD
BEGIN:DAYLIGHT
TZOFFSETFROM:+0100
TZOFFSETTO:+0200
TZNAME:CEST
DTSTART:20190331T010000
END:DAYLIGHT
BEGIN:STANDARD
TZOFFSETFROM:+0200
TZOFFSETTO:+0100
TZNAME:CET
DTSTART:20191027T010000
END:STANDARD
BEGIN:DAYLIGHT
TZOFFSETFROM:+0100
TZOFFSETTO:+0200
TZNAME:CEST
DTSTART:20200329T010000
END:DAYLIGHT
BEGIN:STANDARD
TZOFFSETFROM:+0200
TZOFFSETTO:+0100
TZNAME:CET
DTSTART:20201025T010000
END:STANDARD
END:VTIMEZONE
BEGIN:VEVENT
DTSTART;VALUE=DATE:20190411
DTEND;VALUE=DATE:20190412
DTSTAMP:20260423T060559
CREATED:20190122T084036Z
LAST-MODIFIED:20190122T084300Z
UID:20584-1554940800-1555027199@primholstein.com
SUMMARY:Portes Ouvertes dans le Bas-Rhin
DESCRIPTION:Dans le cadre de la Confrontation Européenne de Libramont 2019\, l’élevage RIEDILL de la famille Wollenburger à BINDERNHEIM (67600) ouvre ses portes aux visiteurs les jeudi 11 avril et dimanche 14 avril 2019. \ncontact : \n\nMobile : +33 637348686\nFACEBOOK : Riedill Wollenburger Laurent\nEmail : bernard.wollenburger@wanadoo.fr\n\nFlyer à télécharger
URL:https://primholstein.com/evenement/portes-ouvertes-dans-le-bas-rhin/
END:VEVENT
BEGIN:VEVENT
DTSTART;VALUE=DATE:20190411
DTEND;VALUE=DATE:20190412
DTSTAMP:20260423T060559
CREATED:20190308T153730Z
LAST-MODIFIED:20190308T153730Z
UID:20889-1554940800-1555027199@primholstein.com
SUMMARY:Assemblée Générale de la Côte d'Or
DESCRIPTION:Visite du Gaec du Moulin Leu sur la commune de MONTIGNY-SUR-ARMANCON. \nThème abordé : La valorisation de l’herbe ». \n 
URL:https://primholstein.com/evenement/assemblee-generale-de-la-cote-dor/
LOCATION:GAEC DU MOULIN LEU\, ROUTE DE BRIANNY\, MONTIGNY SUR ARMANCON\, 21140\, France
END:VEVENT
END:VCALENDAR