BEGIN:VCALENDAR
VERSION:2.0
PRODID:-//Prim&#039;Holstein France - ECPv6.15.20//NONSGML v1.0//EN
CALSCALE:GREGORIAN
METHOD:PUBLISH
X-WR-CALNAME:Prim&#039;Holstein France
X-ORIGINAL-URL:https://primholstein.com
X-WR-CALDESC:Évènements pour Prim&#039;Holstein France
REFRESH-INTERVAL;VALUE=DURATION:PT1H
X-Robots-Tag:noindex
X-PUBLISHED-TTL:PT1H
BEGIN:VTIMEZONE
TZID:Europe/Paris
BEGIN:DAYLIGHT
TZOFFSETFROM:+0100
TZOFFSETTO:+0200
TZNAME:CEST
DTSTART:20170326T010000
END:DAYLIGHT
BEGIN:STANDARD
TZOFFSETFROM:+0200
TZOFFSETTO:+0100
TZNAME:CET
DTSTART:20171029T010000
END:STANDARD
BEGIN:DAYLIGHT
TZOFFSETFROM:+0100
TZOFFSETTO:+0200
TZNAME:CEST
DTSTART:20180325T010000
END:DAYLIGHT
BEGIN:STANDARD
TZOFFSETFROM:+0200
TZOFFSETTO:+0100
TZNAME:CET
DTSTART:20181028T010000
END:STANDARD
BEGIN:DAYLIGHT
TZOFFSETFROM:+0100
TZOFFSETTO:+0200
TZNAME:CEST
DTSTART:20190331T010000
END:DAYLIGHT
BEGIN:STANDARD
TZOFFSETFROM:+0200
TZOFFSETTO:+0100
TZNAME:CET
DTSTART:20191027T010000
END:STANDARD
END:VTIMEZONE
BEGIN:VEVENT
DTSTART;VALUE=DATE:20181024
DTEND;VALUE=DATE:20181027
DTSTAMP:20260425T122018
CREATED:20180104T124849Z
LAST-MODIFIED:20180104T125030Z
UID:18292-1540339200-1540598399@primholstein.com
SUMMARY:Concours départemental du syndicat 57
DESCRIPTION:Concours dans le cadre du Salon Agrimax
URL:https://primholstein.com/evenement/concours-departemental-du-syndicat-57/
LOCATION:Parc des Expositions de Metz\, Rue de la Grange aux Bois\, Metz\, 57070\, France
END:VEVENT
BEGIN:VEVENT
DTSTART;VALUE=DATE:20181026
DTEND;VALUE=DATE:20181027
DTSTAMP:20260425T122018
CREATED:20180828T080929Z
LAST-MODIFIED:20181016T080136Z
UID:19618-1540512000-1540598399@primholstein.com
SUMMARY:Vente de troupeau dans la Sarthe
DESCRIPTION:Vente de troupeau le 26 octobre au Gaec la Bouhoulière dans la Sarthe. \nPlus d’informations sur le flyer ici \nDébut de la vente à 10h30 \nCatalogue disponible ici
URL:https://primholstein.com/evenement/vente-de-troupeau-dans-la-sarthe/
LOCATION:GAEC LA BOUHOULIERE\, LA BOUHOULIERE\, ST AUBIN DE LOCQUENAY\, 72130\, France
END:VEVENT
END:VCALENDAR