BEGIN:VCALENDAR
VERSION:2.0
PRODID:-//Prim&#039;Holstein France - ECPv6.15.20//NONSGML v1.0//EN
CALSCALE:GREGORIAN
METHOD:PUBLISH
X-ORIGINAL-URL:https://primholstein.com
X-WR-CALDESC:Évènements pour Prim&#039;Holstein France
REFRESH-INTERVAL;VALUE=DURATION:PT1H
X-Robots-Tag:noindex
X-PUBLISHED-TTL:PT1H
BEGIN:VTIMEZONE
TZID:Europe/Paris
BEGIN:DAYLIGHT
TZOFFSETFROM:+0100
TZOFFSETTO:+0200
TZNAME:CEST
DTSTART:20170326T010000
END:DAYLIGHT
BEGIN:STANDARD
TZOFFSETFROM:+0200
TZOFFSETTO:+0100
TZNAME:CET
DTSTART:20171029T010000
END:STANDARD
BEGIN:DAYLIGHT
TZOFFSETFROM:+0100
TZOFFSETTO:+0200
TZNAME:CEST
DTSTART:20180325T010000
END:DAYLIGHT
BEGIN:STANDARD
TZOFFSETFROM:+0200
TZOFFSETTO:+0100
TZNAME:CET
DTSTART:20181028T010000
END:STANDARD
BEGIN:DAYLIGHT
TZOFFSETFROM:+0100
TZOFFSETTO:+0200
TZNAME:CEST
DTSTART:20190331T010000
END:DAYLIGHT
BEGIN:STANDARD
TZOFFSETFROM:+0200
TZOFFSETTO:+0100
TZNAME:CET
DTSTART:20191027T010000
END:STANDARD
END:VTIMEZONE
BEGIN:VEVENT
DTSTART;VALUE=DATE:20180607
DTEND;VALUE=DATE:20180608
DTSTAMP:20260425T174449
CREATED:20180320T073034Z
LAST-MODIFIED:20180320T073335Z
UID:18709-1528329600-1528415999@primholstein.com
SUMMARY:Porte Ouverte dans la Sarthe
DESCRIPTION:Porte Ouverte organisée par le syndicat départemental de la Sarthe au Gaec DGH à partir de 10 heures le 7 juin 2018
URL:https://primholstein.com/evenement/porte-ouverte-dans-la-sarthe-2/
LOCATION:GAEC DGH\, La Gaumerie\, Joué l'Abbé\, 72380\, France
END:VEVENT
BEGIN:VEVENT
DTSTART;VALUE=DATE:20180607
DTEND;VALUE=DATE:20180608
DTSTAMP:20260425T174449
CREATED:20180518T131804Z
LAST-MODIFIED:20180518T131804Z
UID:19199-1528329600-1528415999@primholstein.com
SUMMARY:Assemblée Générale d'Holstiva
DESCRIPTION:matin : réunion statutaire \naprès-midi : visite de l’élevage de Stéphane Gillet à Boisgervilly.
URL:https://primholstein.com/evenement/assemblee-generale-dholstiva/
LOCATION:Stéphane Gillet\, Le Bois Picard\, Boisgervilly\, 35360\, France
END:VEVENT
END:VCALENDAR