BEGIN:VCALENDAR
VERSION:2.0
PRODID:-//Prim&#039;Holstein France - ECPv6.15.20//NONSGML v1.0//EN
CALSCALE:GREGORIAN
METHOD:PUBLISH
X-ORIGINAL-URL:https://primholstein.com
X-WR-CALDESC:Évènements pour Prim&#039;Holstein France
REFRESH-INTERVAL;VALUE=DURATION:PT1H
X-Robots-Tag:noindex
X-PUBLISHED-TTL:PT1H
BEGIN:VTIMEZONE
TZID:Europe/Paris
BEGIN:DAYLIGHT
TZOFFSETFROM:+0100
TZOFFSETTO:+0200
TZNAME:CEST
DTSTART:20170326T010000
END:DAYLIGHT
BEGIN:STANDARD
TZOFFSETFROM:+0200
TZOFFSETTO:+0100
TZNAME:CET
DTSTART:20171029T010000
END:STANDARD
BEGIN:DAYLIGHT
TZOFFSETFROM:+0100
TZOFFSETTO:+0200
TZNAME:CEST
DTSTART:20180325T010000
END:DAYLIGHT
BEGIN:STANDARD
TZOFFSETFROM:+0200
TZOFFSETTO:+0100
TZNAME:CET
DTSTART:20181028T010000
END:STANDARD
BEGIN:DAYLIGHT
TZOFFSETFROM:+0100
TZOFFSETTO:+0200
TZNAME:CEST
DTSTART:20190331T010000
END:DAYLIGHT
BEGIN:STANDARD
TZOFFSETFROM:+0200
TZOFFSETTO:+0100
TZNAME:CET
DTSTART:20191027T010000
END:STANDARD
END:VTIMEZONE
BEGIN:VEVENT
DTSTART;VALUE=DATE:20180214
DTEND;VALUE=DATE:20180216
DTSTAMP:20260425T231740
CREATED:20180124T073736Z
LAST-MODIFIED:20180201T073840Z
UID:18384-1518566400-1518739199@primholstein.com
SUMMARY:Assemblée Générale du syndicat 27
DESCRIPTION:Réunion à 10h30 au Restaurant de la Poste\, 12 rue de Verdun à Damville. \nProgramme : \n\nAssemblée générale statutaire\nPrésentation des évolutions passées et à venir de la Prim’Holstein par Jean Paul METTE\, technicien Prim’Holstein France\n13 h 00 : Déjeuner au Restaurant de la Poste\n14 h 30 : Visite de la SCEA de la Voie Lactée à Corneuil\, 2 rue Jean Moulin
URL:https://primholstein.com/evenement/assemblee-generale-du-syndicat-27-2/
LOCATION:SCEA de la Voie Lactée\, 2 rue Jean Moulin\, Corneuil\, 27240\, France
END:VEVENT
BEGIN:VEVENT
DTSTART;VALUE=DATE:20180215
DTEND;VALUE=DATE:20180216
DTSTAMP:20260425T231740
CREATED:20171215T152622Z
LAST-MODIFIED:20171215T153053Z
UID:18193-1518652800-1518739199@primholstein.com
SUMMARY:Assemblée Générale du syndicat 43
DESCRIPTION:2 visites d’élevage sont organisées dans le Rhône : \n\nle matin : Gaec de la Villonnière sur la commune de Sainte-Catherine (69440)\nl’après-midi : Gaec du Marjon sur la commune de Soucieu-en-Jarrest.
URL:https://primholstein.com/evenement/assemblee-generale-du-syndicat-43/
END:VEVENT
BEGIN:VEVENT
DTSTART;VALUE=DATE:20180215
DTEND;VALUE=DATE:20180216
DTSTAMP:20260425T231740
CREATED:20180124T073608Z
LAST-MODIFIED:20180201T072354Z
UID:18382-1518652800-1518739199@primholstein.com
SUMMARY:Assemblée Générale du syndicat 22
DESCRIPTION:Réunion à 10h30 à la salle des fêtes de GLOMEL \nAprès-midi  : visite de l’élevage GAEC DE KERBLOUZE sur la même commune.
URL:https://primholstein.com/evenement/assemblee-generale-du-syndicat-22/
LOCATION:Glomel\, Glomel\, 22110\, France
END:VEVENT
BEGIN:VEVENT
DTSTART;VALUE=DATE:20180215
DTEND;VALUE=DATE:20180216
DTSTAMP:20260425T231740
CREATED:20180131T080525Z
LAST-MODIFIED:20180131T080525Z
UID:18402-1518652800-1518739199@primholstein.com
SUMMARY:Assemblée Générale du syndicat 53
DESCRIPTION:Réunion à partir de 10 heures à la salle communale d’Origné.
URL:https://primholstein.com/evenement/assemblee-generale-du-syndicat-53/
LOCATION:Origné\, Origné\, 53360\, France
END:VEVENT
END:VCALENDAR