BEGIN:VCALENDAR
VERSION:2.0
PRODID:-//Prim&#039;Holstein France - ECPv6.15.20//NONSGML v1.0//EN
CALSCALE:GREGORIAN
METHOD:PUBLISH
X-ORIGINAL-URL:https://primholstein.com
X-WR-CALDESC:Évènements pour Prim&#039;Holstein France
REFRESH-INTERVAL;VALUE=DURATION:PT1H
X-Robots-Tag:noindex
X-PUBLISHED-TTL:PT1H
BEGIN:VTIMEZONE
TZID:Europe/Paris
BEGIN:DAYLIGHT
TZOFFSETFROM:+0100
TZOFFSETTO:+0200
TZNAME:CEST
DTSTART:20160327T010000
END:DAYLIGHT
BEGIN:STANDARD
TZOFFSETFROM:+0200
TZOFFSETTO:+0100
TZNAME:CET
DTSTART:20161030T010000
END:STANDARD
BEGIN:DAYLIGHT
TZOFFSETFROM:+0100
TZOFFSETTO:+0200
TZNAME:CEST
DTSTART:20170326T010000
END:DAYLIGHT
BEGIN:STANDARD
TZOFFSETFROM:+0200
TZOFFSETTO:+0100
TZNAME:CET
DTSTART:20171029T010000
END:STANDARD
BEGIN:DAYLIGHT
TZOFFSETFROM:+0100
TZOFFSETTO:+0200
TZNAME:CEST
DTSTART:20180325T010000
END:DAYLIGHT
BEGIN:STANDARD
TZOFFSETFROM:+0200
TZOFFSETTO:+0100
TZNAME:CET
DTSTART:20181028T010000
END:STANDARD
END:VTIMEZONE
BEGIN:VEVENT
DTSTART;VALUE=DATE:20171220
DTEND;VALUE=DATE:20171221
DTSTAMP:20260426T020119
CREATED:20171127T073541Z
LAST-MODIFIED:20171127T073541Z
UID:18091-1513728000-1513814399@primholstein.com
SUMMARY:Assemblée générale 2017 du syndicat 42
DESCRIPTION:Matin  \n10h00 :  AG à l’auberge de la sauzé\, 130 La Sauzée\, 42210 Saint-Cyr-les-Vignes \nAprès-midi  \nVisite du Gaec de la Ferme des Délices (séchage en grange\, +200VL\, production de glaces…)
URL:https://primholstein.com/evenement/assemblee-generale-2017-du-syndicat-42/
LOCATION:Auberge de la Sauzée\, 130 La Sauzée\, Saint-Cyr-les-Vignes\, 42210\, France
END:VEVENT
END:VCALENDAR