BEGIN:VCALENDAR
VERSION:2.0
PRODID:-//Prim&#039;Holstein France - ECPv6.15.20//NONSGML v1.0//EN
CALSCALE:GREGORIAN
METHOD:PUBLISH
X-ORIGINAL-URL:https://primholstein.com
X-WR-CALDESC:Évènements pour Prim&#039;Holstein France
REFRESH-INTERVAL;VALUE=DURATION:PT1H
X-Robots-Tag:noindex
X-PUBLISHED-TTL:PT1H
BEGIN:VTIMEZONE
TZID:Europe/Paris
BEGIN:DAYLIGHT
TZOFFSETFROM:+0100
TZOFFSETTO:+0200
TZNAME:CEST
DTSTART:20160327T010000
END:DAYLIGHT
BEGIN:STANDARD
TZOFFSETFROM:+0200
TZOFFSETTO:+0100
TZNAME:CET
DTSTART:20161030T010000
END:STANDARD
BEGIN:DAYLIGHT
TZOFFSETFROM:+0100
TZOFFSETTO:+0200
TZNAME:CEST
DTSTART:20170326T010000
END:DAYLIGHT
BEGIN:STANDARD
TZOFFSETFROM:+0200
TZOFFSETTO:+0100
TZNAME:CET
DTSTART:20171029T010000
END:STANDARD
BEGIN:DAYLIGHT
TZOFFSETFROM:+0100
TZOFFSETTO:+0200
TZNAME:CEST
DTSTART:20180325T010000
END:DAYLIGHT
BEGIN:STANDARD
TZOFFSETFROM:+0200
TZOFFSETTO:+0100
TZNAME:CET
DTSTART:20181028T010000
END:STANDARD
END:VTIMEZONE
BEGIN:VEVENT
DTSTART;VALUE=DATE:20171028
DTEND;VALUE=DATE:20171030
DTSTAMP:20260426T044300
CREATED:20160919T074634Z
LAST-MODIFIED:20170505T151004Z
UID:15316-1509148800-1509321599@primholstein.com
SUMMARY:Show Open Génisses 2017
DESCRIPTION:Le Show Open Génisses se déroulera dans le Jura en 2017. Plus d’informations ultérieurement.
URL:https://primholstein.com/evenement/show-open-genisses-2017/
LOCATION:Dôle\, Dôle\, 39100\, France
END:VEVENT
BEGIN:VEVENT
DTSTART;VALUE=DATE:20171028
DTEND;VALUE=DATE:20171030
DTSTAMP:20260426T044300
CREATED:20170901T120131Z
LAST-MODIFIED:20170925T094036Z
UID:17471-1509148800-1509321599@primholstein.com
SUMMARY:Concours départemental de l'Orne
DESCRIPTION:Le juge du concours sera Edouard Chedeville (14).
URL:https://primholstein.com/evenement/concours-departemental-de-lorne-3/
LOCATION:Alençon\, Alençon\, 61000\, France
END:VEVENT
END:VCALENDAR