BEGIN:VCALENDAR
VERSION:2.0
PRODID:-//Prim&#039;Holstein France - ECPv6.15.20//NONSGML v1.0//EN
CALSCALE:GREGORIAN
METHOD:PUBLISH
X-ORIGINAL-URL:https://primholstein.com
X-WR-CALDESC:Évènements pour Prim&#039;Holstein France
REFRESH-INTERVAL;VALUE=DURATION:PT1H
X-Robots-Tag:noindex
X-PUBLISHED-TTL:PT1H
BEGIN:VTIMEZONE
TZID:Europe/Paris
BEGIN:DAYLIGHT
TZOFFSETFROM:+0100
TZOFFSETTO:+0200
TZNAME:CEST
DTSTART:20160327T010000
END:DAYLIGHT
BEGIN:STANDARD
TZOFFSETFROM:+0200
TZOFFSETTO:+0100
TZNAME:CET
DTSTART:20161030T010000
END:STANDARD
BEGIN:DAYLIGHT
TZOFFSETFROM:+0100
TZOFFSETTO:+0200
TZNAME:CEST
DTSTART:20170326T010000
END:DAYLIGHT
BEGIN:STANDARD
TZOFFSETFROM:+0200
TZOFFSETTO:+0100
TZNAME:CET
DTSTART:20171029T010000
END:STANDARD
BEGIN:DAYLIGHT
TZOFFSETFROM:+0100
TZOFFSETTO:+0200
TZNAME:CEST
DTSTART:20180325T010000
END:DAYLIGHT
BEGIN:STANDARD
TZOFFSETFROM:+0200
TZOFFSETTO:+0100
TZNAME:CET
DTSTART:20181028T010000
END:STANDARD
END:VTIMEZONE
BEGIN:VEVENT
DTSTART;VALUE=DATE:20170923
DTEND;VALUE=DATE:20170924
DTSTAMP:20260426T060930
CREATED:20170614T095136Z
LAST-MODIFIED:20170628T075903Z
UID:17208-1506124800-1506211199@primholstein.com
SUMMARY:Concours départemental de la Dordogne
DESCRIPTION:
URL:https://primholstein.com/evenement/concours-departemental-de-la-dordogne/
LOCATION:Périgueux\, Périgueux\, 24000\, France
END:VEVENT
BEGIN:VEVENT
DTSTART;VALUE=DATE:20170923
DTEND;VALUE=DATE:20170924
DTSTAMP:20260426T060930
CREATED:20170628T074607Z
LAST-MODIFIED:20170628T074607Z
UID:17261-1506124800-1506211199@primholstein.com
SUMMARY:concours départemental 79
DESCRIPTION:Le concours départemental des Deux-Sèvres se déroulera dans le cadre du Festival de l’élevage et de la gastronomie.
URL:https://primholstein.com/evenement/concours-departemental-79/
LOCATION:Parthenay\, Parthenay\, 79200\, France
END:VEVENT
END:VCALENDAR