BEGIN:VCALENDAR
VERSION:2.0
PRODID:-//Prim&#039;Holstein France - ECPv6.15.20//NONSGML v1.0//EN
CALSCALE:GREGORIAN
METHOD:PUBLISH
X-ORIGINAL-URL:https://primholstein.com
X-WR-CALDESC:Évènements pour Prim&#039;Holstein France
REFRESH-INTERVAL;VALUE=DURATION:PT1H
X-Robots-Tag:noindex
X-PUBLISHED-TTL:PT1H
BEGIN:VTIMEZONE
TZID:Europe/Paris
BEGIN:DAYLIGHT
TZOFFSETFROM:+0100
TZOFFSETTO:+0200
TZNAME:CEST
DTSTART:20160327T010000
END:DAYLIGHT
BEGIN:STANDARD
TZOFFSETFROM:+0200
TZOFFSETTO:+0100
TZNAME:CET
DTSTART:20161030T010000
END:STANDARD
BEGIN:DAYLIGHT
TZOFFSETFROM:+0100
TZOFFSETTO:+0200
TZNAME:CEST
DTSTART:20170326T010000
END:DAYLIGHT
BEGIN:STANDARD
TZOFFSETFROM:+0200
TZOFFSETTO:+0100
TZNAME:CET
DTSTART:20171029T010000
END:STANDARD
BEGIN:DAYLIGHT
TZOFFSETFROM:+0100
TZOFFSETTO:+0200
TZNAME:CEST
DTSTART:20180325T010000
END:DAYLIGHT
BEGIN:STANDARD
TZOFFSETFROM:+0200
TZOFFSETTO:+0100
TZNAME:CET
DTSTART:20181028T010000
END:STANDARD
END:VTIMEZONE
BEGIN:VEVENT
DTSTART;VALUE=DATE:20170916
DTEND;VALUE=DATE:20170918
DTSTAMP:20260426T060842
CREATED:20170104T100647Z
LAST-MODIFIED:20170104T100647Z
UID:16076-1505520000-1505692799@primholstein.com
SUMMARY:Concours départemental du 10
DESCRIPTION:
URL:https://primholstein.com/evenement/concours-departemental-du-10/
LOCATION:Brienne-le-Château\, Brienne-le-Château\, 10500\, France
END:VEVENT
BEGIN:VEVENT
DTSTART;VALUE=DATE:20170917
DTEND;VALUE=DATE:20170918
DTSTAMP:20260426T060842
CREATED:20170626T114012Z
LAST-MODIFIED:20170626T114012Z
UID:17256-1505606400-1505692799@primholstein.com
SUMMARY:Concours bi-départemental 09-31
DESCRIPTION:
URL:https://primholstein.com/evenement/concours-bi-departemental-09-31/
LOCATION:Montesquieu-Volvestre\, Montesquieu-Volvestre\, 31310\, France
END:VEVENT
BEGIN:VEVENT
DTSTART;VALUE=DATE:20170917
DTEND;VALUE=DATE:20170918
DTSTAMP:20260426T060842
CREATED:20170912T094801Z
LAST-MODIFIED:20170912T094801Z
UID:17627-1505606400-1505692799@primholstein.com
SUMMARY:Concours départemental du syndicat 59
DESCRIPTION:Dans le cadre de la Fête du lait au Quesnoy\, le concours prim’holstein sera jugé le samedi 17 septembre par Pierre Creppe (Belgique).
URL:https://primholstein.com/evenement/concours-departemental-du-syndicat-59-2/
END:VEVENT
END:VCALENDAR